Workbook

Sheet таб 1
A1: Таблиця 1
A2: МЕРЕЖА БІБЛІОТЕК СИСТЕМИ
A3: МІНІСТЕРСТВА КУЛЬТУРИ УКРАЇНИ
A4: (в абс. цифрах - розріз міська територіальна громада)
A5: № п/п | B5: Назва ТГ | C5: Кількість б-к | H5: З них за юридичними документами | M5: Пункти видачі 2025 | N5: Кількість населених пунктів, де немає жодної з форм бібліотечного обслуговування | O5: Кількість б-к у сільській місцевості | T5: З них за юридичними документами в сільській місцевості
C7: Всього 2024 | D7: Всього 2025 | E7: Зміни у мережі (+/-) | F7: Не працювали у 2025 | G7: Фактично працюючі | H7: ЦБС, ЦБ з структурними підрозділами | I7: Публічні б-ки з структурними підрозділами | J7: Б-ки-філії публічної бібліотеки | K7: Б-ки-філії в структурі центрів | L7: Самостійні б-ки | O7: Всього 2024 | P7: Всього 2025 | Q7: Зміни в мережі (+/-) | R7: Не працювали у 2025 | S7: Фактично працюючі | T7: Б-ки-філії в структурі ЦБС, ЦБ у сільській місцевості | U7: Структурні підрозділи публічних б-к у сільській місцевості | V7: Б-ки-філії в структурі центрів у сільській місцевості | W7: Самостійні б-ки в сільській місцевості
A8: 1 | B8: 2 | C8: 3 | D8: 4 | E8: 5 | F8: 6 | G8: 7 | H8: 8 | I8: 9 | J8: 10 | K8: 11 | L8: 12 | M8: 13 | N8: 14 | O8: 15 | P8: 16 | Q8: 17 | R8: 18 | S8: 19 | T8: 20 | U8: 21 | V8: 22 | W8: 23
A9: 1 | B9: Барська | C9: 26 | D9: 26 | F9: 10 | G9: 16 | I9: 1 | J9: 1 | L9: 14 | M9: 3 | N9: 44 | O9: 24 | P9: 24 | R9: 10 | S9: 14 | W9: 14
A10: 2 | B10: Бершадська | C10: 24 | D10: 24 | G10: 24 | I10: 1 | J10: 23 | O10: 23 | P10: 23 | S10: 23 | U10: 23
A11: 3 | B11: Вінницька | C11: 24 | D11: 24 | F11: 1 | G11: 23 | H11: 1 | J11: 22 | O11: 6 | P11: 6 | S11: 6 | T11: 6
A12: 4 | B12: Гайсинська | C12: 23 | D12: 23 | G12: 23 | H12: 1 | J12: 22 | O12: 21 | P12: 21 | S12: 21 | T12: 21
A13: 5 | B13: Гніванська | C13: 9 | D13: 9 | G13: 9 | I13: 1 | J13: 8 | O13: 7 | P13: 7 | S13: 7 | U13: 7
A14: 6 | B14: Жмеринська | C14: 20 | D14: 20 | G14: 20 | I14: 1 | J14: 19 | O14: 18 | P14: 18 | S14: 18 | U14: 18
A15: 7 | B15: Іллінецька | C15: 15 | D15: 15 | G15: 15 | I15: 1 | J15: 14 | N15: 16 | O15: 13 | P15: 13 | S15: 13 | U15: 13
A16: 8 | B16: Калинівська | C16: 29 | D16: 29 | F16: 1 | G16: 28 | I16: 1 | J16: 27 | N16: 19 | O16: 27 | P16: 27 | R16: 1 | S16: 27 | U16: 27
A17: 9 | B17: Козятинська | C17: 7 | D17: 7 | G17: 7 | I17: 1 | J17: 6 | O17: 5 | P17: 5 | S17: 5 | U17: 5
A18: 10 | B18: Ладижинська | C18: 3 | D18: 3 | G18: 3 | I18: 1 | J18: 2 | L18: 2 | O18: 2 | P18: 2 | S18: 2 | W18: 2
A19: 11 | B19: Липовецька | C19: 19 | D19: 19 | F19: 1 | G19: 18 | I19: 1 | J19: 17 | N19: 16 | O19: 18 | P19: 18 | R19: 1 | S19: 17 | U19: 17
A20: 12 | B20: Могилів-Поділ. | C20: 20 | D20: 20 | F20: 9 | G20: 11 | I20: 1 | J20: 10 | M20: 1 | N20: 4 | O20: 17 | P20: 17 | R20: 8 | S20: 9 | U20: 9
A21: 25 | B21: Немирівська | C21: 26 | D21: 26 | F21: 3 | G21: 23 | I21: 1 | J21: 22 | N21: 27 | O21: 25 | P21: 25 | R21: 3 | S21: 22 | U21: 22
A22: 14 | B22: Погребищенська | C22: 34 | D22: 25 | E22: -9 | F22: 9 | G22: 25 | I22: 1 | J22: 24 | N22: 18 | O22: 32 | P22: 23 | Q22: -9 | R22: 9 | S22: 23 | U22: 23
A23: 15 | B23: Тульчинська | C23: 27 | D23: 27 | F23: 4 | G23: 23 | I23: 1 | J23: 22 | M23: 1 | N23: 10 | O23: 25 | P23: 24 | R23: 2 | S23: 22 | U23: 22
A24: 16 | B24: Хмільницька | C24: 19 | D24: 19 | G24: 19 | I24: 1 | J24: 18 | M24: 2 | N24: 24 | O24: 18 | P24: 18 | S24: 18 | U24: 18
A25: 17 | B25: Шаргородська | C25: 18 | D25: 18 | F25: 1 | G25: 17 | I25: 1 | J25: 16 | O25: 14 | P25: 14 | S25: 14 | U25: 14
A26: 18 | B26: Ямпільська | C26: 22 | D26: 22 | F26: 1 | G26: 21 | I26: 1 | J26: 20 | N26: 19 | O26: 20 | P26: 20 | R26: 1 | S26: 19 | U26: 19
B27: Всього | C27: =SUM(C9:C26) -> 365 | D27: =SUM(D9:D26) -> 356 | E27: =SUM(E9:E26) -> -9 | F27: =SUM(F9:F26) -> 40 | G27: =SUM(G9:G26) -> 325 | H27: =SUM(H9:H26) -> 2 | I27: =SUM(I9:I26) -> 16 | J27: =SUM(J9:J26) -> 293 | L27: =SUM(L9:L26) -> 16 | M27: =SUM(M9:M26) -> 7 | N27: =SUM(N9:N26) -> 197 | O27: =SUM(O9:O26) -> 315 | P27: =SUM(P9:P26) -> 305 | Q27: =SUM(Q9:Q26) -> -9 | R27: =SUM(R9:R26) -> 35 | S27: =SUM(S9:S26) -> 280 | ... W27: =SUM(W9:W26) -> 16
A28: 19 | B28: Обласні бібліотеки | C28: 2 | D28: 2 | G28: 2
B29: Всього | C29: =SUM(C27:C28) -> 367 | D29: =SUM(D27:D28) -> 358 | E29: =SUM(E27:E28) -> -9 | F29: =SUM(F27:F28) -> 40 | G29: =SUM(G27:G28) -> 327 | H29: =SUM(H27:H28) -> 2 | I29: =SUM(I27:I28) -> 16 | J29: =SUM(J27:J28) -> 293 | L29: =SUM(L27:L28) -> 16 | M29: =SUM(M27:M28) -> 7 | N29: =SUM(N27:N28) -> 197 | O29: =SUM(O27:O28) -> 315 | P29: =SUM(P27:P28) -> 305 | Q29: =SUM(Q27:Q28) -> -9 | R29: =SUM(R27:R28) -> 35 | S29: =SUM(S27:S28) -> 280 | ... W29: =SUM(W27:W28) -> 16

Sheet таб 1а
A1: Таблиця 1
A2: МЕРЕЖА БІБЛІОТЕК СИСТЕМИ
A3: МІНІСТЕРСТВА КУЛЬТУРИ УКРАЇНИ
A4: (в абс. цифрах - розріз селищна територіальна громада)
A5: № п/п | B5: Назва ТГ | C5: Кількість б-к | H5: З них за юридичними документами | M5: Пункти видачі 2025 | N5: Кількість населених пунктів, де немає жодної з форм бібліотечного обслуговування
C7: Всього 2024 | D7: Всього 2025 | E7: Зміни у мережі (+/-) | F7: Не працювали у 2025 | G7: Фактично працюючі | H7: ЦБС, ЦБ з структурними підрозділами | I7: Публічні б-ки з структурними підрозділами | J7: Б-ки-філії публічних б-к | K7: Б-ки-філії в структурі центрів | L7: Самостійні б-ки
A8: 1 | B8: 2 | C8: 3 | D8: 4 | E8: 5 | F8: 6 | G8: 7 | H8: 8 | I8: 9 | J8: 10 | K8: 11 | L8: 12 | M8: 13 | N8: 14
A9: 1 | B9: Брацлавська | C9: 9 | D9: 9 | G9: 9 | I9: 1 | J9: 8 | N9: 10
A10: 2 | B10: Вапнярська | C10: 6 | D10: 6 | F10: 1 | G10: 5 | I10: 1 | J10: 4
A11: 3 | B11: Вендичанська | C11: 11 | D11: 11 | G11: 11 | I11: 1 | J11: 10 | N11: 14
A12: 4 | B12: Вороновицька | C12: 12 | D12: 12 | F12: 4 | G12: 8 | I12: 1 | J12: 7
A13: 5 | B13: Глуховецька | C13: 10 | D13: 10 | G13: 10 | I13: 1 | J13: 9
A14: 6 | B14: Дашівська | C14: 13 | D14: 13 | F14: 3 | G14: 10 | I14: 1 | J14: 9 | N14: 9
A15: 7 | B15: Копайгородська | C15: 12 | D15: 12 | F15: 6 | G15: 6 | L15: 6
A16: 8 | B16: Крижопільська | C16: 16 | D16: 16 | G16: 16 | I16: 1 | J16: 15
A17: 9 | B17: Літинська | C17: 20 | D17: 20 | F17: 4 | G17: 16 | I17: 1 | J17: 15 | N17: 11
A18: 10 | B18: Мурованокуриловецька | C18: 18 | D18: 18 | G18: 18 | I18: 1 | J18: 17 | M18: 6
A19: 11 | B19: Оратівська | C19: 26 | D19: 26 | F19: 8 | G19: 18 | I19: 1 | J19: 17
A20: 12 | B20: Піщанська | C20: 12 | D20: 12 | G20: 12 | I20: 1 | J20: 11
A21: 13 | B21: Стрижавська | C21: 8 | D21: 8 | F21: 2 | G21: 6 | K21: 6 | N21: 4
A22: 14 | B22: Сутисківська | C22: 2 | D22: 2 | G22: 2 | K22: 2
A23: 15 | B23: Теплицька | C23: 19 | D23: 19 | G23: 19 | K23: 19
A24: 16 | B24: Тиврівська | C24: 8 | D24: 8 | G24: 8 | K24: 8 | N24: 19
A25: 17 | B25: Томашпільська | C25: 22 | D25: 23 | F25: 1 | G25: 22 | I25: 1 | J25: 21
A26: 18 | B26: Тростянецька | C26: 14 | D26: 14 | G26: 14 | I26: 1 | J26: 13 | M26: 8 | N26: 5
A27: 19 | B27: Турбівська | C27: 15 | D27: 15 | F27: 1 | G27: 14 | K27: 14
A28: 20 | B28: Чернівецька | C28: 11 | D28: 11 | F28: 3 | G28: 8 | I28: 1 | J28: 7 | N28: 22
A29: 21 | B29: Чечельницька | C29: 12 | D29: 12 | F29: 3 | G29: 9 | I29: 1 | J29: 8 | N29: 5
A30: 22 | B30: Шпиківська | C30: 14 | D30: 14 | G30: 14 | I30: 1 | J30: 13 | M30: 2 | N30: 13
B31: Всього | C31: =SUM(C9:C30) -> 290 | D31: =SUM(D9:D30) -> 291 | E31: =SUM(E9:E30) -> 0 | F31: =SUM(F9:F30) -> 36 | G31: =SUM(G9:G30) -> 255 | I31: =SUM(I9:I30) -> 16 | J31: =SUM(J9:J30) -> 184 | K31: =SUM(K9:K30) -> 49 | L31: 6 | M31: =SUM(M9:M30) -> 16 | N31: =SUM(N9:N30) -> 112

Sheet таб 1б 
A1: Таблиця 1
A2: МЕРЕЖА БІБЛІОТЕК СИСТЕМИ
A3: МІНІСТЕРСТВА КУЛЬТУРИ ТА ІНФОРМАЦІЙНОЇ ПОЛІТИКИ УКРАЇНИ
A4: (в абс. цифрах - розріз сільська територіальна громада)
A5: № п/п | B5: Назва ТГ | C5: Кількість б-к | H5: З них за юридичними документами | M5: Пункти видачі 2025 | N5: Кількість населених пунктів, де немає жодної з форм бібліотечного обслуговування
C7: Всього 2024 | D7: Всього 2025 | E7: Зміни у мережі (+/-) | F7: Не працювали у 2025 | G7: Фактично працюючі | H7: ЦБС, центральні б-ки з структурними підрозділами | I7: Публічні б-ки з структурними підрозділами | J7: Б-ка-філія публічної бібліотеки | K7: Б-ки-філії в структурі центрів | L7: Самостійні б-ки
A8: 1 | B8: 2 | C8: 3 | D8: 4 | E8: 5 | F8: 6 | G8: 7 | H8: 8 | I8: 9 | J8: 10 | K8: 11 | L8: 12 | M8: 13 | N8: 14
A9: 1 | B9: Агрономічна | C9: 4 | D9: 4 | G9: 4 | K9: 4
A10: 2 | B10: Бабчинецька | C10: 7 | D10: 7 | F10: 2 | G10: 5 | I10: 1 | J10: 4 | N10: 7
A11: 3 | B11: Війтівецька | C11: 4 | D11: 4 | G11: 4 | I11: 1 | J11: 3
A12: 4 | B12: Городківська | C12: 9 | D12: 9 | F12: 1 | G12: 8 | I12: 1 | J12: 7 | M12: 2
A13: 5 | B13: Джулинська | C13: 13 | D13: 13 | G13: 13 | I13: 1 | J13: 12 | N13: 3
A14: 6 | B14: Джуринська | C14: 12 | D14: 12 | F14: 2 | G14: 10 | I14: 1 | J14: 9 | N14: 2
A15: 7 | B15: Іванівська | C15: 12 | D15: 12 | G15: 12 | I15: 1 | J15: 11 | N15: 3
A16: 8 | B16: Краснопільська | C16: 8 | D16: 8 | F16: 1 | G16: 7 | I16: 1 | J16: 6
A17: 9 | B17: Кунківська | C17: 6 | D17: 6 | G17: 6 | I17: 1 | J17: 5 | N17: 5
A18: 10 | B18: Лука-Мелешківська | C18: 4 | D18: 4 | G18: 4 | L18: 4 | N18: 9
A19: 11 | B19: Махнівська | C19: 9 | D19: 9 | G19: 9 | I19: 1 | J19: 8 | N19: 12
A20: 12 | B20: Мурафська | C20: 7 | D20: 7 | G20: 7 | I20: 1 | J20: 6
A21: 13 | B21: Ободівська | C21: 9 | D21: 9 | F21: 3 | G21: 6 | I21: 1 | J21: 5 | N21: 3
A22: 6 | B22: Ольгопільська | C22: 5 | D22: 5 | F22: 2 | G22: 3 | I22: 1 | J22: 2
A23: 15 | B23: Райгородська | C23: 10 | D23: 10 | G23: 10 | I23: 1 | J23: 9 | N23: 10
A24: 16 | B24: Самгородоцька | C24: 10 | D24: 10 | G24: 10 | I24: 1 | J24: 9 | N24: 10
A25: 17 | B25: Северинівська | C25: 9 | D25: 9 | F25: 5 | G25: 4 | K25: 4
A26: 18 | B26: Соболівська | C26: 9 | D26: 9 | G26: 9 | I26: 1 | J26: 8
A27: 19 | B27: Станіславчицька | C27: 10 | D27: 10 | F27: 4 | G27: 6 | K27: 6
A28: 20 | B28: Студенянська | C28: 6 | D28: 6 | G28: 6 | I28: 1 | J28: 5
A29: 21 | B29: Уланівська | C29: 20 | D29: 20 | F29: 1 | G29: 19 | I29: 1 | J29: 18 | M29: 5 | N29: 11
A30: 22 | B30: Якушинецька | C30: 9 | D30: 9 | G30: 9 | I30: 1 | J30: 8
A31: 23 | B31: Яришівська | C31: 10 | D31: 10 | F31: 1 | G31: 9 | L31: 9
B32: Всього | C32: =SUM(C9:C31) -> 202 | D32: =SUM(D9:D31) -> 202 | F32: =SUM(F9:F31) -> 22 | G32: =SUM(G9:G31) -> 180 | I32: =SUM(I9:I31) -> 18 | J32: =SUM(J9:J31) -> 135 | K32: 14 | L32: 13 | M32: =SUM(M9:M31) -> 7 | N32: =SUM(N9:N31) -> 75

Sheet таб 2 
A1: Таблиця 2
A2: СПЕЦІАЛІЗОВАНА МЕРЕЖА БІБЛІОТЕЧНОГО ОБСЛУГОВУВАННЯ ДІТЕЙ
A3: (розріз міська територіальна громада)
A4: № п/п | B4: Назва ТГ | C4: Дитячі б-ки | D4: Відділ, сектор | E4: Абонемент
A7: 1 | B7: 2 | C7: 3 | D7: 4 | E7: 5
A8: 1 | B8: Барська | C8: 1
A9: 2 | B9: Бершадська | D9: 1
A10: 3 | B10: Вінницька | C10: 1 | D10: 2 | E10: 21
A11: 4 | B11: Гайсинська | C11: 1
A12: 5 | B12: Гніванська
A13: 6 | B13: Жмеринська | C13: 1 | D13: 1
A14: 7 | B14: Іллінецька | C14: 1
A15: 8 | B15: Калинівська | C15: 2
A16: 9 | B16: Козятинська | C16: 1
A17: 10 | B17: Ладижинська | D17: 1
A18: 11 | B18: Липовецька | D18: 1
A19: 12 | B19: Могилів-Подільська
A20: 13 | B20: Немирівська | D20: 1
A21: 14 | B21: Погребищенська | C21: 1
A22: 15 | B22: Тульчинська | E22: 1
A23: 16 | B23: Хмільницька | D23: 1
A24: 17 | B24: Шаргородська | C24: 1
A25: 18 | B25: Ямпільська | C25: 1
B26: Всього | C26: =SUM(C8:C25) -> 11 | D26: =SUM(D8:D25) -> 8 | E26: =SUM(E8:E25) -> 22
A27: 19 | B27: Обласні бібліотеки | C27: 1
B28: Всього | C28: =SUM(C26:C27) -> 12 | D28: =SUM(D26:D27) -> 8 | E28: =SUM(E26:E27) -> 22

Sheet таб 2а
A1: Продовження таблиці 2
A2: СПЕЦІАЛІЗОВАНА МЕРЕЖА БІБЛІОТЕЧНОГО ОБСЛУГОВУВАННЯ ДІТЕЙ
A3: (розріз селищна територіальна громада)
A4: № п/п | B4: Назва ТГ | C4: Дитячі б-ки | D4: Відділ, сектор | E4: Абонемент
A7: 1 | B7: 2 | C7: 3 | D7: 4 | E7: 5
A8: 1 | B8: Брацлавська | D8: 1
A9: 2 | B9: Вапнярська | D9: 1
A10: 3 | B10: Вендичанська
A11: 4 | B11: Вороновицька | E11: 1
A12: 5 | B12: Глуховецька | E12: 1
A13: 6 | B13: Джурнська | C13: 1
A14: 7 | B14: Дашівська
A15: 8 | B15: Копайгородська
A16: 9 | B16: Крижопільська | C16: 1
A17: 10 | B17: Літинська | D17: 1
A18: 11 | B18: Мурованокуриловецька | D18: 1
A19: 12 | B19: Оратівська | D19: 1
A20: 13 | B20: Піщанська | C20: 1
A21: 14 | B21: Стрижавська
A22: 15 | B22: Сутисківська
A23: 16 | B23: Теплицька | C23: 1
A24: 17 | B24: Тиврівська | E24: 1
A25: 18 | B25: Томашпільська | C25: 1
A26: 19 | B26: Тростянецька | D26: 1
A27: 20 | B27: Турбівська | C27: 1
A28: 21 | B28: Чернівецька | C28: 1
A29: 22 | B29: Чечельницька | D29: 1
A30: 23 | B30: Шпиківська
B31: Всього | C31: =SUM(C8:C30) -> 7 | D31: =SUM(D8:D30) -> 7 | E31: =SUM(E8:E30) -> 3

Sheet таб 2б
A1: Прлодовження таблиці 2
A2: СТРУКТУРНІ ПІДРОЗДІЛИ З ОБСЛУГОВУВАННЯ ЮНАЦТВА
A4: (розріз міська територіальна громада)
A5: № п/п | B5: Назва ТГ | C5: Відділи | D5: Сектори | E5: Кафедри | F5: В сільській місцевості
F6: Відділи | G6: Сектори | H6: Кафедри
C7: 2025 | D7: 2025 | E7: 2025 | F7: 2025 | G7: 2025 | H7: 2025
A8: 1 | B8: 2 | C8: 3 | D8: 4 | E8: 5 | F8: 6 | G8: 7 | H8: 8
A9: 1 | B9: Барська | D9: 1
A10: 2 | B10: Бершадська | D10: 1
A11: 3 | B11: Вінницька | D11: 22
A12: 4 | B12: Гайсинська | C12: 1
A13: 5 | B13: Гніванська | C13: 1
A14: 6 | B14: Жмеринська
A15: 7 | B15: Іллінецька
A16: 8 | B16: Калинівська | D16: 1
A17: 9 | B17: Козятинська | E17: 1
A18: 10 | B18: Ладижинська
A19: 11 | B19: Липовецька | E19: 1
A20: 12 | B20: Могилів-Подільська
A21: 13 | B21: Немирівська | E21: 1
A22: 14 | B22: Погребищенська | E22: 1
A23: 15 | B23: Тульчинська | D23: 1
A24: 16 | B24: Хмільницька | D24: 1
A25: 17 | B25: Шаргородська | E25: 1
A26: 18 | B26: Ямпільська | E26: 1
B27: Всього | C27: =SUM(C9:C26) -> 2 | D27: =SUM(D9:D26) -> 27 | E27: =SUM(E9:E26) -> 6 | F27: =SUM(F9:F26) -> 0 | G27: =SUM(G9:G26) -> 0 | H27: =SUM(H9:H26) -> 0
A28: 19 | B28: ВОУНБ ім. В. Отамановського
A29: 20 | B29: ВОБДіЮ ім. І. Франка
B30: Всього | C30: =SUM(C27:C29) -> 2 | D30: =SUM(D27:D29) -> 27 | E30: =SUM(E27:E29) -> 6 | F30: =SUM(F27:F29) -> 0 | G30: =SUM(G27:G29) -> 0 | H30: =SUM(H27:H29) -> 0

Sheet таб 2в
A1: Продовження таблиці 2
A2: СТРУКТУРНІ ПІДРОЗДІЛИ З ОБСЛУГОВУВАННЯ ЮНАЦТВА
A4: (розріз селищна територіальна громада)
A5: № п/п | B5: Назва ТГ | C5: Відділи | D5: Сектори | E5: Кафедри | F5: В сільській місцевості
F6: Відділи | G6: Сектори | H6: Кафедри
C7: 2025 | D7: 2025 | E7: 2025 | F7: 2025 | G7: 2025 | H7: 2025
A8: 1 | B8: 2 | C8: 3 | D8: 4 | E8: 5 | F8: 6 | G8: 7 | H8: 8
A9: 1 | B9: Брацлавська
A10: 2 | B10: Вапнярська
A11: 3 | B11: Вендичанська | E11: 1
A12: 4 | B12: Вороновицька
A13: 5 | B13: Глуховецька
A14: 6 | B14: Дашівська
A15: 7 | B15: Копайгородська
A16: 8 | B16: Крижопільська | E16: 1
A17: 9 | B17: Літинська | E17: 1
A18: 10 | B18: Мурованокуриловецька
A19: 11 | B19: Оратівська
A20: 12 | B20: Піщанська | E20: 1
A21: 13 | B21: Стрижавська
A22: 14 | B22: Сутисківська
A23: 15 | B23: Теплицька | E23: 1
A24: 16 | B24: Тиврівська
A25: 17 | B25: Томашпільська
A26: 18 | B26: Тростянецька | E26: 1
A27: 19 | B27: Турбівська
A28: 20 | B28: Чернівецька
A29: 21 | B29: Чечельницька
A30: 22 | B30: Шпиківська
B31: Всього | C31: =SUM(C9:C30) -> 0 | D31: =SUM(D9:D30) -> 0 | E31: =SUM(E9:E30) -> 6 | F31: =SUM(F9:F30) -> 0 | G31: =SUM(G9:G30) -> 0 | H31: =SUM(H9:H30) -> 0

Sheet таб 3
A1: Таблиця 3
A2: ТРИВАЛІСТЬ РОБОТИ БІБЛІОТЕК (розріз міська територіальна громада)
A3: № п/п | B3: Назва ТГ | C3: Кількість б-к всього (діючі) | D3: Тривалість робочого тижня б-к | P3: Кількість б-к у сільській місцевості (діючі) | Q3: Тривалість робочого тижня б-к у сільській місцевості
D4: Більше 40 годин | E4: % | F4: 40 годин | G4: % | H4: Від 20 до 40 годин | I4: % | J4: Від 16 до 20 годин | K4: % | L4: Менше 16 годин | M4: % | N4: У тому числі у суботу та/або неділю | O4: % | Q4: Бльше 40 годин | R4: % | S4: 40 годин | T4: % | U4: Від 20 до 40 годин | V4: % | W4: Від 16 до 20 годин | X4: % | Y4: Менше 16 годин | Z4: % | AA4: У тому числі у суботу та/або неділю | AB4: %
A5: 1 | B5: 2 | C5: 3 | D5: 4 | E5: 5 | F5: 6 | G5: 7 | H5: 8 | I5: 9 | J5: 10 | K5: 11 | L5: 12 | M5: 13 | N5: 14 | O5: 15 | P5: 16 | Q5: 17 | R5: 18 | S5: 19 | T5: 20 | U5: 21 | V5: 22 | W5: 23 | X5: 24 | Y5: 25 | Z5: 26 | AA5: 27 | AB5: 28
A6: 1 | B6: Барська | C6: 16 | D6: 2 | E6: 12 | F6: 3 | G6: 19 | H6: 2 | I6: 12 | J6: 9 | K6: 57 | N6: 16 | O6: 100 | P6: 14 | S6: 3 | T6: 21 | U6: 2 | V6: 14 | W6: 9 | X6: 65 | AA6: 14 | AB6: 100
A7: 2 | B7: Бершадська | C7: 24 | D7: 1 | E7: 4 | F7: 13 | G7: 54 | H7: 3 | I7: 13 | J7: 6 | K7: 25 | L7: 1 | M7: 4 | N7: 20 | O7: 0.83 | P7: 23 | S7: 13 | T7: 57 | U7: 3 | V7: 13 | W7: 6 | X7: 26 | Y7: 1 | Z7: 4 | AA7: 19 | AB7: 83
A8: 3 | B8: Вінницька | C8: 23 | D8: 15 | E8: 65 | F8: 8 | G8: 35 | N8: 17 | O8: 74 | P8: 6 | Q8: 1 | R8: 17 | S8: 5 | T8: 83 | AA8: 1 | AB8: 17
A9: 4 | B9: Гайсинська | C9: 23 | D9: 2 | E9: 9 | F9: 18 | G9: 78 | H9: 3 | I9: 13 | N9: 23 | O9: 100 | P9: 21 | S9: 18 | T9: 86 | U9: 3 | V9: 14 | AA9: 21 | AB9: 100
A10: 5 | B10: Гніванська | C10: 7 | F10: 6 | G10: 86 | H10: 1 | I10: 14 | P10: 7 | S10: 4 | T10: 57 | U10: 1 | V10: 14 | W10: 2 | X10: 29
A11: 6 | B11: Жмеринська | C11: 20 | D11: 1 | E11: 5 | F11: 2 | G11: 10 | H11: 16 | I11: 80 | L11: 1 | M11: 5 | N11: 18 | O11: 90 | P11: 18 | S11: 1 | T11: 5.5 | U11: 16 | V11: 89 | Y11: 1 | Z11: 5.5 | AA11: 16 | AB11: 89
A12: 7 | B12: Іллінецька | C12: 15 | D12: 2 | E12: 13 | F12: 6 | G12: 40 | H12: 7 | I12: 47 | P12: 13 | S12: 6 | T12: 46 | U12: 7 | V12: 54
A13: 8 | B13: Калинівська | C13: 28 | F13: 19 | G13: 68 | H13: 1 | I13: 3.57 | J13: 8 | K13: 29 | P13: 27 | S13: 18 | T13: 67 | U13: 1 | V13: 4 | W13: 8 | X13: 31
A14: 9 | B14: Козятинська | C14: 7 | F14: 4 | G14: 57 | H14: 3 | I14: 43 | N14: 6 | P14: 5 | S14: 2 | T14: 40 | U14: 3 | V14: 60 | AA14: 4
A15: 10 | B15: Ладижинська | C15: 3 | D15: 1 | E15: 33 | F15: 2 | G15: 67 | N15: 1 | O15: 33 | P15: 2 | S15: 2 | T15: 100
A16: 11 | B16: Липовецька | C16: 18 | D16: 1 | E16: 6 | F16: 1 | G16: 6 | J16: 11 | K16: 61 | L16: 5 | M16: 28 | N16: 1 | O16: 6 | P16: 17 | S16: 1 | T16: 6 | W16: 11 | X16: 65 | Y16: 5 | Z16: 29
A17: 12 | B17: Могилів-Подільська | C17: 11 | F17: 4 | G17: 36 | H17: 4 | I17: 36 | J17: 2 | K17: 18 | L17: 1 | M17: 9 | P17: 9 | S17: 2 | T17: 22 | U17: 3 | V17: 33 | W17: 3 | X17: 33 | Y17: 1 | Z17: 11
A18: 13 | B18: Немирівська | C18: 23 | D18: 1 | E18: 4 | F18: 6 | G18: 26 | H18: 10 | I18: 44 | J18: 6 | K18: 26 | P18: 22 | S18: 6 | T18: 27 | U18: 10 | V18: 45 | W18: 6 | X18: 27
A19: 14 | B19: Погребищенська | C19: 25 | D19: 2 | E19: 8 | F19: 3 | G19: 12 | H19: 20 | I19: 80 | N19: 24 | O19: 96 | P19: 23 | S19: 3 | T19: 13 | U19: 20 | V19: 87 | AA19: 22 | AB19: 99
A20: 15 | B20: Тульчинська | C20: 23 | D20: 1 | E20: 4 | H20: 22 | I20: 96 | P20: 22 | U20: 22 | V20: 100
A21: 16 | B21: Хмільницька | C21: 19 | F21: 19 | G21: 100 | N21: 19 | O21: 100 | P21: 18 | S21: 18 | T21: 100 | AA21: 18
A22: 17 | B22: Шаргородська | C22: 17 | D22: 2 | E22: 11.8 | F22: 11 | G22: 64.7 | H22: 3 | I22: 17.6 | L22: 1 | M22: 6 | N22: 2 | O22: 11.8 | P22: 14 | S22: 11 | T22: 78.6 | U22: 3 | V22: 21 | AA22: 14 | AB22: 100
A23: 18 | B23: Ямпільська | C23: 21 | D23: 1 | E23: 5 | F23: 6 | G23: 29 | H23: 6 | I23: 29 | J23: 7 | K23: 33 | L23: 1 | M23: 5 | N23: 19 | O23: 91 | P23: 19 | S23: 5 | T23: 26 | U23: 6 | V23: 32 | W23: 7 | X23: 37 | Y23: 1 | Z23: 5 | AA23: 19 | AB23: 100
A24: 19 | B24: Обл. бібліотеки | C24: 2 | D24: 2 | E24: 100 | N24: 2 | O24: 100
B25: Вього | C25: =SUM(C6:C24) -> 325 | D25: =SUM(D6:D24) -> 34 | E25: 10 | F25: =SUM(F6:F24) -> 131 | G25: 40 | H25: =SUM(H6:H24) -> 101 | I25: 31 | J25: =SUM(J6:J24) -> 49 | K25: 15 | L25: =SUM(L6:L24) -> 10 | M25: 3 | N25: =SUM(N6:N24) -> 168 | O25: 52 | P25: =SUM(P6:P24) -> 280 | Q25: 1 | R25: 0.4 | S25: =SUM(S6:S24) -> 118 | T25: 42 | U25: =SUM(U6:U24) -> 100 | V25: 36 | W25: =SUM(W6:W24) -> 52 | X25: 19 | Y25: =SUM(Y6:Y24) -> 9 | Z25: 3 | AA25: =SUM(AA6:AA24) -> 148 | AB25: 53

Sheet таб 3а
A1: Продовження таблиці 3
A2: ТРИВАЛІСТЬ РОБОТИ БІБЛІОТЕК (розріз селищна територіальна громада)
A3: № п/п | B3: Назва ТГ | C3: Кількість б-к всього (діючі) | D3: Тривалість робочого тижня б-к
D4: Більше 40 годин | E4: % | F4: 40 годин | G4: % | H4: Від 20 до 40 годин | I4: % | J4: Від 16 до 20 годин | K4: % | L4: Менше 16 годин | M4: % | N4: У тому числі у суботу та/або неділю | O4: %
A5: 1 | B5: 2 | C5: 3 | D5: 4 | E5: 5 | F5: 6 | G5: 7 | H5: 8 | I5: 9 | J5: 10 | K5: 11 | L5: 12 | M5: 13 | N5: 14 | O5: 15
A6: 1 | B6: Брацлавська | C6: 9 | F6: 2 | G6: 22 | H6: 3 | I6: 33 | J6: 4 | K6: 44 | N6: 6 | O6: 67
A7: 2 | B7: Вапнярська | C7: 5 | F7: 2 | G7: 100 | J7: 3 | K7: 50
A8: 3 | B8: Вендичанська | C8: 11 | F8: 2 | G8: 18 | J8: 9 | K8: 82
A9: 4 | B9: Вороновицька | C9: 8 | D9: 1 | E9: 13 | F9: 2 | G9: 25 | H9: 2 | I9: 25 | J9: 2 | K9: 25 | L9: 1 | M9: 13 | N9: 1 | O9: 12.5
A10: 5 | B10: Глуховецька | C10: 10 | F10: 5 | G10: 50 | H10: 5 | I10: 50 | N10: 7 | O10: 70
A11: 6 | B11: Дашівська | C11: 10 | D11: 1 | E11: 10 | H11: 1 | I11: 10 | J11: 5 | K11: 50 | L11: 3 | M11: 30 | N11: 10 | O11: 100
A12: 7 | B12: Копайгородська | C12: 6 | F12: 3 | G12: 50 | H12: 1 | I12: 17 | J12: 1 | K12: 17 | L12: 1 | M12: 17
A13: 8 | B13: Крижопільська | C13: 16 | D13: 2 | E13: 13 | H13: 12 | I13: 75 | L13: 2 | M13: 13 | N13: 16 | O13: 100
A14: 9 | B14: Літинська | C14: 16 | D14: 1 | E14: 6 | F14: 5 | G14: 31 | H14: 10 | I14: 63 | N14: 7 | O14: 44
A15: 10 | B15: Мурованокуриловецька | C15: 18 | D15: 1 | E15: 6 | F15: 7 | G15: 39 | H15: 10 | I15: 56 | N15: 18 | O15: 100
A16: 11 | B16: Оратівська | C16: 18 | F16: 1 | G16: 6 | H16: 17 | I16: 94 | N16: 17 | O16: 94
A17: 12 | B17: Піщанська | C17: 12 | F17: 6 | G17: 50 | J17: 2 | K17: 17 | L17: 4 | M17: 33 | N17: 10 | O17: 83.3
A18: 13 | B18: Стрижавська | C18: 6 | F18: 5 | G18: 83 | H18: 1 | I18: 17 | N18: 1 | O18: 17
A19: 14 | B19: Сутисківська | C19: 2 | F19: 1 | G19: 50 | H19: 1 | I19: 50 | N19: 2 | O19: 100
A20: 15 | B20: Теплицька | C20: 19 | F20: 3 | G20: 15 | H20: 2 | I20: 11 | J20: 6 | K20: 32 | L20: 8 | M20: 42 | N20: 17 | O20: 89
A21: 16 | B21: Тиврівська | C21: 8 | F21: 3 | G21: 38 | H21: 5 | I21: 62
A22: 17 | B22: Томашпільська | C22: 22 | F22: 10 | G22: 45 | H22: 4 | I22: 18 | J22: 6 | K22: 27 | L22: 2 | M22: 9
A23: 18 | B23: Тростянецька | C23: 14 | D23: 1 | E23: 7.1 | F23: 6 | G23: 43 | H23: 7 | I23: 50 | N23: 1 | O23: 7
A24: 19 | B24: Турбівська | C24: 14 | F24: 3 | G24: 21 | H24: 9 | I24: 65 | L24: 2 | M24: 14
A25: 20 | B25: Чернівецька | C25: 8 | F25: 8 | G25: 100 | N25: 8 | O25: 100
A26: 21 | B26: Чечельницька | C26: 9 | D26: 1 | E26: 11 | H26: 7 | I26: 77 | J26: 1 | K26: 11 | N26: 7 | O26: 77
A27: 22 | B27: Шпиківська | C27: 14 | F27: 5 | G27: 36 | H27: 5 | I27: 36 | J27: 4 | K27: 29 | N27: 14 | O27: 100
B28: Всього | C28: =SUM(C6:C27) -> 255 | D28: =SUM(D6:D27) -> 8 | E28: 3 | F28: =SUM(F6:F27) -> 79 | G28: 31 | H28: =SUM(H6:H27) -> 102 | I28: 40 | J28: =SUM(J6:J27) -> 43 | K28: 17 | L28: =SUM(L6:L27) -> 23 | M28: 9 | N28: =SUM(N6:N27) -> 142 | O28: 56

Sheet таб 3б
A1: Продовження таблиці 3
A2: ТРИВАЛІСТЬ РОБОТИ БІБЛІОТЕК (розріз сільська територіальна громада)
A3: № п/п | B3: Назва ТГ | C3: Кількість б-к всього (діючі) | D3: Тривалість робочого тижня б-к
D4: Більше 40 годин | E4: % | F4: 40 годин | G4: % | H4: Від 20 до 40 годин | I4: % | J4: Від 16 до 20 годин | K4: % | L4: Менше 16 годин | M4: % | N4: У тому числі у суботу та/або неділю | O4: %
A5: 1 | B5: 2 | C5: 3 | D5: 4 | E5: 5 | F5: 6 | G5: 7 | H5: 8 | I5: 9 | J5: 10 | K5: 11 | L5: 12 | M5: 13 | N5: 14 | O5: 15
A6: 1 | B6: Агрономічна | C6: 4 | F6: 3 | G6: 75 | J6: 1 | K6: 25
A7: 2 | B7: Бабчинецька | C7: 5 | F7: 1 | G7: 20 | J7: 4 | K7: 80
A8: 3 | B8: Війтівецька | C8: 4 | F8: 3 | G8: 75 | H8: 1 | I8: 25
A9: 4 | B9: Городківська | C9: 8 | F9: 1 | H9: 4 | J9: 3 | N9: 8
A10: 5 | B10: Джулинська | C10: 13 | F10: 3 | G10: 23 | H10: 10 | I10: 77 | N10: 13 | O10: 100
A11: 6 | B11: Джуринська | C11: 10 | F11: 7 | G11: 70 | H11: 2 | I11: 20 | J11: 1 | K11: 10
A12: 7 | B12: Іванівська | C12: 12 | F12: 3 | G12: 25 | H12: 3 | I12: 25 | J12: 6 | K12: 50
A13: 8 | B13: Краснопільська | C13: 7 | F13: 1 | L13: 6
A14: 9 | B14: Кунківська | C14: 6 | F14: 5 | G14: 83 | J14: 1 | K14: 17 | N14: 5 | O14: 85
A15: 10 | B15: Лука-Мелешківська | C15: 4 | F15: 4 | G15: 100
A16: 11 | B16: Махнівська | C16: 9 | F16: 1 | G16: 11 | H16: 1 | I16: 11 | J16: 7 | K16: 76 | N16: 7 | O16: 78
A17: 12 | B17: Мурафська | C17: 7 | F17: 7 | G17: 100
A18: 13 | B18: Ободівська | C18: 6 | F18: 3 | G18: 50 | H18: 3 | I18: 50 | N18: 3 | O18: 50
A19: 14 | B19: Ольгопільська | C19: 3 | D19: 1 | E19: 33 | J19: 2 | K19: 67
A20: 15 | B20: Райгородська | C20: 10 | F20: 3 | G20: 38 | H20: 1 | I20: 12 | J20: 6 | K20: 60 | N20: 8 | O20: 100
A21: 16 | B21: Самгородоцька | C21: 10 | F21: 3 | G21: 30 | H21: 7 | I21: 70 | N21: 3 | O21: 30
A22: 17 | B22: Северинівська | C22: 4 | F22: 4 | G22: 100 | N22: 4 | O22: 100
A23: 18 | B23: Соболівська | C23: 9 | F23: 1 | G23: 11 | H23: 7 | I23: 78 | L23: 1 | M23: 11 | N23: 9 | O23: 100
A24: 19 | B24: Станіславчицька | C24: 6 | F24: 1 | G24: 17 | H24: 5 | I24: 83
A25: 20 | B25: Студенянська | C25: 6 | F25: 4 | G25: 67 | J25: 1 | K25: 16 | L25: 1 | M25: 16 | N25: 5 | O25: 83
A26: 21 | B26: Уланівська | C26: 19 | F26: 8 | G26: 50 | H26: 7 | I26: 30 | J26: 4 | K26: 20 | N26: 17 | O26: 90
A27: 22 | B27: Якушинецька | C27: 9 | D27: 1 | E27: 11 | F27: 4 | G27: 45 | H27: 3 | I27: 33 | L27: 1 | M27: 11 | N27: 1 | O27: 11
A28: 23 | B28: Яришівська | C28: 9 | H28: 9 | I28: 100
B29: Всього | C29: =SUM(C6:C28) -> 180 | D29: 2 | E29: 1 | F29: =SUM(F6:F28) -> 70 | G29: 39 | H29: =SUM(H6:H28) -> 63 | I29: 35 | J29: =SUM(J6:J28) -> 36 | K29: 20 | L29: =SUM(L6:L28) -> 9 | M29: 5 | N29: =SUM(N6:N28) -> 83 | O29: 46

Sheet таб 4
A1: Таблиця 4
A2: МАТЕРІАЛЬНО-ТЕХНІЧНА БАЗА ПУБЛІЧНИХ БІБЛІОТЕК СИСТЕМИ МІНІСТЕРСТВА КУЛЬТУРИ УКРАЇНИ (розріз міська територіальна громада) згідно форми 6-НК розділ ІІ
A3: № п/п | B3: Назва ТГ | C3: Характерстика приміщень б-к | F3: Характеристика приміщень б-к у сільській місцевості
C4: загальна площа (кв.м.) | D4: кількість посадкових місць для користувачів | E4: площа приміщень для соціокультурної діяльності, в тому числі для проведення заходів з особистісного розвитку (кв. м.) | F4: загальна площа в сільській місцевості (кв.м.) | G4: кількість посадкових місць для користувачів | H4: площа приміщень для соціокультурної діяльності, в тому числі для проведення заходів з особистісного розвитку (кв.м.)
A5: 1 | B5: 2 | C5: 3 | D5: 4 | E5: 5 | F5: 6 | G5: 7 | H5: 8
A6: 1 | B6: Барська | C6: 2038 | D6: 217 | E6: 1017.6 | F6: 1337 | G6: 132 | H6: 484
A7: 2 | B7: Бершадська | C7: 3155.1 | D7: 356 | E7: 1292.5 | F7: 2667.4 | G7: 256 | H7: 1102.5
A8: 3 | B8: Вінницька | C8: 5778.61 | D8: 871 | E8: 3671.11 | F8: 574.15 | G8: 132 | H8: 351.15
A9: 4 | B9: Гайсинська | C9: 2658 | D9: 290 | E9: 673 | F9: 1912 | G9: 180 | H9: 553
A10: 5 | B10: Гніванська | C10: 818 | D10: 134 | E10: 641 | F10: 417 | G10: 114 | H10: 529
A11: 6 | B11: Жмеринська | C11: 1871 | D11: 259 | E11: 1132 | F11: 1233 | G11: 153 | H11: 600
A12: 7 | B12: Іллінецька | C12: 1935 | D12: 224 | E12: 437 | F12: 635 | G12: 113 | H12: 278
A13: 8 | B13: Калинівська | C13: 2788 | D13: 248 | E13: 1730 | F13: 2106 | G13: 186 | H13: 1440
A14: 9 | B14: Козятинська | C14: 1854 | D14: 172 | E14: 1616 | F14: 619 | G14: 76 | H14: 516
A15: 10 | B15: Ладижинська | C15: 455.7 | D15: 87 | E15: 201.4 | F15: 77.2 | G15: 20 | H15: 31.2
A16: 11 | B16: Липовецька | C16: 1671 | D16: 356 | E16: 1528 | F16: 1270 | G16: 201 | H16: 1270
A17: 12 | B17: Могилів-Подільська | C17: 1155.18 | D17: 168 | E17: 635.21 | F17: 873.8 | G17: 138 | H17: 521.8
... A23: 18 | B23: Ямпільська | C23: 2534 | D23: 388 | E23: 867 | F23: 1934 | G23: 320 | H23: 730
B24: Всього | C24: =SUM(C6:C23) -> 40321.59 | D24: =SUM(D6:D23) -> 5564 | E24: =SUM(E6:E23) -> 23539.82 | F24: =SUM(F6:F23) -> 23708.55 | G24: =SUM(G6:G23) -> 3290 | H24: =SUM(H6:H23) -> 14241.65
A25: 19 | B25: ВОУНБ ім. В. Отамановського | C25: 4235 | D25: 452 | E25: 854
A26: 20 | B26: ВОБДіЮ ім. І. Франка | C26: 837.3 | D26: 60 | E26: 256.4
B27: Всього | C27: =SUM(C24:C26) -> 45393.89 | D27: =SUM(D24:D26) -> 6076 | E27: =SUM(E24:E26) -> 24650.22 | F27: =SUM(F24:F26) -> 23708.55 | G27: =SUM(G24:G26) -> 3290 | H27: =SUM(H24:H26) -> 14241.65

Sheet таб 4а
A1: Продовження таблиці 4
A2: МАТЕРІАЛЬНО-ТЕХНІЧНА БАЗА ПУБЛІЧНИХ БІБЛІОТЕК СИСТЕМИ МІНІСТЕРСТВА КУЛЬТУРИ УКРАЇНИ (розріз селищна територіальна громада)
A3: № п/п | B3: Назва ТГ | C3: ='таб 4'!$C$3 -> Характерстика приміщень б-к
C4: ='таб 4'!$C$4 -> загальна площа (кв.м.) | D4: ='таб 4'!$D$4 -> кількість посадкових місць для користувачів | E4: ='таб 4'!$E$4 -> площа приміщень для соціокультурної діяльності, в тому числі для проведення заходів з особистісного розвитку (кв. м.)
A5: 1 | B5: 2 | C5: 3 | D5: 4 | E5: 5
A6: 1 | B6: Брацлавська | C6: 699 | D6: 126 | E6: 436
A7: 2 | B7: Вапнярська | C7: 288 | D7: 47 | E7: 137
A8: 3 | B8: Вендичанська | C8: 1091 | D8: 135 | E8: 1091
A9: 4 | B9: Вороновицька | C9: 848 | D9: 130 | E9: 420
A10: 5 | B10: Глуховецька | C10: 610 | D10: 88 | E10: 249
A11: 6 | B11: Дашівська | C11: 913 | D11: 121 | E11: 423
A12: 7 | B12: Копайгородська | C12: 518 | D12: 55 | E12: 238
A13: 8 | B13: Крижопільська | C13: 2323 | D13: 184 | E13: 633
A14: 9 | B14: Літинська | C14: 1568 | D14: 212 | E14: 1200
A15: 10 | B15: Мурованокуриловецька | C15: 1836 | D15: 279 | E15: 1436
A16: 11 | B16: Оратівська | C16: 2493.5 | D16: 149 | E16: 1249.1
A17: 12 | B17: Піщанська | C17: 1540 | D17: 128 | E17: 708
... A27: 22 | B27: Шпиківська | C27: 1356 | D27: 182 | E27: 521
B28: Всього | C28: =SUM(C6:C27) -> 28126.5 | D28: =SUM(D6:D27) -> 3417 | E28: =SUM(E6:E27) -> 16037.1

Sheet таб 4б
A1: Продовження таблиці 4
A2: МАТЕРІАЛЬНО-ТЕХНІЧНА БАЗА ПУБЛІЧНИХ БІБЛІОТЕК СИСТЕМИ МІНІСТЕРСТВА КУЛЬТУРИ УКРАЇНИ
A3: (розріз сільська територіальна громада)
A4: № п/п | B4: Назва ТГ | C4: ='таб 4а'!$C$3 -> Характерстика приміщень б-к
C5: ='таб 4а'!$C$4 -> загальна площа (кв.м.) | D5: ='таб 4а'!$D$4 -> кількість посадкових місць для користувачів | E5: ='таб 4а'!$E$4 -> площа приміщень для соціокультурної діяльності, в тому числі для проведення заходів з особистісного розвитку (кв. м.)
A6: 1 | B6: 2 | C6: 3 | D6: 4 | E6: 5
A7: 1 | B7: Агрономічна | C7: 247 | D7: 54 | E7: 150
A8: 2 | B8: Бабчинецька | C8: 445 | D8: 40 | E8: 397
A9: 3 | B9: Війтівецька | C9: 440 | D9: 128 | E9: 284
A10: 4 | B10: Городківська | C10: 885 | D10: 82 | E10: 324
A11: 5 | B11: Джулинська | C11: 1399 | D11: 226 | E11: 695
A12: 6 | B12: Джуринська | C12: 1357 | D12: 132 | E12: 1357
A13: 7 | B13: Іванівська | C13: 978.5 | D13: 70 | E13: 332
A14: 8 | B14: Краснопільська | C14: 846 | D14: 89 | E14: 871
A15: 9 | B15: Кунківська | C15: 792 | D15: 29 | E15: 792
A16: 10 | B16: Лука-Мелешківська | C16: 276 | D16: 55 | E16: 161
A17: 11 | B17: Махнівська | C17: 646 | D17: 67 | E17: 388
A18: 12 | B18: Мурафська | C18: 1002 | D18: 74 | E18: 362
... A29: 23 | B29: Яришівська | C29: 1077 | D29: 147 | E29: 1023
B30: Всього | C30: =SUM(C7:C29) -> 18435.7 | D30: =SUM(D7:D29) -> 2625 | E30: =SUM(E7:E29) -> 11187

Sheet таб 4в
A1: Продовження таблиці 4
A2: РОЗРІЗ МІСЬКА ТЕРИТОРІАЛЬНА ГРОМАДА
A5: № п/п | B5: Назва ТГ | C5: К-сть приміщень б-к за майновою характеристикою на праві оперативного управління | D5: К-сть орендованих приміщень б-к | E5: К-сть приміщень б-к, які за технічною характеристикою потребують капітального ремонту | F5: К-сть аварійних приміщень б-к | G5: К-сть приміщень б-к без освітлення | H5: К-сть приміщень б-к, до яких забезпечено безперешкодний доступ користувачів | I5: К-сть приміщень б-к в середині яких забезпечено безперешкодний доступ користувачам | J5: К-сть приміщень б-к, обладнаних пандусом/ліфтом | K5: К-сть приміщень б-к, які потребують встановлення засобів безперешкодного доступу до них | L5: К-сть приміщень б-к, які потребують встановлення засобів безперешкодного доступу в середині них | M5: В сільській місцевості
M6: К-сть приміщень б-к за майновою характеристикою на праві оперативного управління в сільській місцевості | N6: К-сть орендованих приміщень б-к у сільській місцевості | O6: К-сть приміщень б-к у сільській місцевості, які за технічною харектеристикою потребують капітального ремонту | P6: К-сть аварійних приміщень б-к у сільській місцевості | Q6: К-сть приміщень б-к без освітлення у сільській місцевості | R6: К-сть приміщень б-к у сільській місцевості, до яких забезпечено безперешкодний доступ користувачів | S6: К-сть приміщень б-к у сільській місцевості в середині яких забезпечено безперешкодний доступ користувачам | T6: К-сть приміщень б-к у сільській місцевості, обладнаних пандусом | U6: К-сть приміщень б-к у сільській місцевості, які потребують встановлення засобів безперешкодного доступу до них | V6: К-сть приміщень б-к у сільській місцевості, які потребують встановлення засобів безперешкодного доступу в середині них
A8: 1 | B8: 2 | C8: 3 | D8: 4 | E8: 5 | F8: 6 | G8: 7 | H8: 8 | I8: 9 | J8: 10 | K8: 11 | L8: 12 | M8: 13 | N8: 14 | O8: 15 | P8: 16 | Q8: 17 | R8: 18 | S8: 19 | T8: 20 | U8: 21 | V8: 22
A9: 1 | B9: Барська | C9: 16 | H9: 7 | I9: 6 | J9: 6 | K9: 9 | L9: 10 | M9: 14 | R9: 5 | S9: 4 | T9: 4 | U9: 9 | V9: 10
A10: 2 | B10: Бершадська | C10: 10 | D10: 14 | E10: 3 | H10: 4 | I10: 12 | K10: 20 | L10: 12 | M10: 10 | N10: 13 | O10: 3 | R10: 4 | S10: 12 | U10: 19 | V10: 11
A11: 3 | B11: Вінницька | C11: 14 | D11: 9 | E11: 7 | H11: 18 | I11: 8 | J11: 13 | K11: 5 | L11: 15 | N11: 6 | O11: 2 | R11: 1 | U11: 5 | V11: 6
A12: 4 | B12: Гайсинська | C12: 22 | D12: 1 | H12: 13 | I12: 14 | K12: 10 | L12: 9 | M12: 21 | R12: 11 | S12: 13 | U12: 10 | V12: 8
A13: 5 | B13: Гніванська | C13: 3 | D13: 6 | H13: 4 | I13: 1 | J13: 1 | K13: 5 | L13: 8 | M13: 1 | N13: 6 | R13: 3 | S13: 0 | U13: 4 | V13: 7
A14: 6 | B14: Жмеринська | C14: 12 | D14: 8 | G14: 2 | H14: 4 | I14: 3 | J14: 2 | K14: 16 | L14: 17 | M14: 10 | N14: 8 | Q14: 2 | R14: 2 | S14: 1 | U14: 16 | V14: 17
A15: 7 | B15: Іллінецька | C15: 10 | D15: 5 | H15: 8 | I15: 1 | K15: 7 | L15: 14 | M15: 8 | N15: 5 | R15: 6 | S15: 0 | U15: 7 | V15: 13
A16: 8 | B16: Калинівська | C16: 28 | E16: 10 | G16: 2 | H16: 4 | I16: 18 | J16: 4 | K16: 24 | L16: 10 | M16: 27 | O16: 10 | Q16: 2 | R16: 3 | S16: 16 | T16: 3 | U16: 24 | V16: 11
A17: 9 | B17: Козятинська | C17: 7 | E17: 1 | H17: 1 | I17: 1 | J17: 0 | K17: 6 | L17: 6 | M17: 5 | O17: 1 | R17: 1 | S17: 1 | T17: 0 | U17: 4 | V17: 4
A18: 10 | B18: Ладижинська | C18: 5 | H18: 2 | I18: 5 | J18: 2 | K18: 3 | L18: 0 | M18: 2 | S18: 2 | T18: 0 | U18: 2 | V18: 0
A19: 11 | B19: Липовецька | C19: 17 | D19: 1 | E19: 2 | H19: 7 | I19: 13 | J19: 6 | K19: 11 | L19: 5 | M19: 16 | N19: 1 | O19: 2 | R19: 6 | S19: 12 | T19: 5 | U19: 11 | V19: 5
A20: 12 | B20: Могилів-Подільська | C20: 10 | D20: 1 | K20: 11 | L20: 11 | M20: 9 | U20: 9 | V20: 9
A21: 13 | B21: Немирівська | C21: 22 | D21: 1 | E21: 6 | H21: 12 | I21: 15 | J21: 11 | K21: 11 | L21: 8 | M21: 21 | N21: 1 | O21: 6 | R21: 11 | S21: 15 | T21: 10 | U21: 11 | V21: 7
A22: 14 | B22: Погребищенська | C22: 25 | H22: 15 | I22: 17 | J22: 6 | K22: 10 | L22: 8 | M22: 23 | R22: 13 | S22: 15 | T22: 5 | U22: 10 | V22: 8
A23: 15 | B23: Тульчинська | C23: 23 | H23: 1 | J23: 1 | K23: 22 | L23: 23 | M23: 22 | U23: 22 | V23: 22
A24: 16 | B24: Хмільницька | C24: 1 | D24: 18 | H24: 8 | I24: 15 | J24: 6 | K24: 11 | L24: 4 | M24: 1 | N24: 17 | R24: 7 | S24: 14 | T24: 5 | U24: 11 | V24: 4
A25: 17 | B25: Шаргородська | C25: 15 | D25: 2 | E25: 2 | H25: 4 | I25: 9 | J25: 2 | K25: 13 | L25: 8 | M25: 12 | N25: 2 | O25: 2 | R25: 3 | S25: 7 | T25: 1 | U25: 11 | V25: 7
A26: 18 | B26: Ямпільська | C26: 2 | D26: 19 | E26: 4 | H26: 11 | I26: 6 | J26: 8 | K26: 10 | L26: 15 | N26: 19 | O26: 4 | R26: 9 | S26: 5 | T26: 6 | U26: 10 | V26: 14
B27: Всього | C27: =SUM(C9:C26) -> 242 | D27: =SUM(D9:D26) -> 85 | E27: =SUM(E9:E26) -> 35 | F27: =SUM(F9:F26) -> 0 | G27: =SUM(G9:G26) -> 4 | H27: =SUM(H9:H26) -> 123 | I27: =SUM(I9:I26) -> 144 | J27: =SUM(J9:J26) -> 68 | ... V27: =SUM(V9:V26) -> 163
A28: 19 | B28: ВОУНБ ім. В. Отамановського | C28: 1 | D28: 1 | E28: 1 | H28: 2 | I28: 1 | J28: 2 | L28: 1
A29: 20 | B29: ВОБДіЮ ім. І. Франка | C29: 2 | D29: 1 | E29: 1 | H29: 2 | I29: 2 | J29: 2
B30: Всього | C30: =SUM(C27:C29) -> 245 | D30: =SUM(D27:D29) -> 87 | E30: =SUM(E27:E29) -> 37 | F30: =SUM(F27:F29) -> 0 | G30: =SUM(G27:G29) -> 4 | H30: =SUM(H27:H29) -> 127 | I30: =SUM(I27:I29) -> 147 | J30: =SUM(J27:J29) -> 72 | ... V30: =SUM(V27:V29) -> 163

Sheet таб 4г
A1: Продовження таблиці 4
A2: РОЗРІЗ СЕЛИЩНА ТЕРИТОРІАЛЬНА ГРОМАДА
A3: № п/п | B3: Назва ТГ | C3: К-сть приміщень б-к за майновою характерстикою на праві оперативного управління | D3: К-сть орендованих приміщень б-к | E3: К-сть приміщень б-к, які за технічною характеристикою потребують капітального ремонту | F3: К-сть аварійних приміщень б-к | G3: К-сть приміщень б-к без освітлення | H3: К-сть приміщень б-к, до яких забезпечено безперешкодний доступ користувачів | I3: К-сть приміщень б-к в середині яких забезпечено безперешкодний доступ користувачам | J3: К-сть приміщень б-к, обладнаних пандусом | K3: К-сть приміщень б-к, які потребують встановлення засобів безперешкодного доступу до них | L3: К-сть приміщень б-к, які потребують встановлення засобів безперешкодного доступу в средині них
A6: 1 | B6: 2 | C6: 3 | D6: 4 | E6: 5 | F6: 6 | G6: 7 | H6: 8 | I6: 9 | J6: 10 | K6: 11 | L6: 12
A7: 1 | B7: Брацлавська | C7: 9 | E7: 1 | H7: 6 | I7: 5 | J7: 6 | K7: 3 | L7: 4
A8: 2 | B8: Вапнярська | D8: 5 | E8: 1 | H8: 3 | I8: 3 | K8: 2 | L8: 2
A9: 3 | B9: Вендичанська | C9: 11 | K9: 11 | L9: 11
A10: 4 | B10: Вороновицька | C10: 7 | D10: 1 | H10: 8 | I10: 6 | L10: 2
A11: 5 | B11: Глуховецька | D11: 10 | H11: 5 | I11: 5 | J11: 3 | K11: 5 | L11: 5
A12: 6 | B12: Дашівська | C12: 10 | E12: 6 | G12: 1 | H12: 2 | I12: 1 | J12: 2 | K12: 8 | L12: 9
A13: 7 | B13: Копайгородська | C13: 6 | E13: 2 | G13: 6 | H13: 2 | I13: 2 | K13: 4 | L13: 4
A14: 8 | B14: Крижопільська | D14: 16 | E14: 1 | H14: 4 | I14: 3 | K14: 12 | L14: 13
A15: 9 | B15: Літинська | C15: 9 | D15: 7 | H15: 16 | I15: 16 | J15: 7
A16: 10 | B16: Мурованокуриловецька | C16: 18 | H16: 9 | I16: 9 | J16: 8 | K16: 9 | L16: 9
A17: 11 | B17: Оратівська | D17: 18 | H17: 6 | I17: 8 | K17: 12 | L17: 10
A18: 12 | B18: Піщанська | C18: 12 | H18: 1 | I18: 1 | J18: 1 | K18: 11 | L18: 11
A19: 13 | B19: Стрижавська | C19: 6 | I19: 6 | K19: 6
A20: 14 | B20: Сутисківська | C20: 2 | H20: 2 | J20: 2 | L20: 2
A21: 15 | B21: Теплицька | C21: 19 | E21: 7 | H21: 8 | I21: 9 | J21: 3 | K21: 11 | L21: 10
A22: 16 | B22: Тиврівська | C22: 8 | E22: 0 | F22: 0 | G22: 0 | H22: 2 | I22: 2 | J22: 0 | K22: 6 | L22: 6
A23: 17 | B23: Томашпільська | C23: 20 | D23: 2 | E23: 3 | H23: 6 | J23: 2 | K23: 16 | L23: 22
A24: 18 | B24: Тростянецька | C24: 2 | D24: 12 | H24: 4 | K24: 10 | L24: 14
A25: 19 | B25: Турбівська | C25: 14 | H25: 7 | I25: 7 | J25: 7 | K25: 7 | L25: 7
A26: 20 | B26: Чернівецька | C26: 8 | E26: 8 | H26: 2 | I26: 2 | J26: 1 | K26: 6 | L26: 6
A27: 21 | B27: Чечельницька | C27: 9 | H27: 9 | I27: 9
A28: 22 | B28: Шпиківська | C28: 5 | D28: 9 | K28: 14 | L28: 14
B29: Всього | C29: =SUM(C7:C28) -> 175 | D29: =SUM(D7:D28) -> 80 | E29: =SUM(E7:E28) -> 29 | F29: =SUM(F7:F28) -> 0 | G29: =SUM(G7:G28) -> 7 | H29: =SUM(H7:H28) -> 102 | I29: =SUM(I7:I28) -> 94 | J29: =SUM(J7:J28) -> 42 | ... L29: =SUM(L7:L28) -> 161

Sheet таб 4д
A1: Продовження таблиці 4
A2: РОЗРІЗ СІЛЬСЬКА ТЕРИТОРІАЛЬНА ГРОМАДА
A3: № п/п | B3: Назва ТГ | C3: К-сть приміщень бібліотек за майновою характеристикою на праві оперативного управління | D3: К-сть орендованих приміщень б-к | E3: К-сть приміщень б-к, які за технічною характеристикою потребують капітального ремонду | F3: К-сть аварійних приміщень б-к | G3: К-сть приміщень б-к без освітлення | H3: К-сть приміщень б-к, до яких забезпечено безперешкодний доступ користувачів | I3: К-сть приміщень б-к, в середині яких забезпечено безперешкодний доступ користувачам | J3: К-сть приміщень б-к обладнаних пандусом | K3: К-сть приміщень б-к, які потребують встановлення засобів безперешкодного доступу до них | L3: К-сть приміщень б-к, які потребують встановлення засобів безперешкодного доступу в середині них
A6: 1 | B6: 2 | C6: 3 | D6: 4 | E6: 5 | F6: 6 | G6: 7 | H6: 8 | I6: 9 | J6: 10 | K6: 11 | L6: 12
A7: 1 | B7: Агрономічна | C7: 3 | D7: 1 | H7: 3 | I7: 4 | J7: 3 | K7: 1
A8: 2 | B8: Бабчинецька | C8: 5 | H8: 5 | I8: 3 | J8: 3 | L8: 2
A9: 3 | B9: Війтівецька | C9: 4 | K9: 4 | L9: 4
A10: 4 | B10: Городківська | D10: 8 | K10: 8 | L10: 8
A11: 5 | B11: Джулинська | C11: 6 | D11: 7 | K11: 13 | L11: 13
A12: 6 | B12: Джуринська | C12: 10 | E12: 1 | F12: 1 | K12: 10 | L12: 10
A13: 7 | B13: Іванівська | C13: 3 | D13: 9 | E13: 5 | G13: 1 | K13: 12 | L13: 12
A14: 8 | B14: Краснопільська | C14: 7 | H14: 1 | I14: 2 | K14: 6 | L14: 5
A15: 9 | B15: Кунківська | C15: 6 | K15: 6 | L15: 6
A16: 10 | B16: Лука-Мелешківська | C16: 4 | H16: 1 | I16: 4 | K16: 3
A17: 11 | B17: Махнівська | C17: 9 | H17: 6 | I17: 7 | J17: 2 | K17: 3 | L17: 2
A18: 12 | B18: Мурафська | C18: 7 | E18: 0 | F18: 0 | G18: 0 | K18: 7 | L18: 7
A19: 13 | B19: Ободівська | C19: 6 | H19: 4 | I19: 4 | J19: 2 | K19: 2 | L19: 2
A20: 14 | B20: Ольгопільська | D20: 3 | H20: 1 | I20: 2 | K20: 2 | L20: 1
A21: 15 | B21: Райгородська | C21: 9 | D21: 1 | H21: 1 | J21: 1 | K21: 9 | L21: 10
A22: 16 | B22: Самгородоцька | C22: 10 | G22: 2 | H22: 7 | I22: 10 | J22: 3 | K22: 3
A23: 17 | B23: Северинівська | C23: 1 | D23: 3 | E23: 0 | F23: 0 | G23: 0 | H23: 1 | I23: 2 | K23: 3 | L23: 2
A24: 18 | B24: Соболівська | C24: 9 | H24: 2 | I24: 4 | K24: 7 | L24: 5
A25: 19 | B25: Станіславчицька | C25: 6 | H25: 3 | I25: 2 | K25: 3 | L25: 4
A26: 20 | B26: Студенянська | C26: 6 | H26: 1 | I26: 1 | J26: 1 | K26: 5 | L26: 5
A27: 21 | B27: Уланівська | C27: 19 | E27: 0 | F27: 0 | G27: 0 | H27: 8 | I27: 12 | J27: 5 | K27: 11 | L27: 7
A28: 22 | B28: Якушинецька | D28: 9 | E28: 0 | F28: 0 | G28: 0 | H28: 6 | I28: 7 | J28: 4 | K28: 3 | L28: 2
A29: 23 | B29: Яришівська | C29: 9 | H29: 9 | I29: 9
B30: Всього | C30: =SUM(C7:C29) -> 139 | D30: =SUM(D7:D29) -> 41 | E30: =SUM(E12:E29) -> 6 | F30: 1 | G30: =SUM(G11:G29) -> 3 | H30: =SUM(H7:H29) -> 59 | I30: =SUM(I7:I29) -> 73 | J30: =SUM(J7:J29) -> 24 | K30: =SUM(K7:K29) -> 121 | L30: =SUM(L7:L29) -> 107

Sheet таб 4е
A1: Продовження таблиці 4
A2: ОПАЛЕННЯ (розріз міська територіальна громада)
A3: № п/п | B3: Назва ТГ | C3: Всього опалюється | D3: В % | E3: СПОСІБ ОПАЛЕННЯ | K3: СПОСІБ ОПАЛЕННЯ В СІЛЬСЬКІЙ МІСЦЕВОСТІ
E4: пічне | F4: центральне | G4: газове, автономне | H4: електроконвектори, що забезпечують температуру у відповідності до санітарних норм | I4: енерго-зберігаючі прилади | J4: знаходяться у приміщеннях, що не опалюються | K4: Опалюється в сільській місцевості | L4: В % | M4: пічне в сільській місцевості | N4: центральне в сільській місцевості | O4: газове, автономне в сільській місцевості | P4: електроконвектори, що забезпечують температуру у відповідності до санітарних норм у сільській місцевості | Q4: енергозберігаючі прилади в сільській місцевості | R4: знаходяться у приміщеннях, що не опалюються в сільській місцевості
A5: 1 | B5: 2 | C5: 3 | D5: 4 | E5: 5 | F5: 6 | G5: 7 | H5: 8 | I5: 9 | J5: 10 | K5: 11 | L5: 12 | M5: 13 | N5: 14 | O5: 15 | P5: 16 | Q5: 17 | R5: 18
A6: 1 | B6: Барська | C6: 14 | D6: 88 | E6: 1 | G6: 3 | H6: 6 | I6: 4 | J6: 2 | K6: 12 | L6: 86 | M6: 1 | O6: 1 | P6: 6 | Q6: 4 | R6: 2
A7: 2 | B7: Бершадська | C7: 24 | D7: 100 | F7: 3 | H7: 19 | I7: 2 | K7: 23 | L7: 100 | N7: 2 | P7: 19 | Q7: 2
A8: 3 | B8: Вінницька | C8: 22 | D8: 96 | E8: 2 | F8: 10 | G8: 9 | H8: 1 | J8: 1 | K8: 5 | L8: 83 | M8: 2 | O8: 3 | R8: 1
A9: 4 | B9: Гайсинська | C9: 23 | D9: 100 | E9: 3 | G9: 4 | I9: 16 | K9: 21 | L9: 100 | M9: 3 | O9: 2 | Q9: 16
A10: 5 | B10: Гніванська | C10: 9 | D10: 100 | E10: 4 | G10: 1 | H10: 4 | K10: 7 | L10: 100 | M10: 4 | P10: 3
A11: 6 | B11: Жмеринська | C11: 18 | D11: 90 | E11: 6 | F11: 5 | G11: 2 | H11: 5 | J11: 2 | K11: 16 | L11: 89 | M11: 6 | N11: 5 | P11: 5 | R11: 2
A12: 7 | B12: Іллінецька | C12: 11 | D12: 73 | E12: 1 | F12: 8 | G12: 2 | J12: 4 | K12: 9 | L12: 69 | M12: 1 | N12: 8 | R12: 4
A13: 8 | B13: Калинівська | C13: 13 | D13: 46 | E13: 2 | G13: 8 | H13: 2 | I13: 1 | J13: 15 | K13: 12 | L13: 42 | M13: 2 | O13: 6 | P13: 2 | Q13: 2 | R13: 15
A14: 9 | B14: Козятинська | C14: 6 | D14: 86 | G14: 1 | H14: 3 | I14: 2 | J14: 1 | K14: 4 | L14: 80 | O14: 1 | P14: 3 | R14: 1
A15: 10 | B15: Ладижинська | C15: 5 | D15: 100 | E15: 0 | F15: 1 | G15: 1 | H15: 2 | I15: 1 | J15: 0 | K15: 2 | L15: 100 | P15: 1 | Q15: 1
A16: 11 | B16: Липовецька | C16: 18 | D16: 100 | E16: 1 | G16: 1 | H16: 1 | I16: 15 | K16: 17 | L16: 100 | O16: 1 | P16: 1 | Q16: 15
A17: 12 | B17: Могилів-Подільська | C17: 11 | D17: 100 | E17: 9 | F17: 2 | K17: 9 | L17: 100 | M17: 9
A18: 13 | B18: Немирівська | C18: 10 | D18: 44 | E18: 4 | F18: 4 | G18: 2 | J18: 13 | K18: 9 | L18: 41 | M18: 4 | N18: 4 | O18: 1 | R18: 13
A19: 14 | B19: Погребищенська | C19: 25 | D19: 100 | E19: 2 | F19: 5 | G19: 1 | H19: 13 | I19: 4 | K19: 23 | L19: 100 | M19: 2 | N19: 4 | P19: 13 | Q19: 4
A20: 15 | B20: Тульчинська | C20: 23 | D20: 100 | E20: 3 | F20: 6 | G20: 1 | H20: 9 | I20: 4 | K20: 22 | L20: 100 | M20: 3 | N20: 6 | P20: 8 | Q20: 5
A21: 16 | B21: Хмільницька | C21: 11 | D21: 58 | E21: 0 | F21: 0 | G21: 3 | H21: 8 | I21: 0 | J21: 8 | K21: 10 | L21: 56 | O21: 2 | P21: 8 | R21: 8
A22: 17 | B22: Шаргородська | C22: 15 | D22: 88 | E22: 12 | G22: 1 | H22: 2 | J22: 2 | K22: 12 | L22: 86 | M22: 11 | P22: 1 | R22: 2
A23: 18 | B23: Ямпільська | C23: 21 | D23: 100 | E23: 9 | F23: 3 | H23: 8 | I23: 1 | K23: 19 | L23: 100 | M23: 9 | N23: 1 | P23: 8 | Q23: 1
B24: Всього | C24: =SUM(C6:C23) -> 279 | D24: 85 | E24: =SUM(E6:E23) -> 59 | F24: =SUM(F6:F23) -> 47 | G24: =SUM(G6:G23) -> 40 | H24: =SUM(H6:H23) -> 83 | I24: =SUM(I6:I23) -> 50 | J24: =SUM(J6:J23) -> 48 | K24: =SUM(K6:K23) -> 232 | L24: 81 | M24: =SUM(M6:M23) -> 57 | N24: =SUM(N6:N23) -> 30 | O24: =SUM(O6:O23) -> 17 | P24: =SUM(P6:P23) -> 78 | Q24: =SUM(Q6:Q23) -> 50 | R24: =SUM(R6:R23) -> 48
A25: 19 | B25: ВОУНБ ім В Отамановського | C25: 2 | D25: 100 | F25: 2
A26: 20 | B26: ВОБДіЮ ім. І. Франка | C26: 3 | D26: 100 | F26: 2 | G26: 1
B27: Всього | C27: =SUM(C24:C26) -> 284 | D27: 86 | E27: =SUM(E24:E26) -> 59 | F27: =SUM(F24:F26) -> 51 | G27: =SUM(G24:G26) -> 41 | H27: =SUM(H24:H26) -> 83 | I27: =SUM(I24:I26) -> 50 | J27: =SUM(J24:J26) -> 48 | K27: =SUM(K24:K26) -> 232 | L27: 83 | M27: =SUM(M24:M26) -> 57 | N27: =SUM(N24:N26) -> 30 | O27: =SUM(O24:O26) -> 17 | P27: =SUM(P24:P26) -> 78 | Q27: =SUM(Q24:Q26) -> 50 | R27: =SUM(R24:R26) -> 48

Sheet таб 4є
A1: Продовження таблиці 4
A3: № п/п | B3: Назва ТГ | C3: ОПАЛЕННЯ (розріз селищна територіальна громада)
C4: Всього опалюється | D4: В % | E4: СПОСІБ ОПАЛЕННЯ
E5: пічне | F5: центральне | G5: газове, автономне | H5: електроконвектори, що забезпечують температуру у відповідності до санітарних норм | I5: енерго-зберігаючі прилади | J5: знаходяться у приміщеннях, що не опалюються
A6: 1 | B6: 2 | C6: 3 | D6: 4 | E6: 5 | F6: 6 | G6: 7 | H6: 8 | I6: 9 | J6: 10
A7: 1 | B7: Брацлавська | C7: 9 | D7: 100 | E7: 1 | G7: 2 | H7: 5 | I7: 1
A8: 2 | B8: Вапнярська | C8: 5 | E8: 2 | G8: 1 | I8: 2
A9: 3 | B9: Вендичанська | C9: 10 | D9: 91 | E9: 6 | G9: 1 | H9: 3 | J9: 1
A10: 4 | B10: Вороновицька | C10: 5 | D10: 63 | G10: 3 | H10: 1 | I10: 1 | J10: 3
A11: 5 | B11: Глуховецька | C11: 5 | D11: 50 | G11: 2 | H11: 3 | J11: 5
A12: 6 | B12: Дашівська | C12: 6 | D12: 60 | E12: 2 | F12: 4 | J12: 4
A13: 7 | B13: Копайгородська | C13: 3 | D13: 50 | E13: 3 | J13: 3
A14: 8 | B14: Крижопільська | C14: 16 | D14: 100 | H14: 16
A15: 9 | B15: Літинська | C15: 15 | D15: 94 | E15: 4 | F15: 2 | G15: 2 | H15: 7 | J15: 1
A16: 10 | B16: Мурованокуриловецька | C16: 16 | D16: 89 | E16: 8 | F16: 2 | H16: 6 | J16: 2
A17: 11 | B17: Оратівська | C17: 5 | D17: 28 | E17: 3 | F17: 2 | J17: 13
A18: 12 | B18: Піщанська | C18: 3 | D18: 25 | E18: 1 | F18: 2 | J18: 9
A19: 13 | B19: Стрижавська | C19: 6 | D19: 100 | E19: 1 | F19: 1 | H19: 2 | I19: 2
A20: 14 | B20: Сутисківська | C20: 1 | D20: 50 | F20: 1 | J20: 1
A21: 15 | B21: Теплицька | C21: 9 | F21: 2 | H21: 7 | J21: 10
A22: 16 | B22: Тиврівська | C22: 1 | D22: 13 | F22: 1 | J22: 7
A23: 17 | B23: Томашпільська | C23: 14 | D23: 63 | E23: 7 | F23: 1 | G23: 6 | J23: 8
A24: 18 | B24: Тростянецька | C24: 14 | D24: 100 | F24: 3 | G24: 4 | H24: 7
A25: 19 | B25: Турбівська | C25: 14 | D25: 100 | E25: 3 | F25: 1 | G25: 2 | H25: 8
A26: 20 | B26: Чернівецька | C26: 8 | D26: 100 | E26: 3 | H26: 5
A27: 6 | B27: Чечельницька | C27: 5 | D27: 56 | E27: 2 | F27: 1 | I27: 2 | J27: 4
A28: 22 | B28: Шпиківська | C28: 7 | D28: 50 | E28: 3 | F28: 3 | H28: 1 | J28: 7
B29: Всього | C29: =SUM(C7:C28) -> 177 | D29: 69 | E29: =SUM(E7:E28) -> 49 | F29: =SUM(F7:F28) -> 26 | G29: =SUM(G7:G28) -> 23 | H29: =SUM(H7:H28) -> 71 | I29: =SUM(I7:I28) -> 8 | J29: =SUM(J7:J28) -> 78

Sheet таб 4ж
A1: Продовження таблиці 4
A2: № п/п | B2: Назва ТГ | C2: ОПАЛЕННЯ (розріз сільська територіальна громада)
C3: Всього опалюється | D3: В % | E3: СПОСІБ ОПАЛЕННЯ
E4: пічне | F4: центральне | G4: газове, автономне | H4: електроконвектори, що забезпечують температуру у відповідності до санітарних норм | I4: енерго-зберігаючі прилади | J4: знаходяться у приміщеннях, що не опалюються
A5: 1 | B5: 2 | C5: 3 | D5: 4 | E5: 5 | F5: 6 | G5: 7 | H5: 8 | I5: 9 | J5: 10
A6: 1 | B6: Агрономічна | C6: 4 | D6: 100 | G6: 1 | H6: 3
A7: 2 | B7: Бабчинецька | C7: 5 | D7: 100 | E7: 2 | H7: 3
A8: 3 | B8: Війтівецька | C8: 4 | D8: 100 | H8: 4
A9: 4 | B9: Городківська | C9: 8 | D9: 100 | H9: 8
A10: 5 | B10: Джулинська | J10: 13
A11: 6 | B11: Джуринська | C11: 10 | D11: 100 | E11: 10
A12: 7 | B12: Іванівська | C12: 11 | D12: 92 | I12: 11 | J12: 1
A13: 8 | B13: Краснопільська | C13: 3 | D13: 43 | E13: 3 | J13: 4
A14: 9 | B14: Кунківська | C14: 6 | D14: 100 | H14: 6
A15: 10 | B15: Лука-Мелешківська | C15: 4 | D15: 100 | F15: 2 | H15: 2
A16: 11 | B16: Махнівська | C16: 8 | D16: 89 | E16: 2 | G16: 2 | H16: 4 | J16: 1
A17: 12 | B17: Мурафська | C17: 7 | D17: 100 | E17: 5 | F17: 1 | I17: 1
A18: 13 | B18: Ободівська | C18: 6 | D18: 100 | G18: 1 | H18: 5
A19: 14 | B19: Ольгопільська | C19: 3 | D19: 100 | I19: 3
A20: 15 | B20: Райгородська | C20: 4 | D20: 50 | F20: 1 | H20: 3 | J20: 6
A21: 16 | B21: Самгородоцька | C21: 8 | D21: 80 | H21: 8 | J21: 2
A22: 17 | B22: Северинівська | C22: 3 | D22: 33 | E22: 1 | F22: 2 | J22: 1
A23: 18 | B23: Соболівська | C23: 9 | D23: 100 | H23: 9
A24: 19 | B24: Станіславчицька | C24: 6 | D24: 100 | H24: 6
A25: 20 | B25: Студенянська | C25: 6 | D25: 100 | E25: 1 | H25: 5
A26: 21 | B26: Уланівська | C26: 16 | D26: 85 | H26: 15 | I26: 1 | J26: 3
A27: 22 | B27: Якушинецька | C27: 7 | D27: 77 | F27: 4 | G27: 1 | H27: 2 | J27: 2
A28: 23 | B28: Яришівська | C28: 9 | D28: 100 | E28: 9
B29: Всього | C29: =SUM(C6:C28) -> 147 | D29: 82 | E29: =SUM(E6:E28) -> 33 | F29: =SUM(F6:F28) -> 10 | G29: =SUM(G6:G28) -> 5 | H29: =SUM(H6:H28) -> 83 | I29: =SUM(I6:I28) -> 16 | J29: =SUM(J6:J28) -> 33

Sheet таб 4з
A1: Продовження таблиці 4
A2: № п/п | B2: Назва ТГ | C2: ОСНАЩЕННЯ БІБЛІОТЕК ТЕХНІЧНИМИ ЗАСОБАМИ (розріз міська територіальна громада)
C3: К-сть б-к, що мають комп'ютери | D3: К-сть комп'ютерів | E3: К-сть комп'ютерів, придбаних у 2025 році | H3: К-сть б-к, що мають копіювально-розмножувальну техніку | I3: К-сть б-к, що мають мультимедійне забезпечення | J3: Оснащення технічними засобами в сільській місцевості
J4: К-сть сільських б-к, що мають комп'ютери | K4: К-сть комп'ютерів | L4: К-сть комп'ютерів, придбаних у 2025 році | O4: К-сть сільських б-к, що мають копіювально-розмножувальну техніку | P4: К-сть сільських б-к, що мають мультимедійне забезпечення
C5: 2025 | D5: 2025 | E5: за кошти місц. бюджету | F5: проєкти | G5: подарунки | H5: 2025 | I5: 2025 | J5: 2025 | K5: 2025 | L5: за кошти місц. бюджету | M5: проєкти | N5: подарунки | O5: 2025 | P5: 2025
A6: 1 | B6: 2 | C6: 3 | D6: 4 | E6: 5 | F6: 6 | G6: 7 | H6: 8 | I6: 9 | J6: 10 | K6: 11 | L6: 12 | M6: 13 | N6: 14 | O6: 15 | P6: 16
A7: 1 | B7: Барська | C7: 8 | D7: 35 | H7: 8 | I7: 6 | J7: 6 | K7: 22 | O7: 6 | P7: 4
A8: 2 | B8: Бершадська | C8: 22 | D8: 50 | E8: 1 | H8: 14 | I8: 1 | J8: 21 | K8: 35 | O8: 13
A9: 3 | B9: Вінницька | C9: 23 | D9: 130 | H9: 23 | I9: 22 | J9: 6 | K9: 12 | O9: 6 | P9: 6
A10: 4 | B10: Гайсинська | C10: 23 | D10: 68 | H10: 17 | I10: 21 | J10: 21 | K10: 41 | O10: 15 | P10: 19
A11: 5 | B11: Гніванська | C11: 9 | D11: 27 | H11: 9 | I11: 0 | J11: 7 | K11: 16 | O11: 7
A12: 6 | B12: Жмеринська | C12: 8 | D12: 23 | H12: 9 | I12: 4 | J12: 6 | K12: 9 | O12: 7 | P12: 2
A13: 7 | B13: Іллінецька | C13: 8 | D13: 32 | H13: 7 | I13: 7 | J13: 6 | K13: 16 | O13: 5 | P13: 5
A14: 8 | B14: Калинівська | C14: 10 | D14: 38 | H14: 6 | I14: 4 | J14: 8 | K14: 24 | O14: 4 | P14: 1
A15: 9 | B15: Козятинська | C15: 6 | D15: 26 | H15: 6 | I15: 1 | J15: 4 | K15: 10 | O15: 4 | P15: 0
A16: 10 | B16: Ладижинська | C16: 3 | D16: 15 | H16: 3 | I16: 3 | J16: 2 | K16: 4 | O16: 2 | P16: 2
A17: 11 | B17: Липовецька | C17: 10 | D17: 41 | E17: 3 | H17: 7 | I17: 1 | J17: 9 | K17: 21 | O17: 6
A18: 12 | B18: Могилів-Подільська | C18: 11 | D18: 20 | H18: 4 | J18: 9 | K18: 16 | O18: 3
A19: 13 | B19: Немирівська | C19: 13 | D19: 41 | H19: 11 | I19: 2 | J19: 12 | K19: 19 | O19: 10 | P19: 1
A20: 14 | B20: Погребищенська | C20: 13 | D20: 23 | H20: 5 | I20: 2 | J20: 11 | K20: 17 | O20: 3
A21: 15 | B21: Тульчинська | C21: 14 | D21: 55 | H21: 20 | I21: 28 | J21: 13 | K21: 32 | O21: 9 | P21: 6
A22: 16 | B22: Хмільницька | C22: 12 | D22: 48 | H22: 11 | I22: 2 | J22: 11 | K22: 25
A23: 17 | B23: Шаргородська | C23: 11 | D23: 19 | H23: 3 | I23: 3 | J23: 9 | K23: 10 | O23: 1 | P23: 1
A24: 18 | B24: Ямпільська | C24: 19 | D24: 42 | E24: 1 | H24: 6 | I24: 3 | J24: 17 | K24: 27 | O24: 4 | P24: 1
B25: Всього | C25: =SUM(C7:C24) -> 223 | D25: =SUM(D7:D24) -> 733 | E25: =SUM(E7:E24) -> 5 | H25: =SUM(H7:H24) -> 169 | I25: =SUM(I7:I24) -> 110 | J25: =SUM(J7:J24) -> 178 | K25: =SUM(K7:K24) -> 356 | L25: =SUM(L7:L24) -> 0 | M25: =SUM(M7:M24) -> 0 | N25: =SUM(N7:N24) -> 0 | O25: =SUM(O7:O24) -> 105 | P25: =SUM(P7:P24) -> 48
A26: 19 | B26: ВОУНБ ім. В. Отамановського | C26: 1 | D26: 164 | H26: 1 | I26: 1
A27: 20 | B27: ВОБДіЮ ім І. Франка | C27: 1 | D27: 72 | H27: 1 | I27: 1
B28: Всього | C28: =SUM(C25:C27) -> 225 | D28: =SUM(D25:D27) -> 969 | E28: =SUM(E25:E27) -> 5 | F28: =SUM(F25:F27) -> 0 | G28: =SUM(G25:G27) -> 0 | H28: =SUM(H25:H27) -> 171 | I28: =SUM(I25:I27) -> 112 | J28: =SUM(J25:J27) -> 178 | ... P28: =SUM(P25:P27) -> 48

Sheet таб 4и
A1: Продовження таблиці 4
A2: ОСНАЩЕННЯ БІБЛІОТЕК ТЕХНІЧНИМИ ЗАСОБАМИ (розріз селищна територіальна громада)
A3: № п/п | B3: Назва ТГ
C4: К-сть б-к, що мають комп'ютери | D4: К-сть комп'ютерів | E4: К-сть комп'ютерів, придбаних у 2025 році | H4: К-сть б-к, що мають копіювально-розмножувальну техніку | I4: К-сть б-к, що мають мультимедійне забезпечення
C6: 2025 | D6: 2025 | E6: за кошти місц. бюджету | F6: проєкти | G6: подарунки | H6: 2025 | I6: 2025
A7: 1 | B7: 2 | C7: 3 | D7: 4 | E7: 5 | F7: 6 | G7: 7 | H7: 8 | I7: 9
A8: 1 | B8: Брацлавська | C8: 5 | D8: 16 | H8: 6 | I8: 5
A9: 2 | B9: Вапнярська | C9: 4 | D9: 6 | H9: 4 | I9: 1
A10: 3 | B10: Вендичанська | C10: 10 | D10: 10 | H10: 4 | I10: 2
A11: 4 | B11: Вороновицька | C11: 5 | D11: 14 | H11: 4 | I11: 4
A12: 5 | B12: Глуховецька | C12: 10 | D12: 31 | E12: 2 | H12: 13
A13: 6 | B13: Дашівська | C13: 8 | D13: 20 | H13: 4 | I13: 4
A14: 7 | B14: Копайгородська | C14: 3 | D14: 5 | H14: 1
A15: 8 | B15: Крижопільська | C15: 16 | D15: 36 | H15: 8 | I15: 5
A16: 9 | B16: Літинська | C16: 13 | D16: 31 | H16: 6 | I16: 4
A17: 10 | B17: Мурованокуриловецька | C17: 16 | D17: 42 | H17: 9 | I17: 5
A18: 11 | B18: Оратівська | C18: 13 | D18: 23 | H18: 2 | I18: 2
A19: 12 | B19: Піщанська | C19: 7 | D19: 15 | H19: 5 | I19: 3
A20: 13 | B20: Стрижавська | C20: 6 | D20: 9 | H20: 4 | I20: 3
A21: 1 | B21: Сутисківська | C21: 2 | D21: 2 | E21: 1 | H21: 1
A22: 9 | B22: Теплицька | C22: 12 | D22: 26 | H22: 4 | I22: 1
A23: 16 | B23: Тиврівська | C23: 1 | D23: 10 | H23: 1
A24: 17 | B24: Томашпільська | C24: 22 | D24: 51 | H24: 18 | I24: 9
A25: 18 | B25: Тростянецька | C25: 13 | D25: 37 | E25: 1 | H25: 8 | I25: 1
A26: 19 | B26: Турбівська | C26: 8 | D26: 19 | H26: 7 | I26: 2
A27: 20 | B27: Чернівецька | C27: 3 | D27: 6 | H27: 2 | I27: 4
A28: 21 | B28: Чечельницька | C28: 4 | D28: 11 | H28: 1 | I28: 2
A29: 22 | B29: Шпиківська | C29: 8 | D29: 11 | H29: 5 | I29: 1
B30: Всього | C30: =SUM(C8:C29) -> 189 | D30: =SUM(D8:D29) -> 431 | E30: =SUM(E8:E29) -> 4 | F30: =SUM(F8:F29) -> 0 | G30: =SUM(G8:G29) -> 0 | H30: =SUM(H8:H29) -> 117 | I30: =SUM(I8:I29) -> 58

Sheet таб 4і
A1: Продовження таблиці 4
A2: № п/п | B2: Назва ТГ | C2: ОСНАЩЕННЯ БІБЛІОТЕК ТЕХНІЧНИМИМИ ЗАСОБАМИ (розріз сільська територіальна громада)
C3: К-сть б-к, що мають комп'ютери | D3: К-сть комп'ютерів | E3: К-сть комп'ютерів, придбаних у 2025 році | H3: К-сть б-к, що мають копіювально-розмножувальну техніку | I3: К-сть б-к, що мають мультимедійне забезпечення
C4: 2025 | D4: 2025 | E4: за кошти місц. бюджету | F4: проєкти | G4: подарунки | H4: 2025 | I4: 2025
A5: 1 | B5: 2 | C5: 3 | D5: 4 | E5: 5 | F5: 6 | G5: 7 | H5: 8 | I5: 9
A6: 1 | B6: Агрономічна | C6: 4 | D6: 12 | H6: 4 | I6: 4
A7: 2 | B7: Бабчинецька | C7: 4 | D7: 11
A8: 3 | B8: Війтівецька | C8: 3 | D8: 3 | H8: 2 | I8: 1
A9: 4 | B9: Городківська | C9: 4 | D9: 13 | H9: 3 | I9: 1
A10: 5 | B10: Джулинська | C10: 8 | D10: 15 | G10: 2 | H10: 5 | I10: 2
A11: 6 | B11: Джуринська | C11: 2 | D11: 6 | H11: 1 | I11: 2
A12: 7 | B12: Іванівська | C12: 1 | D12: 4 | E12: 1 | H12: 1
A13: 8 | B13: Краснопільська | C13: 6 | D13: 17 | H13: 6 | I13: 6
A14: 9 | B14: Кунківська | C14: 5 | D14: 6 | H14: 4 | I14: 5
A15: 10 | B15: Лука-Мелешківська | C15: 4 | D15: 12 | H15: 4 | I15: 2
A16: 11 | B16: Махнівська | C16: 4 | D16: 9 | H16: 3
A17: 12 | B17: Мурафська | C17: 7 | D17: 9 | H17: 5 | I17: 4
A18: 13 | B18: Ободівська | C18: 3 | D18: 7 | H18: 3
A19: 14 | B19: Ольгопільська | C19: 2 | D19: 5 | E19: 1 | G19: 1 | H19: 1 | I19: 1
A20: 15 | B20: Райгородська | C20: 4 | D20: 9 | H20: 4
A21: 16 | B21: Самгородоцька | C21: 7 | D21: 13 | H21: 5
A22: 17 | B22: Северинівська | C22: 3 | D22: 5
A23: 18 | B23: Соболівська | C23: 2 | D23: 4
A24: 19 | B24: Станіславчицька | C24: 4 | D24: 4 | H24: 1
A25: 20 | B25: Студенянська | C25: 4 | D25: 12 | H25: 2
A26: 21 | B26: Уланівська | C26: 14 | D26: 28 | G26: 1 | H26: 12 | I26: 5
A27: 22 | B27: Якушинецька | C27: 9 | D27: 21 | E27: 4 | H27: 13 | I27: 1
A28: 23 | B28: Яришівська | C28: 8 | D28: 8
B29: Всього | C29: =SUM(C6:C28) -> 112 | D29: =SUM(D6:D28) -> 233 | E29: =SUM(E6:E28) -> 6 | G29: =SUM(G6:G28) -> 4 | H29: =SUM(H6:H28) -> 79 | I29: =SUM(I6:I28) -> 34

Sheet таб 4ї
A1: Продовження таблиці 4
B2: ОСНАЩЕННЯ ЗАСОБАМИ ЗВ'ЯЗКУ (розріз міська територіальна громада)
A3: № п/п | B3: Назва ТГ | C3: Оснащення засобами зв'язку | H3: К-сть транспортних засобів | I3: Оснащення засобами зв'язку в сільській місцевості
C4: К-сть б-к, що мають телефонні номери | D4: К-сть б-к, що мають електронну адресу | E4: Загальна кількість б-к, підключених до мережі Інтернет | F4: К-сть комп’ютерів з доступом до мережі Інтернет
G7: К-сть б-к хабів | I7: К-сть сільських б-к, що мають телефонні номери | J7: К-сть сільських б-к, що мають електронну адресу | K7: Загальна к-сть сільських б-к, підключених до мережі Інтернет | L7: К-сть комп'ютерів з доступом до мережі Інтернет у сільській місцевості | M7: К-сть б-к хабів
C8: 2025 | D8: 2025 | E8: 2025 | F8: 2025 | G8: 2025 | H8: 2025 | I8: 2025 | J8: 2025 | K8: 2025 | L8: 2025 | M8: 2025
A9: 1 | B9: 2 | C9: 3 | D9: 4 | E9: 5 | F9: 6 | G9: 7 | H9: 8 | I9: 9 | J9: 10 | K9: 11 | L9: 12 | M9: 13
A10: 1 | B10: Барська | D10: 16 | E10: 7 | F10: 30 | G10: 7 | H10: 1 | J10: 14 | K10: 5 | L10: 18 | M10: 5
A11: 2 | B11: Бершадська | D11: 24 | E11: 21 | F11: 49 | G11: 12 | J11: 23 | K11: 20 | L11: 33 | M11: 11
A12: 3 | B12: Вінницька | C12: 16 | D12: 23 | E12: 23 | F12: 123 | G12: 23 | H12: 1 | I12: 0 | J12: 6 | K12: 6 | L12: 12 | M12: 6
