Workbook

Sheet таб 1
A1: Таблиця 1
A2: МЕРЕЖА БІБЛІОТЕК СИСТЕМИ
A3: МІНІСТЕРСТВА КУЛЬТУРИ УКРАЇНИ
A4: (в абс. цифрах - розріз міська територіальна громада)
A5: № п/п | B5: Назва ТГ | C5: Кількість б-к | H5: З них за юридичними документами | M5: Пункти видачі 2025 | N5: Кількість населених пунктів, де немає жодної з форм бібліотечного обслуговування | O5: Кількість б-к у сільській місцевості | T5: З них за юридичними документами в сільській місцевості
C7: Всього 2024 | D7: Всього 2025 | E7: Зміни у мережі (+/-) | F7: Не працювали у 2025 | G7: Фактично працюючі | H7: ЦБС, ЦБ з структурними підрозділами | I7: Публічні б-ки з структурними підрозділами | J7: Б-ки-філії публічної бібліотеки | K7: Б-ки-філії в структурі центрів | L7: Самостійні б-ки | O7: Всього 2024 | P7: Всього 2025 | Q7: Зміни в мережі (+/-) | R7: Не працювали у 2025 | S7: Фактично працюючі | T7: Б-ки-філії в структурі ЦБС, ЦБ у сільській місцевості | U7: Структурні підрозділи публічних б-к у сільській місцевості | V7: Б-ки-філії в структурі центрів у сільській місцевості | W7: Самостійні б-ки в сільській місцевості
A8: 1 | B8: 2 | C8: 3 | D8: 4 | E8: 5 | F8: 6 | G8: 7 | H8: 8 | I8: 9 | J8: 10 | K8: 11 | L8: 12 | M8: 13 | N8: 14 | O8: 15 | P8: 16 | Q8: 17 | R8: 18 | S8: 19 | T8: 20 | U8: 21 | V8: 22 | W8: 23
A9: 1 | B9: Барська | C9: 26 | D9: 26 | F9: 10 | G9: 16 | I9: 1 | J9: 1 | L9: 14 | M9: 3 | N9: 44 | O9: 24 | P9: 24 | R9: 10 | S9: 14 | W9: 14
A10: 2 | B10: Бершадська | C10: 24 | D10: 24 | G10: 24 | I10: 1 | J10: 23 | O10: 23 | P10: 23 | S10: 23 | U10: 23
A11: 3 | B11: Вінницька | C11: 24 | D11: 24 | F11: 1 | G11: 23 | H11: 1 | J11: 22 | O11: 6 | P11: 6 | S11: 6 | T11: 6
A12: 4 | B12: Гайсинська | C12: 23 | D12: 23 | G12: 23 | H12: 1 | J12: 22 | O12: 21 | P12: 21 | S12: 21 | T12: 21
A13: 5 | B13: Гніванська | C13: 9 | D13: 9 | G13: 9 | I13: 1 | J13: 8 | O13: 7 | P13: 7 | S13: 7 | U13: 7
A14: 6 | B14: Жмеринська | C14: 20 | D14: 20 | G14: 20 | I14: 1 | J14: 19 | O14: 18 | P14: 18 | S14: 18 | U14: 18
A15: 7 | B15: Іллінецька | C15: 15 | D15: 15 | G15: 15 | I15: 1 | J15: 14 | N15: 16 | O15: 13 | P15: 13 | S15: 13 | U15: 13
A16: 8 | B16: Калинівська | C16: 29 | D16: 29 | F16: 1 | G16: 28 | I16: 1 | J16: 27 | N16: 19 | O16: 27 | P16: 27 | R16: 1 | S16: 27 | U16: 27
A17: 9 | B17: Козятинська | C17: 7 | D17: 7 | G17: 7 | I17: 1 | J17: 6 | O17: 5 | P17: 5 | S17: 5 | U17: 5
A18: 10 | B18: Ладижинська | C18: 3 | D18: 3 | G18: 3 | I18: 1 | J18: 2 | L18: 2 | O18: 2 | P18: 2 | S18: 2 | W18: 2
A19: 11 | B19: Липовецька | C19: 19 | D19: 19 | F19: 1 | G19: 18 | I19: 1 | J19: 17 | N19: 16 | O19: 18 | P19: 18 | R19: 1 | S19: 17 | U19: 17
A20: 12 | B20: Могилів-Поділ. | C20: 20 | D20: 20 | F20: 9 | G20: 11 | I20: 1 | J20: 10 | M20: 1 | N20: 4 | O20: 17 | P20: 17 | R20: 8 | S20: 9 | U20: 9
A21: 25 | B21: Немирівська | C21: 26 | D21: 26 | F21: 3 | G21: 23 | I21: 1 | J21: 22 | N21: 27 | O21: 25 | P21: 25 | R21: 3 | S21: 22 | U21: 22
A22: 14 | B22: Погребищенська | C22: 34 | D22: 25 | E22: -9 | F22: 9 | G22: 25 | I22: 1 | J22: 24 | N22: 18 | O22: 32 | P22: 23 | Q22: -9 | R22: 9 | S22: 23 | U22: 23
A23: 15 | B23: Тульчинська | C23: 27 | D23: 27 | F23: 4 | G23: 23 | I23: 1 | J23: 22 | M23: 1 | N23: 10 | O23: 25 | P23: 24 | R23: 2 | S23: 22 | U23: 22
A24: 16 | B24: Хмільницька | C24: 19 | D24: 19 | G24: 19 | I24: 1 | J24: 18 | M24: 2 | N24: 24 | O24: 18 | P24: 18 | S24: 18 | U24: 18
A25: 17 | B25: Шаргородська | C25: 18 | D25: 18 | F25: 1 | G25: 17 | I25: 1 | J25: 16 | O25: 14 | P25: 14 | S25: 14 | U25: 14
A26: 18 | B26: Ямпільська | C26: 22 | D26: 22 | F26: 1 | G26: 21 | I26: 1 | J26: 20 | N26: 19 | O26: 20 | P26: 20 | R26: 1 | S26: 19 | U26: 19
B27: Всього | C27: =SUM(C9:C26) -> 365 | D27: =SUM(D9:D26) -> 356 | E27: =SUM(E9:E26) -> -9 | F27: =SUM(F9:F26) -> 40 | G27: =SUM(G9:G26) -> 325 | H27: =SUM(H9:H26) -> 2 | I27: =SUM(I9:I26) -> 16 | J27: =SUM(J9:J26) -> 293 | L27: =SUM(L9:L26) -> 16 | M27: =SUM(M9:M26) -> 7 | N27: =SUM(N9:N26) -> 197 | O27: =SUM(O9:O26) -> 315 | P27: =SUM(P9:P26) -> 305 | Q27: =SUM(Q9:Q26) -> -9 | R27: =SUM(R9:R26) -> 35 | S27: =SUM(S9:S26) -> 280 | ... W27: =SUM(W9:W26) -> 16
A28: 19 | B28: Обласні бібліотеки | C28: 2 | D28: 2 | G28: 2
B29: Всього | C29: =SUM(C27:C28) -> 367 | D29: =SUM(D27:D28) -> 358 | E29: =SUM(E27:E28) -> -9 | F29: =SUM(F27:F28) -> 40 | G29: =SUM(G27:G28) -> 327 | H29: =SUM(H27:H28) -> 2 | I29: =SUM(I27:I28) -> 16 | J29: =SUM(J27:J28) -> 293 | L29: =SUM(L27:L28) -> 16 | M29: =SUM(M27:M28) -> 7 | N29: =SUM(N27:N28) -> 197 | O29: =SUM(O27:O28) -> 315 | P29: =SUM(P27:P28) -> 305 | Q29: =SUM(Q27:Q28) -> -9 | R29: =SUM(R27:R28) -> 35 | S29: =SUM(S27:S28) -> 280 | ... W29: =SUM(W27:W28) -> 16

Sheet таб 1а
A1: Таблиця 1
A2: МЕРЕЖА БІБЛІОТЕК СИСТЕМИ
A3: МІНІСТЕРСТВА КУЛЬТУРИ УКРАЇНИ
A4: (в абс. цифрах - розріз селищна територіальна громада)
A5: № п/п | B5: Назва ТГ | C5: Кількість б-к | H5: З них за юридичними документами | M5: Пункти видачі 2025 | N5: Кількість населених пунктів, де немає жодної з форм бібліотечного обслуговування
C7: Всього 2024 | D7: Всього 2025 | E7: Зміни у мережі (+/-) | F7: Не працювали у 2025 | G7: Фактично працюючі | H7: ЦБС, ЦБ з структурними підрозділами | I7: Публічні б-ки з структурними підрозділами | J7: Б-ки-філії публічних б-к | K7: Б-ки-філії в структурі центрів | L7: Самостійні б-ки
A8: 1 | B8: 2 | C8: 3 | D8: 4 | E8: 5 | F8: 6 | G8: 7 | H8: 8 | I8: 9 | J8: 10 | K8: 11 | L8: 12 | M8: 13 | N8: 14
A9: 1 | B9: Брацлавська | C9: 9 | D9: 9 | G9: 9 | I9: 1 | J9: 8 | N9: 10
A10: 2 | B10: Вапнярська | C10: 6 | D10: 6 | F10: 1 | G10: 5 | I10: 1 | J10: 4
A11: 3 | B11: Вендичанська | C11: 11 | D11: 11 | G11: 11 | I11: 1 | J11: 10 | N11: 14
A12: 4 | B12: Вороновицька | C12: 12 | D12: 12 | F12: 4 | G12: 8 | I12: 1 | J12: 7
A13: 5 | B13: Глуховецька | C13: 10 | D13: 10 | G13: 10 | I13: 1 | J13: 9
A14: 6 | B14: Дашівська | C14: 13 | D14: 13 | F14: 3 | G14: 10 | I14: 1 | J14: 9 | N14: 9
A15: 7 | B15: Копайгородська | C15: 12 | D15: 12 | F15: 6 | G15: 6 | L15: 6
A16: 8 | B16: Крижопільська | C16: 16 | D16: 16 | G16: 16 | I16: 1 | J16: 15
A17: 9 | B17: Літинська | C17: 20 | D17: 20 | F17: 4 | G17: 16 | I17: 1 | J17: 15 | N17: 11
A18: 10 | B18: Мурованокуриловецька | C18: 18 | D18: 18 | G18: 18 | I18: 1 | J18: 17 | M18: 6
A19: 11 | B19: Оратівська | C19: 26 | D19: 26 | F19: 8 | G19: 18 | I19: 1 | J19: 17
A20: 12 | B20: Піщанська | C20: 12 | D20: 12 | G20: 12 | I20: 1 | J20: 11
A21: 13 | B21: Стрижавська | C21: 8 | D21: 8 | F21: 2 | G21: 6 | K21: 6 | N21: 4
A22: 14 | B22: Сутисківська | C22: 2 | D22: 2 | G22: 2 | K22: 2
A23: 15 | B23: Теплицька | C23: 19 | D23: 19 | G23: 19 | K23: 19
A24: 16 | B24: Тиврівська | C24: 8 | D24: 8 | G24: 8 | K24: 8 | N24: 19
A25: 17 | B25: Томашпільська | C25: 22 | D25: 23 | F25: 1 | G25: 22 | I25: 1 | J25: 21
A26: 18 | B26: Тростянецька | C26: 14 | D26: 14 | G26: 14 | I26: 1 | J26: 13 | M26: 8 | N26: 5
A27: 19 | B27: Турбівська | C27: 15 | D27: 15 | F27: 1 | G27: 14 | K27: 14
A28: 20 | B28: Чернівецька | C28: 11 | D28: 11 | F28: 3 | G28: 8 | I28: 1 | J28: 7 | N28: 22
A29: 21 | B29: Чечельницька | C29: 12 | D29: 12 | F29: 3 | G29: 9 | I29: 1 | J29: 8 | N29: 5
A30: 22 | B30: Шпиківська | C30: 14 | D30: 14 | G30: 14 | I30: 1 | J30: 13 | M30: 2 | N30: 13
B31: Всього | C31: =SUM(C9:C30) -> 290 | D31: =SUM(D9:D30) -> 291 | E31: =SUM(E9:E30) -> 0 | F31: =SUM(F9:F30) -> 36 | G31: =SUM(G9:G30) -> 255 | I31: =SUM(I9:I30) -> 16 | J31: =SUM(J9:J30) -> 184 | K31: =SUM(K9:K30) -> 49 | L31: 6 | M31: =SUM(M9:M30) -> 16 | N31: =SUM(N9:N30) -> 112

Sheet таб 1б 
A1: Таблиця 1
A2: МЕРЕЖА БІБЛІОТЕК СИСТЕМИ
A3: МІНІСТЕРСТВА КУЛЬТУРИ ТА ІНФОРМАЦІЙНОЇ ПОЛІТИКИ УКРАЇНИ
A4: (в абс. цифрах - розріз сільська територіальна громада)
A5: № п/п | B5: Назва ТГ | C5: Кількість б-к | H5: З них за юридичними документами | M5: Пункти видачі 2025 | N5: Кількість населених пунктів, де немає жодної з форм бібліотечного обслуговування
C7: Всього 2024 | D7: Всього 2025 | E7: Зміни у мережі (+/-) | F7: Не працювали у 2025 | G7: Фактично працюючі | H7: ЦБС, центральні б-ки з структурними підрозділами | I7: Публічні б-ки з структурними підрозділами | J7: Б-ка-філія публічної бібліотеки | K7: Б-ки-філії в структурі центрів | L7: Самостійні б-ки
A8: 1 | B8: 2 | C8: 3 | D8: 4 | E8: 5 | F8: 6 | G8: 7 | H8: 8 | I8: 9 | J8: 10 | K8: 11 | L8: 12 | M8: 13 | N8: 14
A9: 1 | B9: Агрономічна | C9: 4 | D9: 4 | G9: 4 | K9: 4
A10: 2 | B10: Бабчинецька | C10: 7 | D10: 7 | F10: 2 | G10: 5 | I10: 1 | J10: 4 | N10: 7
A11: 3 | B11: Війтівецька | C11: 4 | D11: 4 | G11: 4 | I11: 1 | J11: 3
A12: 4 | B12: Городківська | C12: 9 | D12: 9 | F12: 1 | G12: 8 | I12: 1 | J12: 7 | M12: 2
A13: 5 | B13: Джулинська | C13: 13 | D13: 13 | G13: 13 | I13: 1 | J13: 12 | N13: 3
A14: 6 | B14: Джуринська | C14: 12 | D14: 12 | F14: 2 | G14: 10 | I14: 1 | J14: 9 | N14: 2
A15: 7 | B15: Іванівська | C15: 12 | D15: 12 | G15: 12 | I15: 1 | J15: 11 | N15: 3
A16: 8 | B16: Краснопільська | C16: 8 | D16: 8 | F16: 1 | G16: 7 | I16: 1 | J16: 6
A17: 9 | B17: Кунківська | C17: 6 | D17: 6 | G17: 6 | I17: 1 | J17: 5 | N17: 5
A18: 10 | B18: Лука-Мелешківська | C18: 4 | D18: 4 | G18: 4 | L18: 4 | N18: 9
A19: 11 | B19: Махнівська | C19: 9 | D19: 9 | G19: 9 | I19: 1 | J19: 8 | N19: 12
A20: 12 | B20: Мурафська | C20: 7 | D20: 7 | G20: 7 | I20: 1 | J20: 6
A21: 13 | B21: Ободівська | C21: 9 | D21: 9 | F21: 3 | G21: 6 | I21: 1 | J21: 5 | N21: 3
A22: 6 | B22: Ольгопільська | C22: 5 | D22: 5 | F22: 2 | G22: 3 | I22: 1 | J22: 2
A23: 15 | B23: Райгородська | C23: 10 | D23: 10 | G23: 10 | I23: 1 | J23: 9 | N23: 10
A24: 16 | B24: Самгородоцька | C24: 10 | D24: 10 | G24: 10 | I24: 1 | J24: 9 | N24: 10
A25: 17 | B25: Северинівська | C25: 9 | D25: 9 | F25: 5 | G25: 4 | K25: 4
A26: 18 | B26: Соболівська | C26: 9 | D26: 9 | G26: 9 | I26: 1 | J26: 8
A27: 19 | B27: Станіславчицька | C27: 10 | D27: 10 | F27: 4 | G27: 6 | K27: 6
A28: 20 | B28: Студенянська | C28: 6 | D28: 6 | G28: 6 | I28: 1 | J28: 5
A29: 21 | B29: Уланівська | C29: 20 | D29: 20 | F29: 1 | G29: 19 | I29: 1 | J29: 18 | M29: 5 | N29: 11
A30: 22 | B30: Якушинецька | C30: 9 | D30: 9 | G30: 9 | I30: 1 | J30: 8
A31: 23 | B31: Яришівська | C31: 10 | D31: 10 | F31: 1 | G31: 9 | L31: 9
B32: Всього | C32: =SUM(C9:C31) -> 202 | D32: =SUM(D9:D31) -> 202 | F32: =SUM(F9:F31) -> 22 | G32: =SUM(G9:G31) -> 180 | I32: =SUM(I9:I31) -> 18 | J32: =SUM(J9:J31) -> 135 | K32: 14 | L32: 13 | M32: =SUM(M9:M31) -> 7 | N32: =SUM(N9:N31) -> 75

Sheet таб 2 
A1: Таблиця 2
A2: СПЕЦІАЛІЗОВАНА МЕРЕЖА БІБЛІОТЕЧНОГО ОБСЛУГОВУВАННЯ ДІТЕЙ
A3: (розріз міська територіальна громада)
A4: № п/п | B4: Назва ТГ | C4: Дитячі б-ки | D4: Відділ, сектор | E4: Абонемент
A7: 1 | B7: 2 | C7: 3 | D7: 4 | E7: 5
A8: 1 | B8: Барська | C8: 1
A9: 2 | B9: Бершадська | D9: 1
A10: 3 | B10: Вінницька | C10: 1 | D10: 2 | E10: 21
A11: 4 | B11: Гайсинська | C11: 1
A12: 5 | B12: Гніванська
A13: 6 | B13: Жмеринська | C13: 1 | D13: 1
A14: 7 | B14: Іллінецька | C14: 1
A15: 8 | B15: Калинівська | C15: 2
A16: 9 | B16: Козятинська | C16: 1
A17: 10 | B17: Ладижинська | D17: 1
A18: 11 | B18: Липовецька | D18: 1
A19: 12 | B19: Могилів-Подільська
A20: 13 | B20: Немирівська | D20: 1
A21: 14 | B21: Погребищенська | C21: 1
A22: 15 | B22: Тульчинська | E22: 1
A23: 16 | B23: Хмільницька | D23: 1
A24: 17 | B24: Шаргородська | C24: 1
A25: 18 | B25: Ямпільська | C25: 1
B26: Всього | C26: =SUM(C8:C25) -> 11 | D26: =SUM(D8:D25) -> 8 | E26: =SUM(E8:E25) -> 22
A27: 19 | B27: Обласні бібліотеки | C27: 1
B28: Всього | C28: =SUM(C26:C27) -> 12 | D28: =SUM(D26:D27) -> 8 | E28: =SUM(E26:E27) -> 22

Sheet таб 2а
A1: Продовження таблиці 2
A2: СПЕЦІАЛІЗОВАНА МЕРЕЖА БІБЛІОТЕЧНОГО ОБСЛУГОВУВАННЯ ДІТЕЙ
A3: (розріз селищна територіальна громада)
A4: № п/п | B4: Назва ТГ | C4: Дитячі б-ки | D4: Відділ, сектор | E4: Абонемент
A7: 1 | B7: 2 | C7: 3 | D7: 4 | E7: 5
A8: 1 | B8: Брацлавська | D8: 1
A9: 2 | B9: Вапнярська | D9: 1
A10: 3 | B10: Вендичанська
A11: 4 | B11: Вороновицька | E11: 1
A12: 5 | B12: Глуховецька | E12: 1
A13: 6 | B13: Джурнська | C13: 1
A14: 7 | B14: Дашівська
A15: 8 | B15: Копайгородська
A16: 9 | B16: Крижопільська | C16: 1
A17: 10 | B17: Літинська | D17: 1
A18: 11 | B18: Мурованокуриловецька | D18: 1
A19: 12 | B19: Оратівська | D19: 1
A20: 13 | B20: Піщанська | C20: 1
A21: 14 | B21: Стрижавська
A22: 15 | B22: Сутисківська
A23: 16 | B23: Теплицька | C23: 1
A24: 17 | B24: Тиврівська | E24: 1
A25: 18 | B25: Томашпільська | C25: 1
A26: 19 | B26: Тростянецька | D26: 1
A27: 20 | B27: Турбівська | C27: 1
A28: 21 | B28: Чернівецька | C28: 1
A29: 22 | B29: Чечельницька | D29: 1
A30: 23 | B30: Шпиківська
B31: Всього | C31: =SUM(C8:C30) -> 7 | D31: =SUM(D8:D30) -> 7 | E31: =SUM(E8:E30) -> 3

Sheet таб 2б
A1: Прлодовження таблиці 2
A2: СТРУКТУРНІ ПІДРОЗДІЛИ З ОБСЛУГОВУВАННЯ ЮНАЦТВА
A4: (розріз міська територіальна громада)
A5: № п/п | B5: Назва ТГ | C5: Відділи | D5: Сектори | E5: Кафедри | F5: В сільській місцевості
F6: Відділи | G6: Сектори | H6: Кафедри
C7: 2025 | D7: 2025 | E7: 2025 | F7: 2025 | G7: 2025 | H7: 2025
A8: 1 | B8: 2 | C8: 3 | D8: 4 | E8: 5 | F8: 6 | G8: 7 | H8: 8
A9: 1 | B9: Барська | D9: 1
A10: 2 | B10: Бершадська | D10: 1
A11: 3 | B11: Вінницька | D11: 22
A12: 4 | B12: Гайсинська | C12: 1
A13: 5 | B13: Гніванська | C13: 1
A14: 6 | B14: Жмеринська
A15: 7 | B15: Іллінецька
A16: 8 | B16: Калинівська | D16: 1
A17: 9 | B17: Козятинська | E17: 1
A18: 10 | B18: Ладижинська
A19: 11 | B19: Липовецька | E19: 1
A20: 12 | B20: Могилів-Подільська
A21: 13 | B21: Немирівська | E21: 1
A22: 14 | B22: Погребищенська | E22: 1
A23: 15 | B23: Тульчинська | D23: 1
A24: 16 | B24: Хмільницька | D24: 1
A25: 17 | B25: Шаргородська | E25: 1
A26: 18 | B26: Ямпільська | E26: 1
B27: Всього | C27: =SUM(C9:C26) -> 2 | D27: =SUM(D9:D26) -> 27 | E27: =SUM(E9:E26) -> 6 | F27: =SUM(F9:F26) -> 0 | G27: =SUM(G9:G26) -> 0 | H27: =SUM(H9:H26) -> 0
A28: 19 | B28: ВОУНБ ім. В. Отамановського
A29: 20 | B29: ВОБДіЮ ім. І. Франка
B30: Всього | C30: =SUM(C27:C29) -> 2 | D30: =SUM(D27:D29) -> 27 | E30: =SUM(E27:E29) -> 6 | F30: =SUM(F27:F29) -> 0 | G30: =SUM(G27:G29) -> 0 | H30: =SUM(H27:H29) -> 0

Sheet таб 2в
A1: Продовження таблиці 2
A2: СТРУКТУРНІ ПІДРОЗДІЛИ З ОБСЛУГОВУВАННЯ ЮНАЦТВА
A4: (розріз селищна територіальна громада)
A5: № п/п | B5: Назва ТГ | C5: Відділи | D5: Сектори | E5: Кафедри | F5: В сільській місцевості
F6: Відділи | G6: Сектори | H6: Кафедри
C7: 2025 | D7: 2025 | E7: 2025 | F7: 2025 | G7: 2025 | H7: 2025
A8: 1 | B8: 2 | C8: 3 | D8: 4 | E8: 5 | F8: 6 | G8: 7 | H8: 8
A9: 1 | B9: Брацлавська
A10: 2 | B10: Вапнярська
A11: 3 | B11: Вендичанська | E11: 1
A12: 4 | B12: Вороновицька
A13: 5 | B13: Глуховецька
A14: 6 | B14: Дашівська
A15: 7 | B15: Копайгородська
A16: 8 | B16: Крижопільська | E16: 1
A17: 9 | B17: Літинська | E17: 1
A18: 10 | B18: Мурованокуриловецька
A19: 11 | B19: Оратівська
A20: 12 | B20: Піщанська | E20: 1
A21: 13 | B21: Стрижавська
A22: 14 | B22: Сутисківська
A23: 15 | B23: Теплицька | E23: 1
A24: 16 | B24: Тиврівська
A25: 17 | B25: Томашпільська
A26: 18 | B26: Тростянецька | E26: 1
A27: 19 | B27: Турбівська
A28: 20 | B28: Чернівецька
A29: 21 | B29: Чечельницька
A30: 22 | B30: Шпиківська
B31: Всього | C31: =SUM(C9:C30) -> 0 | D31: =SUM(D9:D30) -> 0 | E31: =SUM(E9:E30) -> 6 | F31: =SUM(F9:F30) -> 0 | G31: =SUM(G9:G30) -> 0 | H31: =SUM(H9:H30) -> 0

Sheet таб 3
A1: Таблиця 3
A2: ТРИВАЛІСТЬ РОБОТИ БІБЛІОТЕК (розріз міська територіальна громада)
A3: № п/п | B3: Назва ТГ | C3: Кількість б-к всього (діючі) | D3: Тривалість робочого тижня б-к | P3: Кількість б-к у сільській місцевості (діючі) | Q3: Тривалість робочого тижня б-к у сільській місцевості
D4: Більше 40 годин | E4: % | F4: 40 годин | G4: % | H4: Від 20 до 40 годин | I4: % | J4: Від 16 до 20 годин | K4: % | L4: Менше 16 годин | M4: % | N4: У тому числі у суботу та/або неділю | O4: % | Q4: Бльше 40 годин | R4: % | S4: 40 годин | T4: % | U4: Від 20 до 40 годин | V4: % | W4: Від 16 до 20 годин | X4: % | Y4: Менше 16 годин | Z4: % | AA4: У тому числі у суботу та/або неділю | AB4: %
A5: 1 | B5: 2 | C5: 3 | D5: 4 | E5: 5 | F5: 6 | G5: 7 | H5: 8 | I5: 9 | J5: 10 | K5: 11 | L5: 12 | M5: 13 | N5: 14 | O5: 15 | P5: 16 | Q5: 17 | R5: 18 | S5: 19 | T5: 20 | U5: 21 | V5: 22 | W5: 23 | X5: 24 | Y5: 25 | Z5: 26 | AA5: 27 | AB5: 28
A6: 1 | B6: Барська | C6: 16 | D6: 2 | E6: 12 | F6: 3 | G6: 19 | H6: 2 | I6: 12 | J6: 9 | K6: 57 | N6: 16 | O6: 100 | P6: 14 | S6: 3 | T6: 21 | U6: 2 | V6: 14 | W6: 9 | X6: 65 | AA6: 14 | AB6: 100
A7: 2 | B7: Бершадська | C7: 24 | D7: 1 | E7: 4 | F7: 13 | G7: 54 | H7: 3 | I7: 13 | J7: 6 | K7: 25 | L7: 1 | M7: 4 | N7: 20 | O7: 0.83 | P7: 23 | S7: 13 | T7: 57 | U7: 3 | V7: 13 | W7: 6 | X7: 26 | Y7: 1 | Z7: 4 | AA7: 19 | AB7: 83
A8: 3 | B8: Вінницька | C8: 23 | D8: 15 | E8: 65 | F8: 8 | G8: 35 | N8: 17 | O8: 74 | P8: 6 | Q8: 1 | R8: 17 | S8: 5 | T8: 83 | AA8: 1 | AB8: 17
A9: 4 | B9: Гайсинська | C9: 23 | D9: 2 | E9: 9 | F9: 18 | G9: 78 | H9: 3 | I9: 13 | N9: 23 | O9: 100 | P9: 21 | S9: 18 | T9: 86 | U9: 3 | V9: 14 | AA9: 21 | AB9: 100
A10: 5 | B10: Гніванська | C10: 7 | F10: 6 | G10: 86 | H10: 1 | I10: 14 | P10: 7 | S10: 4 | T10: 57 | U10: 1 | V10: 14 | W10: 2 | X10: 29
A11: 6 | B11: Жмеринська | C11: 20 | D11: 1 | E11: 5 | F11: 2 | G11: 10 | H11: 16 | I11: 80 | L11: 1 | M11: 5 | N11: 18 | O11: 90 | P11: 18 | S11: 1 | T11: 5.5 | U11: 16 | V11: 89 | Y11: 1 | Z11: 5.5 | AA11: 16 | AB11: 89
A12: 7 | B12: Іллінецька | C12: 15 | D12: 2 | E12: 13 | F12: 6 | G12: 40 | H12: 7 | I12: 47 | P12: 13 | S12: 6 | T12: 46 | U12: 7 | V12: 54
A13: 8 | B13: Калинівська | C13: 28 | F13: 19 | G13: 68 | H13: 1 | I13: 3.57 | J13: 8 | K13: 29 | P13: 27 | S13: 18 | T13: 67 | U13: 1 | V13: 4 | W13: 8 | X13: 31
A14: 9 | B14: Козятинська | C14: 7 | F14: 4 | G14: 57 | H14: 3 | I14: 43 | N14: 6 | P14: 5 | S14: 2 | T14: 40 | U14: 3 | V14: 60 | AA14: 4
A15: 10 | B15: Ладижинська | C15: 3 | D15: 1 | E15: 33 | F15: 2 | G15: 67 | N15: 1 | O15: 33 | P15: 2 | S15: 2 | T15: 100
A16: 11 | B16: Липовецька | C16: 18 | D16: 1 | E16: 6 | F16: 1 | G16: 6 | J16: 11 | K16: 61 | L16: 5 | M16: 28 | N16: 1 | O16: 6 | P16: 17 | S16: 1 | T16: 6 | W16: 11 | X16: 65 | Y16: 5 | Z16: 29
A17: 12 | B17: Могилів-Подільська | C17: 11 | F17: 4 | G17: 36 | H17: 4 | I17: 36 | J17: 2 | K17: 18 | L17: 1 | M17: 9 | P17: 9 | S17: 2 | T17: 22 | U17: 3 | V17: 33 | W17: 3 | X17: 33 | Y17: 1 | Z17: 11
A18: 13 | B18: Немирівська | C18: 23 | D18: 1 | E18: 4 | F18: 6 | G18: 26 | H18: 10 | I18: 44 | J18: 6 | K18: 26 | P18: 22 | S18: 6 | T18: 27 | U18: 10 | V18: 45 | W18: 6 | X18: 27
A19: 14 | B19: Погребищенська | C19: 25 | D19: 2 | E19: 8 | F19: 3 | G19: 12 | H19: 20 | I19: 80 | N19: 24 | O19: 96 | P19: 23 | S19: 3 | T19: 13 | U19: 20 | V19: 87 | AA19: 22 | AB19: 99
A20: 15 | B20: Тульчинська | C20: 23 | D20: 1 | E20: 4 | H20: 22 | I20: 96 | P20: 22 | U20: 22 | V20: 100
A21: 16 | B21: Хмільницька | C21: 19 | F21: 19 | G21: 100 | N21: 19 | O21: 100 | P21: 18 | S21: 18 | T21: 100 | AA21: 18
A22: 17 | B22: Шаргородська | C22: 17 | D22: 2 | E22: 11.8 | F22: 11 | G22: 64.7 | H22: 3 | I22: 17.6 | L22: 1 | M22: 6 | N22: 2 | O22: 11.8 | P22: 14 | S22: 11 | T22: 78.6 | U22: 3 | V22: 21 | AA22: 14 | AB22: 100
A23: 18 | B23: Ямпільська | C23: 21 | D23: 1 | E23: 5 | F23: 6 | G23: 29 | H23: 6 | I23: 29 | J23: 7 | K23: 33 | L23: 1 | M23: 5 | N23: 19 | O23: 91 | P23: 19 | S23: 5 | T23: 26 | U23: 6 | V23: 32 | W23: 7 | X23: 37 | Y23: 1 | Z23: 5 | AA23: 19 | AB23: 100
A24: 19 | B24: Обл. бібліотеки | C24: 2 | D24: 2 | E24: 100 | N24: 2 | O24: 100
B25: Вього | C25: =SUM(C6:C24) -> 325 | D25: =SUM(D6:D24) -> 34 | E25: 10 | F25: =SUM(F6:F24) -> 131 | G25: 40 | H25: =SUM(H6:H24) -> 101 | I25: 31 | J25: =SUM(J6:J24) -> 49 | K25: 15 | L25: =SUM(L6:L24) -> 10 | M25: 3 | N25: =SUM(N6:N24) -> 168 | O25: 52 | P25: =SUM(P6:P24) -> 280 | Q25: 1 | R25: 0.4 | S25: =SUM(S6:S24) -> 118 | T25: 42 | U25: =SUM(U6:U24) -> 100 | V25: 36 | W25: =SUM(W6:W24) -> 52 | X25: 19 | Y25: =SUM(Y6:Y24) -> 9 | Z25: 3 | AA25: =SUM(AA6:AA24) -> 148 | AB25: 53

Sheet таб 3а
A1: Продовження таблиці 3
A2: ТРИВАЛІСТЬ РОБОТИ БІБЛІОТЕК (розріз селищна територіальна громада)
A3: № п/п | B3: Назва ТГ | C3: Кількість б-к всього (діючі) | D3: Тривалість робочого тижня б-к
D4: Більше 40 годин | E4: % | F4: 40 годин | G4: % | H4: Від 20 до 40 годин | I4: % | J4: Від 16 до 20 годин | K4: % | L4: Менше 16 годин | M4: % | N4: У тому числі у суботу та/або неділю | O4: %
A5: 1 | B5: 2 | C5: 3 | D5: 4 | E5: 5 | F5: 6 | G5: 7 | H5: 8 | I5: 9 | J5: 10 | K5: 11 | L5: 12 | M5: 13 | N5: 14 | O5: 15
A6: 1 | B6: Брацлавська | C6: 9 | F6: 2 | G6: 22 | H6: 3 | I6: 33 | J6: 4 | K6: 44 | N6: 6 | O6: 67
A7: 2 | B7: Вапнярська | C7: 5 | F7: 2 | G7: 100 | J7: 3 | K7: 50
A8: 3 | B8: Вендичанська | C8: 11 | F8: 2 | G8: 18 | J8: 9 | K8: 82
A9: 4 | B9: Вороновицька | C9: 8 | D9: 1 | E9: 13 | F9: 2 | G9: 25 | H9: 2 | I9: 25 | J9: 2 | K9: 25 | L9: 1 | M9: 13 | N9: 1 | O9: 12.5
A10: 5 | B10: Глуховецька | C10: 10 | F10: 5 | G10: 50 | H10: 5 | I10: 50 | N10: 7 | O10: 70
A11: 6 | B11: Дашівська | C11: 10 | D11: 1 | E11: 10 | H11: 1 | I11: 10 | J11: 5 | K11: 50 | L11: 3 | M11: 30 | N11: 10 | O11: 100
A12: 7 | B12: Копайгородська | C12: 6 | F12: 3 | G12: 50 | H12: 1 | I12: 17 | J12: 1 | K12: 17 | L12: 1 | M12: 17
A13: 8 | B13: Крижопільська | C13: 16 | D13: 2 | E13: 13 | H13: 12 | I13: 75 | L13: 2 | M13: 13 | N13: 16 | O13: 100
A14: 9 | B14: Літинська | C14: 16 | D14: 1 | E14: 6 | F14: 5 | G14: 31 | H14: 10 | I14: 63 | N14: 7 | O14: 44
A15: 10 | B15: Мурованокуриловецька | C15: 18 | D15: 1 | E15: 6 | F15: 7 | G15: 39 | H15: 10 | I15: 56 | N15: 18 | O15: 100
A16: 11 | B16: Оратівська | C16: 18 | F16: 1 | G16: 6 | H16: 17 | I16: 94 | N16: 17 | O16: 94
A17: 12 | B17: Піщанська | C17: 12 | F17: 6 | G17: 50 | J17: 2 | K17: 17 | L17: 4 | M17: 33 | N17: 10 | O17: 83.3
A18: 13 | B18: Стрижавська | C18: 6 | F18: 5 | G18: 83 | H18: 1 | I18: 17 | N18: 1 | O18: 17
A19: 14 | B19: Сутисківська | C19: 2 | F19: 1 | G19: 50 | H19: 1 | I19: 50 | N19: 2 | O19: 100
A20: 15 | B20: Теплицька | C20: 19 | F20: 3 | G20: 15 | H20: 2 | I20: 11 | J20: 6 | K20: 32 | L20: 8 | M20: 42 | N20: 17 | O20: 89
A21: 16 | B21: Тиврівська | C21: 8 | F21: 3 | G21: 38 | H21: 5 | I21: 62
A22: 17 | B22: Томашпільська | C22: 22 | F22: 10 | G22: 45 | H22: 4 | I22: 18 | J22: 6 | K22: 27 | L22: 2 | M22: 9
A23: 18 | B23: Тростянецька | C23: 14 | D23: 1 | E23: 7.1 | F23: 6 | G23: 43 | H23: 7 | I23: 50 | N23: 1 | O23: 7
A24: 19 | B24: Турбівська | C24: 14 | F24: 3 | G24: 21 | H24: 9 | I24: 65 | L24: 2 | M24: 14
A25: 20 | B25: Чернівецька | C25: 8 | F25: 8 | G25: 100 | N25: 8 | O25: 100
A26: 21 | B26: Чечельницька | C26: 9 | D26: 1 | E26: 11 | H26: 7 | I26: 77 | J26: 1 | K26: 11 | N26: 7 | O26: 77
A27: 22 | B27: Шпиківська | C27: 14 | F27: 5 | G27: 36 | H27: 5 | I27: 36 | J27: 4 | K27: 29 | N27: 14 | O27: 100
B28: Всього | C28: =SUM(C6:C27) -> 255 | D28: =SUM(D6:D27) -> 8 | E28: 3 | F28: =SUM(F6:F27) -> 79 | G28: 31 | H28: =SUM(H6:H27) -> 102 | I28: 40 | J28: =SUM(J6:J27) -> 43 | K28: 17 | L28: =SUM(L6:L27) -> 23 | M28: 9 | N28: =SUM(N6:N27) -> 142 | O28: 56

Sheet таб 3б
A1: Продовження таблиці 3
A2: ТРИВАЛІСТЬ РОБОТИ БІБЛІОТЕК (розріз сільська територіальна громада)
A3: № п/п | B3: Назва ТГ | C3: Кількість б-к всього (діючі) | D3: Тривалість робочого тижня б-к
D4: Більше 40 годин | E4: % | F4: 40 годин | G4: % | H4: Від 20 до 40 годин | I4: % | J4: Від 16 до 20 годин | K4: % | L4: Менше 16 годин | M4: % | N4: У тому числі у суботу та/або неділю | O4: %
A5: 1 | B5: 2 | C5: 3 | D5: 4 | E5: 5 | F5: 6 | G5: 7 | H5: 8 | I5: 9 | J5: 10 | K5: 11 | L5: 12 | M5: 13 | N5: 14 | O5: 15
A6: 1 | B6: Агрономічна | C6: 4 | F6: 3 | G6: 75 | J6: 1 | K6: 25
A7: 2 | B7: Бабчинецька | C7: 5 | F7: 1 | G7: 20 | J7: 4 | K7: 80
A8: 3 | B8: Війтівецька | C8: 4 | F8: 3 | G8: 75 | H8: 1 | I8: 25
A9: 4 | B9: Городківська | C9: 8 | F9: 1 | H9: 4 | J9: 3 | N9: 8
A10: 5 | B10: Джулинська | C10: 13 | F10: 3 | G10: 23 | H10: 10 | I10: 77 | N10: 13 | O10: 100
A11: 6 | B11: Джуринська | C11: 10 | F11: 7 | G11: 70 | H11: 2 | I11: 20 | J11: 1 | K11: 10
A12: 7 | B12: Іванівська | C12: 12 | F12: 3 | G12: 25 | H12: 3 | I12: 25 | J12: 6 | K12: 50
A13: 8 | B13: Краснопільська | C13: 7 | F13: 1 | L13: 6
A14: 9 | B14: Кунківська | C14: 6 | F14: 5 | G14: 83 | J14: 1 | K14: 17 | N14: 5 | O14: 85
A15: 10 | B15: Лука-Мелешківська | C15: 4 | F15: 4 | G15: 100
A16: 11 | B16: Махнівська | C16: 9 | F16: 1 | G16: 11 | H16: 1 | I16: 11 | J16: 7 | K16: 76 | N16: 7 | O16: 78
A17: 12 | B17: Мурафська | C17: 7 | F17: 7 | G17: 100
A18: 13 | B18: Ободівська | C18: 6 | F18: 3 | G18: 50 | H18: 3 | I18: 50 | N18: 3 | O18: 50
A19: 14 | B19: Ольгопільська | C19: 3 | D19: 1 | E19: 33 | J19: 2 | K19: 67
A20: 15 | B20: Райгородська | C20: 10 | F20: 3 | G20: 38 | H20: 1 | I20: 12 | J20: 6 | K20: 60 | N20: 8 | O20: 100
A21: 16 | B21: Самгородоцька | C21: 10 | F21: 3 | G21: 30 | H21: 7 | I21: 70 | N21: 3 | O21: 30
A22: 17 | B22: Северинівська | C22: 4 | F22: 4 | G22: 100 | N22: 4 | O22: 100
A23: 18 | B23: Соболівська | C23: 9 | F23: 1 | G23: 11 | H23: 7 | I23: 78 | L23: 1 | M23: 11 | N23: 9 | O23: 100
A24: 19 | B24: Станіславчицька | C24: 6 | F24: 1 | G24: 17 | H24: 5 | I24: 83
A25: 20 | B25: Студенянська | C25: 6 | F25: 4 | G25: 67 | J25: 1 | K25: 16 | L25: 1 | M25: 16 | N25: 5 | O25: 83
A26: 21 | B26: Уланівська | C26: 19 | F26: 8 | G26: 50 | H26: 7 | I26: 30 | J26: 4 | K26: 20 | N26: 17 | O26: 90
A27: 22 | B27: Якушинецька | C27: 9 | D27: 1 | E27: 11 | F27: 4 | G27: 45 | H27: 3 | I27: 33 | L27: 1 | M27: 11 | N27: 1 | O27: 11
A28: 23 | B28: Яришівська | C28: 9 | H28: 9 | I28: 100
B29: Всього | C29: =SUM(C6:C28) -> 180 | D29: 2 | E29: 1 | F29: =SUM(F6:F28) -> 70 | G29: 39 | H29: =SUM(H6:H28) -> 63 | I29: 35 | J29: =SUM(J6:J28) -> 36 | K29: 20 | L29: =SUM(L6:L28) -> 9 | M29: 5 | N29: =SUM(N6:N28) -> 83 | O29: 46

Sheet таб 4
A1: Таблиця 4
A2: МАТЕРІАЛЬНО-ТЕХНІЧНА БАЗА ПУБЛІЧНИХ БІБЛІОТЕК СИСТЕМИ МІНІСТЕРСТВА КУЛЬТУРИ УКРАЇНИ (розріз міська територіальна громада) згідно форми 6-НК розділ ІІ
A3: № п/п | B3: Назва ТГ | C3: Характерстика приміщень б-к | F3: Характеристика приміщень б-к у сільській місцевості
C4: загальна площа (кв.м.) | D4: кількість посадкових місць для користувачів | E4: площа приміщень для соціокультурної діяльності, в тому числі для проведення заходів з особистісного розвитку (кв. м.) | F4: загальна площа в сільській місцевості (кв.м.) | G4: кількість посадкових місць для користувачів | H4: площа приміщень для соціокультурної діяльності, в тому числі для проведення заходів з особистісного розвитку (кв.м.)
A5: 1 | B5: 2 | C5: 3 | D5: 4 | E5: 5 | F5: 6 | G5: 7 | H5: 8
A6: 1 | B6: Барська | C6: 2038 | D6: 217 | E6: 1017.6 | F6: 1337 | G6: 132 | H6: 484
A7: 2 | B7: Бершадська | C7: 3155.1 | D7: 356 | E7: 1292.5 | F7: 2667.4 | G7: 256 | H7: 1102.5
A8: 3 | B8: Вінницька | C8: 5778.61 | D8: 871 | E8: 3671.11 | F8: 574.15 | G8: 132 | H8: 351.15
A9: 4 | B9: Гайсинська | C9: 2658 | D9: 290 | E9: 673 | F9: 1912 | G9: 180 | H9: 553
A10: 5 | B10: Гніванська | C10: 818 | D10: 134 | E10: 641 | F10: 417 | G10: 114 | H10: 529
A11: 6 | B11: Жмеринська | C11: 1871 | D11: 259 | E11: 1132 | F11: 1233 | G11: 153 | H11: 600
A12: 7 | B12: Іллінецька | C12: 1935 | D12: 224 | E12: 437 | F12: 635 | G12: 113 | H12: 278
A13: 8 | B13: Калинівська | C13: 2788 | D13: 248 | E13: 1730 | F13: 2106 | G13: 186 | H13: 1440
A14: 9 | B14: Козятинська | C14: 1854 | D14: 172 | E14: 1616 | F14: 619 | G14: 76 | H14: 516
A15: 10 | B15: Ладижинська | C15: 455.7 | D15: 87 | E15: 201.4 | F15: 77.2 | G15: 20 | H15: 31.2
A16: 11 | B16: Липовецька | C16: 1671 | D16: 356 | E16: 1528 | F16: 1270 | G16: 201 | H16: 1270
A17: 12 | B17: Могилів-Подільська | C17: 1155.18 | D17: 168 | E17: 635.21 | F17: 873.8 | G17: 138 | H17: 521.8
... A23: 18 | B23: Ямпільська | C23: 2534 | D23: 388 | E23: 867 | F23: 1934 | G23: 320 | H23: 730
B24: Всього | C24: =SUM(C6:C23) -> 40321.59 | D24: =SUM(D6:D23) -> 5564 | E24: =SUM(E6:E23) -> 23539.82 | F24: =SUM(F6:F23) -> 23708.55 | G24: =SUM(G6:G23) -> 3290 | H24: =SUM(H6:H23) -> 14241.65
A25: 19 | B25: ВОУНБ ім. В. Отамановського | C25: 4235 | D25: 452 | E25: 854
A26: 20 | B26: ВОБДіЮ ім. І. Франка | C26: 837.3 | D26: 60 | E26: 256.4
B27: Всього | C27: =SUM(C24:C26) -> 45393.89 | D27: =SUM(D24:D26) -> 6076 | E27: =SUM(E24:E26) -> 24650.22 | F27: =SUM(F24:F26) -> 23708.55 | G27: =SUM(G24:G26) -> 3290 | H27: =SUM(H24:H26) -> 14241.65

Sheet таб 4а
A1: Продовження таблиці 4
A2: МАТЕРІАЛЬНО-ТЕХНІЧНА БАЗА ПУБЛІЧНИХ БІБЛІОТЕК СИСТЕМИ МІНІСТЕРСТВА КУЛЬТУРИ УКРАЇНИ (розріз селищна територіальна громада)
A3: № п/п | B3: Назва ТГ | C3: ='таб 4'!$C$3 -> Характерстика приміщень б-к
C4: ='таб 4'!$C$4 -> загальна площа (кв.м.) | D4: ='таб 4'!$D$4 -> кількість посадкових місць для користувачів | E4: ='таб 4'!$E$4 -> площа приміщень для соціокультурної діяльності, в тому числі для проведення заходів з особистісного розвитку (кв. м.)
A5: 1 | B5: 2 | C5: 3 | D5: 4 | E5: 5
A6: 1 | B6: Брацлавська | C6: 699 | D6: 126 | E6: 436
A7: 2 | B7: Вапнярська | C7: 288 | D7: 47 | E7: 137
A8: 3 | B8: Вендичанська | C8: 1091 | D8: 135 | E8: 1091
A9: 4 | B9: Вороновицька | C9: 848 | D9: 130 | E9: 420
A10: 5 | B10: Глуховецька | C10: 610 | D10: 88 | E10: 249
A11: 6 | B11: Дашівська | C11: 913 | D11: 121 | E11: 423
A12: 7 | B12: Копайгородська | C12: 518 | D12: 55 | E12: 238
A13: 8 | B13: Крижопільська | C13: 2323 | D13: 184 | E13: 633
A14: 9 | B14: Літинська | C14: 1568 | D14: 212 | E14: 1200
A15: 10 | B15: Мурованокуриловецька | C15: 1836 | D15: 279 | E15: 1436
A16: 11 | B16: Оратівська | C16: 2493.5 | D16: 149 | E16: 1249.1
A17: 12 | B17: Піщанська | C17: 1540 | D17: 128 | E17: 708
... A27: 22 | B27: Шпиківська | C27: 1356 | D27: 182 | E27: 521
B28: Всього | C28: =SUM(C6:C27) -> 28126.5 | D28: =SUM(D6:D27) -> 3417 | E28: =SUM(E6:E27) -> 16037.1

Sheet таб 4б
A1: Продовження таблиці 4
A2: МАТЕРІАЛЬНО-ТЕХНІЧНА БАЗА ПУБЛІЧНИХ БІБЛІОТЕК СИСТЕМИ МІНІСТЕРСТВА КУЛЬТУРИ УКРАЇНИ
A3: (розріз сільська територіальна громада)
A4: № п/п | B4: Назва ТГ | C4: ='таб 4а'!$C$3 -> Характерстика приміщень б-к
C5: ='таб 4а'!$C$4 -> загальна площа (кв.м.) | D5: ='таб 4а'!$D$4 -> кількість посадкових місць для користувачів | E5: ='таб 4а'!$E$4 -> площа приміщень для соціокультурної діяльності, в тому числі для проведення заходів з особистісного розвитку (кв. м.)
A6: 1 | B6: 2 | C6: 3 | D6: 4 | E6: 5
A7: 1 | B7: Агрономічна | C7: 247 | D7: 54 | E7: 150
A8: 2 | B8: Бабчинецька | C8: 445 | D8: 40 | E8: 397
A9: 3 | B9: Війтівецька | C9: 440 | D9: 128 | E9: 284
A10: 4 | B10: Городківська | C10: 885 | D10: 82 | E10: 324
A11: 5 | B11: Джулинська | C11: 1399 | D11: 226 | E11: 695
A12: 6 | B12: Джуринська | C12: 1357 | D12: 132 | E12: 1357
A13: 7 | B13: Іванівська | C13: 978.5 | D13: 70 | E13: 332
A14: 8 | B14: Краснопільська | C14: 846 | D14: 89 | E14: 871
A15: 9 | B15: Кунківська | C15: 792 | D15: 29 | E15: 792
A16: 10 | B16: Лука-Мелешківська | C16: 276 | D16: 55 | E16: 161
A17: 11 | B17: Махнівська | C17: 646 | D17: 67 | E17: 388
A18: 12 | B18: Мурафська | C18: 1002 | D18: 74 | E18: 362
... A29: 23 | B29: Яришівська | C29: 1077 | D29: 147 | E29: 1023
B30: Всього | C30: =SUM(C7:C29) -> 18435.7 | D30: =SUM(D7:D29) -> 2625 | E30: =SUM(E7:E29) -> 11187

Sheet таб 4в
A1: Продовження таблиці 4
A2: РОЗРІЗ МІСЬКА ТЕРИТОРІАЛЬНА ГРОМАДА
A5: № п/п | B5: Назва ТГ | C5: К-сть приміщень б-к за майновою характеристикою на праві оперативного управління | D5: К-сть орендованих приміщень б-к | E5: К-сть приміщень б-к, які за технічною характеристикою потребують капітального ремонту | F5: К-сть аварійних приміщень б-к | G5: К-сть приміщень б-к без освітлення | H5: К-сть приміщень б-к, до яких забезпечено безперешкодний доступ користувачів | I5: К-сть приміщень б-к в середині яких забезпечено безперешкодний доступ користувачам | J5: К-сть приміщень б-к, обладнаних пандусом/ліфтом | K5: К-сть приміщень б-к, які потребують встановлення засобів безперешкодного доступу до них | L5: К-сть приміщень б-к, які потребують встановлення засобів безперешкодного доступу в середині них | M5: В сільській місцевості
M6: К-сть приміщень б-к за майновою характеристикою на праві оперативного управління в сільській місцевості | N6: К-сть орендованих приміщень б-к у сільській місцевості | O6: К-сть приміщень б-к у сільській місцевості, які за технічною харектеристикою потребують капітального ремонту | P6: К-сть аварійних приміщень б-к у сільській місцевості | Q6: К-сть приміщень б-к без освітлення у сільській місцевості | R6: К-сть приміщень б-к у сільській місцевості, до яких забезпечено безперешкодний доступ користувачів | S6: К-сть приміщень б-к у сільській місцевості в середині яких забезпечено безперешкодний доступ користувачам | T6: К-сть приміщень б-к у сільській місцевості, обладнаних пандусом | U6: К-сть приміщень б-к у сільській місцевості, які потребують встановлення засобів безперешкодного доступу до них | V6: К-сть приміщень б-к у сільській місцевості, які потребують встановлення засобів безперешкодного доступу в середині них
A8: 1 | B8: 2 | C8: 3 | D8: 4 | E8: 5 | F8: 6 | G8: 7 | H8: 8 | I8: 9 | J8: 10 | K8: 11 | L8: 12 | M8: 13 | N8: 14 | O8: 15 | P8: 16 | Q8: 17 | R8: 18 | S8: 19 | T8: 20 | U8: 21 | V8: 22
A9: 1 | B9: Барська | C9: 16 | H9: 7 | I9: 6 | J9: 6 | K9: 9 | L9: 10 | M9: 14 | R9: 5 | S9: 4 | T9: 4 | U9: 9 | V9: 10
A10: 2 | B10: Бершадська | C10: 10 | D10: 14 | E10: 3 | H10: 4 | I10: 12 | K10: 20 | L10: 12 | M10: 10 | N10: 13 | O10: 3 | R10: 4 | S10: 12 | U10: 19 | V10: 11
A11: 3 | B11: Вінницька | C11: 14 | D11: 9 | E11: 7 | H11: 18 | I11: 8 | J11: 13 | K11: 5 | L11: 15 | N11: 6 | O11: 2 | R11: 1 | U11: 5 | V11: 6
A12: 4 | B12: Гайсинська | C12: 22 | D12: 1 | H12: 13 | I12: 14 | K12: 10 | L12: 9 | M12: 21 | R12: 11 | S12: 13 | U12: 10 | V12: 8
A13: 5 | B13: Гніванська | C13: 3 | D13: 6 | H13: 4 | I13: 1 | J13: 1 | K13: 5 | L13: 8 | M13: 1 | N13: 6 | R13: 3 | S13: 0 | U13: 4 | V13: 7
A14: 6 | B14: Жмеринська | C14: 12 | D14: 8 | G14: 2 | H14: 4 | I14: 3 | J14: 2 | K14: 16 | L14: 17 | M14: 10 | N14: 8 | Q14: 2 | R14: 2 | S14: 1 | U14: 16 | V14: 17
A15: 7 | B15: Іллінецька | C15: 10 | D15: 5 | H15: 8 | I15: 1 | K15: 7 | L15: 14 | M15: 8 | N15: 5 | R15: 6 | S15: 0 | U15: 7 | V15: 13
A16: 8 | B16: Калинівська | C16: 28 | E16: 10 | G16: 2 | H16: 4 | I16: 18 | J16: 4 | K16: 24 | L16: 10 | M16: 27 | O16: 10 | Q16: 2 | R16: 3 | S16: 16 | T16: 3 | U16: 24 | V16: 11
A17: 9 | B17: Козятинська | C17: 7 | E17: 1 | H17: 1 | I17: 1 | J17: 0 | K17: 6 | L17: 6 | M17: 5 | O17: 1 | R17: 1 | S17: 1 | T17: 0 | U17: 4 | V17: 4
A18: 10 | B18: Ладижинська | C18: 5 | H18: 2 | I18: 5 | J18: 2 | K18: 3 | L18: 0 | M18: 2 | S18: 2 | T18: 0 | U18: 2 | V18: 0
A19: 11 | B19: Липовецька | C19: 17 | D19: 1 | E19: 2 | H19: 7 | I19: 13 | J19: 6 | K19: 11 | L19: 5 | M19: 16 | N19: 1 | O19: 2 | R19: 6 | S19: 12 | T19: 5 | U19: 11 | V19: 5
A20: 12 | B20: Могилів-Подільська | C20: 10 | D20: 1 | K20: 11 | L20: 11 | M20: 9 | U20: 9 | V20: 9
A21: 13 | B21: Немирівська | C21: 22 | D21: 1 | E21: 6 | H21: 12 | I21: 15 | J21: 11 | K21: 11 | L21: 8 | M21: 21 | N21: 1 | O21: 6 | R21: 11 | S21: 15 | T21: 10 | U21: 11 | V21: 7
A22: 14 | B22: Погребищенська | C22: 25 | H22: 15 | I22: 17 | J22: 6 | K22: 10 | L22: 8 | M22: 23 | R22: 13 | S22: 15 | T22: 5 | U22: 10 | V22: 8
A23: 15 | B23: Тульчинська | C23: 23 | H23: 1 | J23: 1 | K23: 22 | L23: 23 | M23: 22 | U23: 22 | V23: 22
A24: 16 | B24: Хмільницька | C24: 1 | D24: 18 | H24: 8 | I24: 15 | J24: 6 | K24: 11 | L24: 4 | M24: 1 | N24: 17 | R24: 7 | S24: 14 | T24: 5 | U24: 11 | V24: 4
A25: 17 | B25: Шаргородська | C25: 15 | D25: 2 | E25: 2 | H25: 4 | I25: 9 | J25: 2 | K25: 13 | L25: 8 | M25: 12 | N25: 2 | O25: 2 | R25: 3 | S25: 7 | T25: 1 | U25: 11 | V25: 7
A26: 18 | B26: Ямпільська | C26: 2 | D26: 19 | E26: 4 | H26: 11 | I26: 6 | J26: 8 | K26: 10 | L26: 15 | N26: 19 | O26: 4 | R26: 9 | S26: 5 | T26: 6 | U26: 10 | V26: 14
B27: Всього | C27: =SUM(C9:C26) -> 242 | D27: =SUM(D9:D26) -> 85 | E27: =SUM(E9:E26) -> 35 | F27: =SUM(F9:F26) -> 0 | G27: =SUM(G9:G26) -> 4 | H27: =SUM(H9:H26) -> 123 | I27: =SUM(I9:I26) -> 144 | J27: =SUM(J9:J26) -> 68 | ... V27: =SUM(V9:V26) -> 163
A28: 19 | B28: ВОУНБ ім. В. Отамановського | C28: 1 | D28: 1 | E28: 1 | H28: 2 | I28: 1 | J28: 2 | L28: 1
A29: 20 | B29: ВОБДіЮ ім. І. Франка | C29: 2 | D29: 1 | E29: 1 | H29: 2 | I29: 2 | J29: 2
B30: Всього | C30: =SUM(C27:C29) -> 245 | D30: =SUM(D27:D29) -> 87 | E30: =SUM(E27:E29) -> 37 | F30: =SUM(F27:F29) -> 0 | G30: =SUM(G27:G29) -> 4 | H30: =SUM(H27:H29) -> 127 | I30: =SUM(I27:I29) -> 147 | J30: =SUM(J27:J29) -> 72 | ... V30: =SUM(V27:V29) -> 163

Sheet таб 4г
A1: Продовження таблиці 4
A2: РОЗРІЗ СЕЛИЩНА ТЕРИТОРІАЛЬНА ГРОМАДА
A3: № п/п | B3: Назва ТГ | C3: К-сть приміщень б-к за майновою характерстикою на праві оперативного управління | D3: К-сть орендованих приміщень б-к | E3: К-сть приміщень б-к, які за технічною характеристикою потребують капітального ремонту | F3: К-сть аварійних приміщень б-к | G3: К-сть приміщень б-к без освітлення | H3: К-сть приміщень б-к, до яких забезпечено безперешкодний доступ користувачів | I3: К-сть приміщень б-к в середині яких забезпечено безперешкодний доступ користувачам | J3: К-сть приміщень б-к, обладнаних пандусом | K3: К-сть приміщень б-к, які потребують встановлення засобів безперешкодного доступу до них | L3: К-сть приміщень б-к, які потребують встановлення засобів безперешкодного доступу в средині них
A6: 1 | B6: 2 | C6: 3 | D6: 4 | E6: 5 | F6: 6 | G6: 7 | H6: 8 | I6: 9 | J6: 10 | K6: 11 | L6: 12
A7: 1 | B7: Брацлавська | C7: 9 | E7: 1 | H7: 6 | I7: 5 | J7: 6 | K7: 3 | L7: 4
A8: 2 | B8: Вапнярська | D8: 5 | E8: 1 | H8: 3 | I8: 3 | K8: 2 | L8: 2
A9: 3 | B9: Вендичанська | C9: 11 | K9: 11 | L9: 11
A10: 4 | B10: Вороновицька | C10: 7 | D10: 1 | H10: 8 | I10: 6 | L10: 2
A11: 5 | B11: Глуховецька | D11: 10 | H11: 5 | I11: 5 | J11: 3 | K11: 5 | L11: 5
A12: 6 | B12: Дашівська | C12: 10 | E12: 6 | G12: 1 | H12: 2 | I12: 1 | J12: 2 | K12: 8 | L12: 9
A13: 7 | B13: Копайгородська | C13: 6 | E13: 2 | G13: 6 | H13: 2 | I13: 2 | K13: 4 | L13: 4
A14: 8 | B14: Крижопільська | D14: 16 | E14: 1 | H14: 4 | I14: 3 | K14: 12 | L14: 13
A15: 9 | B15: Літинська | C15: 9 | D15: 7 | H15: 16 | I15: 16 | J15: 7
A16: 10 | B16: Мурованокуриловецька | C16: 18 | H16: 9 | I16: 9 | J16: 8 | K16: 9 | L16: 9
A17: 11 | B17: Оратівська | D17: 18 | H17: 6 | I17: 8 | K17: 12 | L17: 10
A18: 12 | B18: Піщанська | C18: 12 | H18: 1 | I18: 1 | J18: 1 | K18: 11 | L18: 11
A19: 13 | B19: Стрижавська | C19: 6 | I19: 6 | K19: 6
A20: 14 | B20: Сутисківська | C20: 2 | H20: 2 | J20: 2 | L20: 2
A21: 15 | B21: Теплицька | C21: 19 | E21: 7 | H21: 8 | I21: 9 | J21: 3 | K21: 11 | L21: 10
A22: 16 | B22: Тиврівська | C22: 8 | E22: 0 | F22: 0 | G22: 0 | H22: 2 | I22: 2 | J22: 0 | K22: 6 | L22: 6
A23: 17 | B23: Томашпільська | C23: 20 | D23: 2 | E23: 3 | H23: 6 | J23: 2 | K23: 16 | L23: 22
A24: 18 | B24: Тростянецька | C24: 2 | D24: 12 | H24: 4 | K24: 10 | L24: 14
A25: 19 | B25: Турбівська | C25: 14 | H25: 7 | I25: 7 | J25: 7 | K25: 7 | L25: 7
A26: 20 | B26: Чернівецька | C26: 8 | E26: 8 | H26: 2 | I26: 2 | J26: 1 | K26: 6 | L26: 6
A27: 21 | B27: Чечельницька | C27: 9 | H27: 9 | I27: 9
A28: 22 | B28: Шпиківська | C28: 5 | D28: 9 | K28: 14 | L28: 14
B29: Всього | C29: =SUM(C7:C28) -> 175 | D29: =SUM(D7:D28) -> 80 | E29: =SUM(E7:E28) -> 29 | F29: =SUM(F7:F28) -> 0 | G29: =SUM(G7:G28) -> 7 | H29: =SUM(H7:H28) -> 102 | I29: =SUM(I7:I28) -> 94 | J29: =SUM(J7:J28) -> 42 | ... L29: =SUM(L7:L28) -> 161

Sheet таб 4д
A1: Продовження таблиці 4
A2: РОЗРІЗ СІЛЬСЬКА ТЕРИТОРІАЛЬНА ГРОМАДА
A3: № п/п | B3: Назва ТГ | C3: К-сть приміщень бібліотек за майновою характеристикою на праві оперативного управління | D3: К-сть орендованих приміщень б-к | E3: К-сть приміщень б-к, які за технічною характеристикою потребують капітального ремонду | F3: К-сть аварійних приміщень б-к | G3: К-сть приміщень б-к без освітлення | H3: К-сть приміщень б-к, до яких забезпечено безперешкодний доступ користувачів | I3: К-сть приміщень б-к, в середині яких забезпечено безперешкодний доступ користувачам | J3: К-сть приміщень б-к обладнаних пандусом | K3: К-сть приміщень б-к, які потребують встановлення засобів безперешкодного доступу до них | L3: К-сть приміщень б-к, які потребують встановлення засобів безперешкодного доступу в середині них
A6: 1 | B6: 2 | C6: 3 | D6: 4 | E6: 5 | F6: 6 | G6: 7 | H6: 8 | I6: 9 | J6: 10 | K6: 11 | L6: 12
A7: 1 | B7: Агрономічна | C7: 3 | D7: 1 | H7: 3 | I7: 4 | J7: 3 | K7: 1
A8: 2 | B8: Бабчинецька | C8: 5 | H8: 5 | I8: 3 | J8: 3 | L8: 2
A9: 3 | B9: Війтівецька | C9: 4 | K9: 4 | L9: 4
A10: 4 | B10: Городківська | D10: 8 | K10: 8 | L10: 8
A11: 5 | B11: Джулинська | C11: 6 | D11: 7 | K11: 13 | L11: 13
A12: 6 | B12: Джуринська | C12: 10 | E12: 1 | F12: 1 | K12: 10 | L12: 10
A13: 7 | B13: Іванівська | C13: 3 | D13: 9 | E13: 5 | G13: 1 | K13: 12 | L13: 12
A14: 8 | B14: Краснопільська | C14: 7 | H14: 1 | I14: 2 | K14: 6 | L14: 5
A15: 9 | B15: Кунківська | C15: 6 | K15: 6 | L15: 6
A16: 10 | B16: Лука-Мелешківська | C16: 4 | H16: 1 | I16: 4 | K16: 3
A17: 11 | B17: Махнівська | C17: 9 | H17: 6 | I17: 7 | J17: 2 | K17: 3 | L17: 2
A18: 12 | B18: Мурафська | C18: 7 | E18: 0 | F18: 0 | G18: 0 | K18: 7 | L18: 7
A19: 13 | B19: Ободівська | C19: 6 | H19: 4 | I19: 4 | J19: 2 | K19: 2 | L19: 2
A20: 14 | B20: Ольгопільська | D20: 3 | H20: 1 | I20: 2 | K20: 2 | L20: 1
A21: 15 | B21: Райгородська | C21: 9 | D21: 1 | H21: 1 | J21: 1 | K21: 9 | L21: 10
A22: 16 | B22: Самгородоцька | C22: 10 | G22: 2 | H22: 7 | I22: 10 | J22: 3 | K22: 3
A23: 17 | B23: Северинівська | C23: 1 | D23: 3 | E23: 0 | F23: 0 | G23: 0 | H23: 1 | I23: 2 | K23: 3 | L23: 2
A24: 18 | B24: Соболівська | C24: 9 | H24: 2 | I24: 4 | K24: 7 | L24: 5
A25: 19 | B25: Станіславчицька | C25: 6 | H25: 3 | I25: 2 | K25: 3 | L25: 4
A26: 20 | B26: Студенянська | C26: 6 | H26: 1 | I26: 1 | J26: 1 | K26: 5 | L26: 5
A27: 21 | B27: Уланівська | C27: 19 | E27: 0 | F27: 0 | G27: 0 | H27: 8 | I27: 12 | J27: 5 | K27: 11 | L27: 7
A28: 22 | B28: Якушинецька | D28: 9 | E28: 0 | F28: 0 | G28: 0 | H28: 6 | I28: 7 | J28: 4 | K28: 3 | L28: 2
A29: 23 | B29: Яришівська | C29: 9 | H29: 9 | I29: 9
B30: Всього | C30: =SUM(C7:C29) -> 139 | D30: =SUM(D7:D29) -> 41 | E30: =SUM(E12:E29) -> 6 | F30: 1 | G30: =SUM(G11:G29) -> 3 | H30: =SUM(H7:H29) -> 59 | I30: =SUM(I7:I29) -> 73 | J30: =SUM(J7:J29) -> 24 | K30: =SUM(K7:K29) -> 121 | L30: =SUM(L7:L29) -> 107

Sheet таб 4е
A1: Продовження таблиці 4
A2: ОПАЛЕННЯ (розріз міська територіальна громада)
A3: № п/п | B3: Назва ТГ | C3: Всього опалюється | D3: В % | E3: СПОСІБ ОПАЛЕННЯ | K3: СПОСІБ ОПАЛЕННЯ В СІЛЬСЬКІЙ МІСЦЕВОСТІ
E4: пічне | F4: центральне | G4: газове, автономне | H4: електроконвектори, що забезпечують температуру у відповідності до санітарних норм | I4: енерго-зберігаючі прилади | J4: знаходяться у приміщеннях, що не опалюються | K4: Опалюється в сільській місцевості | L4: В % | M4: пічне в сільській місцевості | N4: центральне в сільській місцевості | O4: газове, автономне в сільській місцевості | P4: електроконвектори, що забезпечують температуру у відповідності до санітарних норм у сільській місцевості | Q4: енергозберігаючі прилади в сільській місцевості | R4: знаходяться у приміщеннях, що не опалюються в сільській місцевості
A5: 1 | B5: 2 | C5: 3 | D5: 4 | E5: 5 | F5: 6 | G5: 7 | H5: 8 | I5: 9 | J5: 10 | K5: 11 | L5: 12 | M5: 13 | N5: 14 | O5: 15 | P5: 16 | Q5: 17 | R5: 18
A6: 1 | B6: Барська | C6: 14 | D6: 88 | E6: 1 | G6: 3 | H6: 6 | I6: 4 | J6: 2 | K6: 12 | L6: 86 | M6: 1 | O6: 1 | P6: 6 | Q6: 4 | R6: 2
A7: 2 | B7: Бершадська | C7: 24 | D7: 100 | F7: 3 | H7: 19 | I7: 2 | K7: 23 | L7: 100 | N7: 2 | P7: 19 | Q7: 2
A8: 3 | B8: Вінницька | C8: 22 | D8: 96 | E8: 2 | F8: 10 | G8: 9 | H8: 1 | J8: 1 | K8: 5 | L8: 83 | M8: 2 | O8: 3 | R8: 1
A9: 4 | B9: Гайсинська | C9: 23 | D9: 100 | E9: 3 | G9: 4 | I9: 16 | K9: 21 | L9: 100 | M9: 3 | O9: 2 | Q9: 16
A10: 5 | B10: Гніванська | C10: 9 | D10: 100 | E10: 4 | G10: 1 | H10: 4 | K10: 7 | L10: 100 | M10: 4 | P10: 3
A11: 6 | B11: Жмеринська | C11: 18 | D11: 90 | E11: 6 | F11: 5 | G11: 2 | H11: 5 | J11: 2 | K11: 16 | L11: 89 | M11: 6 | N11: 5 | P11: 5 | R11: 2
A12: 7 | B12: Іллінецька | C12: 11 | D12: 73 | E12: 1 | F12: 8 | G12: 2 | J12: 4 | K12: 9 | L12: 69 | M12: 1 | N12: 8 | R12: 4
A13: 8 | B13: Калинівська | C13: 13 | D13: 46 | E13: 2 | G13: 8 | H13: 2 | I13: 1 | J13: 15 | K13: 12 | L13: 42 | M13: 2 | O13: 6 | P13: 2 | Q13: 2 | R13: 15
A14: 9 | B14: Козятинська | C14: 6 | D14: 86 | G14: 1 | H14: 3 | I14: 2 | J14: 1 | K14: 4 | L14: 80 | O14: 1 | P14: 3 | R14: 1
A15: 10 | B15: Ладижинська | C15: 5 | D15: 100 | E15: 0 | F15: 1 | G15: 1 | H15: 2 | I15: 1 | J15: 0 | K15: 2 | L15: 100 | P15: 1 | Q15: 1
A16: 11 | B16: Липовецька | C16: 18 | D16: 100 | E16: 1 | G16: 1 | H16: 1 | I16: 15 | K16: 17 | L16: 100 | O16: 1 | P16: 1 | Q16: 15
A17: 12 | B17: Могилів-Подільська | C17: 11 | D17: 100 | E17: 9 | F17: 2 | K17: 9 | L17: 100 | M17: 9
A18: 13 | B18: Немирівська | C18: 10 | D18: 44 | E18: 4 | F18: 4 | G18: 2 | J18: 13 | K18: 9 | L18: 41 | M18: 4 | N18: 4 | O18: 1 | R18: 13
A19: 14 | B19: Погребищенська | C19: 25 | D19: 100 | E19: 2 | F19: 5 | G19: 1 | H19: 13 | I19: 4 | K19: 23 | L19: 100 | M19: 2 | N19: 4 | P19: 13 | Q19: 4
A20: 15 | B20: Тульчинська | C20: 23 | D20: 100 | E20: 3 | F20: 6 | G20: 1 | H20: 9 | I20: 4 | K20: 22 | L20: 100 | M20: 3 | N20: 6 | P20: 8 | Q20: 5
A21: 16 | B21: Хмільницька | C21: 11 | D21: 58 | E21: 0 | F21: 0 | G21: 3 | H21: 8 | I21: 0 | J21: 8 | K21: 10 | L21: 56 | O21: 2 | P21: 8 | R21: 8
A22: 17 | B22: Шаргородська | C22: 15 | D22: 88 | E22: 12 | G22: 1 | H22: 2 | J22: 2 | K22: 12 | L22: 86 | M22: 11 | P22: 1 | R22: 2
A23: 18 | B23: Ямпільська | C23: 21 | D23: 100 | E23: 9 | F23: 3 | H23: 8 | I23: 1 | K23: 19 | L23: 100 | M23: 9 | N23: 1 | P23: 8 | Q23: 1
B24: Всього | C24: =SUM(C6:C23) -> 279 | D24: 85 | E24: =SUM(E6:E23) -> 59 | F24: =SUM(F6:F23) -> 47 | G24: =SUM(G6:G23) -> 40 | H24: =SUM(H6:H23) -> 83 | I24: =SUM(I6:I23) -> 50 | J24: =SUM(J6:J23) -> 48 | K24: =SUM(K6:K23) -> 232 | L24: 81 | M24: =SUM(M6:M23) -> 57 | N24: =SUM(N6:N23) -> 30 | O24: =SUM(O6:O23) -> 17 | P24: =SUM(P6:P23) -> 78 | Q24: =SUM(Q6:Q23) -> 50 | R24: =SUM(R6:R23) -> 48
A25: 19 | B25: ВОУНБ ім В Отамановського | C25: 2 | D25: 100 | F25: 2
A26: 20 | B26: ВОБДіЮ ім. І. Франка | C26: 3 | D26: 100 | F26: 2 | G26: 1
B27: Всього | C27: =SUM(C24:C26) -> 284 | D27: 86 | E27: =SUM(E24:E26) -> 59 | F27: =SUM(F24:F26) -> 51 | G27: =SUM(G24:G26) -> 41 | H27: =SUM(H24:H26) -> 83 | I27: =SUM(I24:I26) -> 50 | J27: =SUM(J24:J26) -> 48 | K27: =SUM(K24:K26) -> 232 | L27: 83 | M27: =SUM(M24:M26) -> 57 | N27: =SUM(N24:N26) -> 30 | O27: =SUM(O24:O26) -> 17 | P27: =SUM(P24:P26) -> 78 | Q27: =SUM(Q24:Q26) -> 50 | R27: =SUM(R24:R26) -> 48

Sheet таб 4є
A1: Продовження таблиці 4
A3: № п/п | B3: Назва ТГ | C3: ОПАЛЕННЯ (розріз селищна територіальна громада)
C4: Всього опалюється | D4: В % | E4: СПОСІБ ОПАЛЕННЯ
E5: пічне | F5: центральне | G5: газове, автономне | H5: електроконвектори, що забезпечують температуру у відповідності до санітарних норм | I5: енерго-зберігаючі прилади | J5: знаходяться у приміщеннях, що не опалюються
A6: 1 | B6: 2 | C6: 3 | D6: 4 | E6: 5 | F6: 6 | G6: 7 | H6: 8 | I6: 9 | J6: 10
A7: 1 | B7: Брацлавська | C7: 9 | D7: 100 | E7: 1 | G7: 2 | H7: 5 | I7: 1
A8: 2 | B8: Вапнярська | C8: 5 | E8: 2 | G8: 1 | I8: 2
A9: 3 | B9: Вендичанська | C9: 10 | D9: 91 | E9: 6 | G9: 1 | H9: 3 | J9: 1
A10: 4 | B10: Вороновицька | C10: 5 | D10: 63 | G10: 3 | H10: 1 | I10: 1 | J10: 3
A11: 5 | B11: Глуховецька | C11: 5 | D11: 50 | G11: 2 | H11: 3 | J11: 5
A12: 6 | B12: Дашівська | C12: 6 | D12: 60 | E12: 2 | F12: 4 | J12: 4
A13: 7 | B13: Копайгородська | C13: 3 | D13: 50 | E13: 3 | J13: 3
A14: 8 | B14: Крижопільська | C14: 16 | D14: 100 | H14: 16
A15: 9 | B15: Літинська | C15: 15 | D15: 94 | E15: 4 | F15: 2 | G15: 2 | H15: 7 | J15: 1
A16: 10 | B16: Мурованокуриловецька | C16: 16 | D16: 89 | E16: 8 | F16: 2 | H16: 6 | J16: 2
A17: 11 | B17: Оратівська | C17: 5 | D17: 28 | E17: 3 | F17: 2 | J17: 13
A18: 12 | B18: Піщанська | C18: 3 | D18: 25 | E18: 1 | F18: 2 | J18: 9
A19: 13 | B19: Стрижавська | C19: 6 | D19: 100 | E19: 1 | F19: 1 | H19: 2 | I19: 2
A20: 14 | B20: Сутисківська | C20: 1 | D20: 50 | F20: 1 | J20: 1
A21: 15 | B21: Теплицька | C21: 9 | F21: 2 | H21: 7 | J21: 10
A22: 16 | B22: Тиврівська | C22: 1 | D22: 13 | F22: 1 | J22: 7
A23: 17 | B23: Томашпільська | C23: 14 | D23: 63 | E23: 7 | F23: 1 | G23: 6 | J23: 8
A24: 18 | B24: Тростянецька | C24: 14 | D24: 100 | F24: 3 | G24: 4 | H24: 7
A25: 19 | B25: Турбівська | C25: 14 | D25: 100 | E25: 3 | F25: 1 | G25: 2 | H25: 8
A26: 20 | B26: Чернівецька | C26: 8 | D26: 100 | E26: 3 | H26: 5
A27: 6 | B27: Чечельницька | C27: 5 | D27: 56 | E27: 2 | F27: 1 | I27: 2 | J27: 4
A28: 22 | B28: Шпиківська | C28: 7 | D28: 50 | E28: 3 | F28: 3 | H28: 1 | J28: 7
B29: Всього | C29: =SUM(C7:C28) -> 177 | D29: 69 | E29: =SUM(E7:E28) -> 49 | F29: =SUM(F7:F28) -> 26 | G29: =SUM(G7:G28) -> 23 | H29: =SUM(H7:H28) -> 71 | I29: =SUM(I7:I28) -> 8 | J29: =SUM(J7:J28) -> 78

Sheet таб 4ж
A1: Продовження таблиці 4
A2: № п/п | B2: Назва ТГ | C2: ОПАЛЕННЯ (розріз сільська територіальна громада)
C3: Всього опалюється | D3: В % | E3: СПОСІБ ОПАЛЕННЯ
E4: пічне | F4: центральне | G4: газове, автономне | H4: електроконвектори, що забезпечують температуру у відповідності до санітарних норм | I4: енерго-зберігаючі прилади | J4: знаходяться у приміщеннях, що не опалюються
A5: 1 | B5: 2 | C5: 3 | D5: 4 | E5: 5 | F5: 6 | G5: 7 | H5: 8 | I5: 9 | J5: 10
A6: 1 | B6: Агрономічна | C6: 4 | D6: 100 | G6: 1 | H6: 3
A7: 2 | B7: Бабчинецька | C7: 5 | D7: 100 | E7: 2 | H7: 3
A8: 3 | B8: Війтівецька | C8: 4 | D8: 100 | H8: 4
A9: 4 | B9: Городківська | C9: 8 | D9: 100 | H9: 8
A10: 5 | B10: Джулинська | J10: 13
A11: 6 | B11: Джуринська | C11: 10 | D11: 100 | E11: 10
A12: 7 | B12: Іванівська | C12: 11 | D12: 92 | I12: 11 | J12: 1
A13: 8 | B13: Краснопільська | C13: 3 | D13: 43 | E13: 3 | J13: 4
A14: 9 | B14: Кунківська | C14: 6 | D14: 100 | H14: 6
A15: 10 | B15: Лука-Мелешківська | C15: 4 | D15: 100 | F15: 2 | H15: 2
A16: 11 | B16: Махнівська | C16: 8 | D16: 89 | E16: 2 | G16: 2 | H16: 4 | J16: 1
A17: 12 | B17: Мурафська | C17: 7 | D17: 100 | E17: 5 | F17: 1 | I17: 1
A18: 13 | B18: Ободівська | C18: 6 | D18: 100 | G18: 1 | H18: 5
A19: 14 | B19: Ольгопільська | C19: 3 | D19: 100 | I19: 3
A20: 15 | B20: Райгородська | C20: 4 | D20: 50 | F20: 1 | H20: 3 | J20: 6
A21: 16 | B21: Самгородоцька | C21: 8 | D21: 80 | H21: 8 | J21: 2
A22: 17 | B22: Северинівська | C22: 3 | D22: 33 | E22: 1 | F22: 2 | J22: 1
A23: 18 | B23: Соболівська | C23: 9 | D23: 100 | H23: 9
A24: 19 | B24: Станіславчицька | C24: 6 | D24: 100 | H24: 6
A25: 20 | B25: Студенянська | C25: 6 | D25: 100 | E25: 1 | H25: 5
A26: 21 | B26: Уланівська | C26: 16 | D26: 85 | H26: 15 | I26: 1 | J26: 3
A27: 22 | B27: Якушинецька | C27: 7 | D27: 77 | F27: 4 | G27: 1 | H27: 2 | J27: 2
A28: 23 | B28: Яришівська | C28: 9 | D28: 100 | E28: 9
B29: Всього | C29: =SUM(C6:C28) -> 147 | D29: 82 | E29: =SUM(E6:E28) -> 33 | F29: =SUM(F6:F28) -> 10 | G29: =SUM(G6:G28) -> 5 | H29: =SUM(H6:H28) -> 83 | I29: =SUM(I6:I28) -> 16 | J29: =SUM(J6:J28) -> 33

Sheet таб 4з
A1: Продовження таблиці 4
A2: № п/п | B2: Назва ТГ | C2: ОСНАЩЕННЯ БІБЛІОТЕК ТЕХНІЧНИМИ ЗАСОБАМИ (розріз міська територіальна громада)
C3: К-сть б-к, що мають комп'ютери | D3: К-сть комп'ютерів | E3: К-сть комп'ютерів, придбаних у 2025 році | H3: К-сть б-к, що мають копіювально-розмножувальну техніку | I3: К-сть б-к, що мають мультимедійне забезпечення | J3: Оснащення технічними засобами в сільській місцевості
J4: К-сть сільських б-к, що мають комп'ютери | K4: К-сть комп'ютерів | L4: К-сть комп'ютерів, придбаних у 2025 році | O4: К-сть сільських б-к, що мають копіювально-розмножувальну техніку | P4: К-сть сільських б-к, що мають мультимедійне забезпечення
C5: 2025 | D5: 2025 | E5: за кошти місц. бюджету | F5: проєкти | G5: подарунки | H5: 2025 | I5: 2025 | J5: 2025 | K5: 2025 | L5: за кошти місц. бюджету | M5: проєкти | N5: подарунки | O5: 2025 | P5: 2025
A6: 1 | B6: 2 | C6: 3 | D6: 4 | E6: 5 | F6: 6 | G6: 7 | H6: 8 | I6: 9 | J6: 10 | K6: 11 | L6: 12 | M6: 13 | N6: 14 | O6: 15 | P6: 16
A7: 1 | B7: Барська | C7: 8 | D7: 35 | H7: 8 | I7: 6 | J7: 6 | K7: 22 | O7: 6 | P7: 4
A8: 2 | B8: Бершадська | C8: 22 | D8: 50 | E8: 1 | H8: 14 | I8: 1 | J8: 21 | K8: 35 | O8: 13
A9: 3 | B9: Вінницька | C9: 23 | D9: 130 | H9: 23 | I9: 22 | J9: 6 | K9: 12 | O9: 6 | P9: 6
A10: 4 | B10: Гайсинська | C10: 23 | D10: 68 | H10: 17 | I10: 21 | J10: 21 | K10: 41 | O10: 15 | P10: 19
A11: 5 | B11: Гніванська | C11: 9 | D11: 27 | H11: 9 | I11: 0 | J11: 7 | K11: 16 | O11: 7
A12: 6 | B12: Жмеринська | C12: 8 | D12: 23 | H12: 9 | I12: 4 | J12: 6 | K12: 9 | O12: 7 | P12: 2
A13: 7 | B13: Іллінецька | C13: 8 | D13: 32 | H13: 7 | I13: 7 | J13: 6 | K13: 16 | O13: 5 | P13: 5
A14: 8 | B14: Калинівська | C14: 10 | D14: 38 | H14: 6 | I14: 4 | J14: 8 | K14: 24 | O14: 4 | P14: 1
A15: 9 | B15: Козятинська | C15: 6 | D15: 26 | H15: 6 | I15: 1 | J15: 4 | K15: 10 | O15: 4 | P15: 0
A16: 10 | B16: Ладижинська | C16: 3 | D16: 15 | H16: 3 | I16: 3 | J16: 2 | K16: 4 | O16: 2 | P16: 2
A17: 11 | B17: Липовецька | C17: 10 | D17: 41 | E17: 3 | H17: 7 | I17: 1 | J17: 9 | K17: 21 | O17: 6
A18: 12 | B18: Могилів-Подільська | C18: 11 | D18: 20 | H18: 4 | J18: 9 | K18: 16 | O18: 3
A19: 13 | B19: Немирівська | C19: 13 | D19: 41 | H19: 11 | I19: 2 | J19: 12 | K19: 19 | O19: 10 | P19: 1
A20: 14 | B20: Погребищенська | C20: 13 | D20: 23 | H20: 5 | I20: 2 | J20: 11 | K20: 17 | O20: 3
A21: 15 | B21: Тульчинська | C21: 14 | D21: 55 | H21: 20 | I21: 28 | J21: 13 | K21: 32 | O21: 9 | P21: 6
A22: 16 | B22: Хмільницька | C22: 12 | D22: 48 | H22: 11 | I22: 2 | J22: 11 | K22: 25
A23: 17 | B23: Шаргородська | C23: 11 | D23: 19 | H23: 3 | I23: 3 | J23: 9 | K23: 10 | O23: 1 | P23: 1
A24: 18 | B24: Ямпільська | C24: 19 | D24: 42 | E24: 1 | H24: 6 | I24: 3 | J24: 17 | K24: 27 | O24: 4 | P24: 1
B25: Всього | C25: =SUM(C7:C24) -> 223 | D25: =SUM(D7:D24) -> 733 | E25: =SUM(E7:E24) -> 5 | H25: =SUM(H7:H24) -> 169 | I25: =SUM(I7:I24) -> 110 | J25: =SUM(J7:J24) -> 178 | K25: =SUM(K7:K24) -> 356 | L25: =SUM(L7:L24) -> 0 | M25: =SUM(M7:M24) -> 0 | N25: =SUM(N7:N24) -> 0 | O25: =SUM(O7:O24) -> 105 | P25: =SUM(P7:P24) -> 48
A26: 19 | B26: ВОУНБ ім. В. Отамановського | C26: 1 | D26: 164 | H26: 1 | I26: 1
A27: 20 | B27: ВОБДіЮ ім І. Франка | C27: 1 | D27: 72 | H27: 1 | I27: 1
B28: Всього | C28: =SUM(C25:C27) -> 225 | D28: =SUM(D25:D27) -> 969 | E28: =SUM(E25:E27) -> 5 | F28: =SUM(F25:F27) -> 0 | G28: =SUM(G25:G27) -> 0 | H28: =SUM(H25:H27) -> 171 | I28: =SUM(I25:I27) -> 112 | J28: =SUM(J25:J27) -> 178 | ... P28: =SUM(P25:P27) -> 48

Sheet таб 4и
A1: Продовження таблиці 4
A2: ОСНАЩЕННЯ БІБЛІОТЕК ТЕХНІЧНИМИ ЗАСОБАМИ (розріз селищна територіальна громада)
A3: № п/п | B3: Назва ТГ
C4: К-сть б-к, що мають комп'ютери | D4: К-сть комп'ютерів | E4: К-сть комп'ютерів, придбаних у 2025 році | H4: К-сть б-к, що мають копіювально-розмножувальну техніку | I4: К-сть б-к, що мають мультимедійне забезпечення
C6: 2025 | D6: 2025 | E6: за кошти місц. бюджету | F6: проєкти | G6: подарунки | H6: 2025 | I6: 2025
A7: 1 | B7: 2 | C7: 3 | D7: 4 | E7: 5 | F7: 6 | G7: 7 | H7: 8 | I7: 9
A8: 1 | B8: Брацлавська | C8: 5 | D8: 16 | H8: 6 | I8: 5
A9: 2 | B9: Вапнярська | C9: 4 | D9: 6 | H9: 4 | I9: 1
A10: 3 | B10: Вендичанська | C10: 10 | D10: 10 | H10: 4 | I10: 2
A11: 4 | B11: Вороновицька | C11: 5 | D11: 14 | H11: 4 | I11: 4
A12: 5 | B12: Глуховецька | C12: 10 | D12: 31 | E12: 2 | H12: 13
A13: 6 | B13: Дашівська | C13: 8 | D13: 20 | H13: 4 | I13: 4
A14: 7 | B14: Копайгородська | C14: 3 | D14: 5 | H14: 1
A15: 8 | B15: Крижопільська | C15: 16 | D15: 36 | H15: 8 | I15: 5
A16: 9 | B16: Літинська | C16: 13 | D16: 31 | H16: 6 | I16: 4
A17: 10 | B17: Мурованокуриловецька | C17: 16 | D17: 42 | H17: 9 | I17: 5
A18: 11 | B18: Оратівська | C18: 13 | D18: 23 | H18: 2 | I18: 2
A19: 12 | B19: Піщанська | C19: 7 | D19: 15 | H19: 5 | I19: 3
A20: 13 | B20: Стрижавська | C20: 6 | D20: 9 | H20: 4 | I20: 3
A21: 1 | B21: Сутисківська | C21: 2 | D21: 2 | E21: 1 | H21: 1
A22: 9 | B22: Теплицька | C22: 12 | D22: 26 | H22: 4 | I22: 1
A23: 16 | B23: Тиврівська | C23: 1 | D23: 10 | H23: 1
A24: 17 | B24: Томашпільська | C24: 22 | D24: 51 | H24: 18 | I24: 9
A25: 18 | B25: Тростянецька | C25: 13 | D25: 37 | E25: 1 | H25: 8 | I25: 1
A26: 19 | B26: Турбівська | C26: 8 | D26: 19 | H26: 7 | I26: 2
A27: 20 | B27: Чернівецька | C27: 3 | D27: 6 | H27: 2 | I27: 4
A28: 21 | B28: Чечельницька | C28: 4 | D28: 11 | H28: 1 | I28: 2
A29: 22 | B29: Шпиківська | C29: 8 | D29: 11 | H29: 5 | I29: 1
B30: Всього | C30: =SUM(C8:C29) -> 189 | D30: =SUM(D8:D29) -> 431 | E30: =SUM(E8:E29) -> 4 | F30: =SUM(F8:F29) -> 0 | G30: =SUM(G8:G29) -> 0 | H30: =SUM(H8:H29) -> 117 | I30: =SUM(I8:I29) -> 58

Sheet таб 4і
A1: Продовження таблиці 4
A2: № п/п | B2: Назва ТГ | C2: ОСНАЩЕННЯ БІБЛІОТЕК ТЕХНІЧНИМИМИ ЗАСОБАМИ (розріз сільська територіальна громада)
C3: К-сть б-к, що мають комп'ютери | D3: К-сть комп'ютерів | E3: К-сть комп'ютерів, придбаних у 2025 році | H3: К-сть б-к, що мають копіювально-розмножувальну техніку | I3: К-сть б-к, що мають мультимедійне забезпечення
C4: 2025 | D4: 2025 | E4: за кошти місц. бюджету | F4: проєкти | G4: подарунки | H4: 2025 | I4: 2025
A5: 1 | B5: 2 | C5: 3 | D5: 4 | E5: 5 | F5: 6 | G5: 7 | H5: 8 | I5: 9
A6: 1 | B6: Агрономічна | C6: 4 | D6: 12 | H6: 4 | I6: 4
A7: 2 | B7: Бабчинецька | C7: 4 | D7: 11
A8: 3 | B8: Війтівецька | C8: 3 | D8: 3 | H8: 2 | I8: 1
A9: 4 | B9: Городківська | C9: 4 | D9: 13 | H9: 3 | I9: 1
A10: 5 | B10: Джулинська | C10: 8 | D10: 15 | G10: 2 | H10: 5 | I10: 2
A11: 6 | B11: Джуринська | C11: 2 | D11: 6 | H11: 1 | I11: 2
A12: 7 | B12: Іванівська | C12: 1 | D12: 4 | E12: 1 | H12: 1
A13: 8 | B13: Краснопільська | C13: 6 | D13: 17 | H13: 6 | I13: 6
A14: 9 | B14: Кунківська | C14: 5 | D14: 6 | H14: 4 | I14: 5
A15: 10 | B15: Лука-Мелешківська | C15: 4 | D15: 12 | H15: 4 | I15: 2
A16: 11 | B16: Махнівська | C16: 4 | D16: 9 | H16: 3
A17: 12 | B17: Мурафська | C17: 7 | D17: 9 | H17: 5 | I17: 4
A18: 13 | B18: Ободівська | C18: 3 | D18: 7 | H18: 3
A19: 14 | B19: Ольгопільська | C19: 2 | D19: 5 | E19: 1 | G19: 1 | H19: 1 | I19: 1
A20: 15 | B20: Райгородська | C20: 4 | D20: 9 | H20: 4
A21: 16 | B21: Самгородоцька | C21: 7 | D21: 13 | H21: 5
A22: 17 | B22: Северинівська | C22: 3 | D22: 5
A23: 18 | B23: Соболівська | C23: 2 | D23: 4
A24: 19 | B24: Станіславчицька | C24: 4 | D24: 4 | H24: 1
A25: 20 | B25: Студенянська | C25: 4 | D25: 12 | H25: 2
A26: 21 | B26: Уланівська | C26: 14 | D26: 28 | G26: 1 | H26: 12 | I26: 5
A27: 22 | B27: Якушинецька | C27: 9 | D27: 21 | E27: 4 | H27: 13 | I27: 1
A28: 23 | B28: Яришівська | C28: 8 | D28: 8
B29: Всього | C29: =SUM(C6:C28) -> 112 | D29: =SUM(D6:D28) -> 233 | E29: =SUM(E6:E28) -> 6 | G29: =SUM(G6:G28) -> 4 | H29: =SUM(H6:H28) -> 79 | I29: =SUM(I6:I28) -> 34

Sheet таб 4ї
A1: Продовження таблиці 4
B2: ОСНАЩЕННЯ ЗАСОБАМИ ЗВ'ЯЗКУ (розріз міська територіальна громада)
A3: № п/п | B3: Назва ТГ | C3: Оснащення засобами зв'язку | H3: К-сть транспортних засобів | I3: Оснащення засобами зв'язку в сільській місцевості
C4: К-сть б-к, що мають телефонні номери | D4: К-сть б-к, що мають електронну адресу | E4: Загальна кількість б-к, підключених до мережі Інтернет | F4: К-сть комп’ютерів з доступом до мережі Інтернет
G7: К-сть б-к хабів | I7: К-сть сільських б-к, що мають телефонні номери | J7: К-сть сільських б-к, що мають електронну адресу | K7: Загальна к-сть сільських б-к, підключених до мережі Інтернет | L7: К-сть комп'ютерів з доступом до мережі Інтернет у сільській місцевості | M7: К-сть б-к хабів
C8: 2025 | D8: 2025 | E8: 2025 | F8: 2025 | G8: 2025 | H8: 2025 | I8: 2025 | J8: 2025 | K8: 2025 | L8: 2025 | M8: 2025
A9: 1 | B9: 2 | C9: 3 | D9: 4 | E9: 5 | F9: 6 | G9: 7 | H9: 8 | I9: 9 | J9: 10 | K9: 11 | L9: 12 | M9: 13
A10: 1 | B10: Барська | D10: 16 | E10: 7 | F10: 30 | G10: 7 | H10: 1 | J10: 14 | K10: 5 | L10: 18 | M10: 5
A11: 2 | B11: Бершадська | D11: 24 | E11: 21 | F11: 49 | G11: 12 | J11: 23 | K11: 20 | L11: 33 | M11: 11
A12: 3 | B12: Вінницька | C12: 16 | D12: 23 | E12: 23 | F12: 123 | G12: 23 | H12: 1 | I12: 0 | J12: 6 | K12: 6 | L12: 12 | M12: 6
A13: 4 | B13: Гайсинська | D13: 23 | E13: 23 | F13: 68 | G13: 5 | J13: 21 | K13: 21 | L13: 41 | M13: 4
A14: 5 | B14: Гніванська | D14: 9 | E14: 9 | F14: 22 | G14: 3 | J14: 7 | K14: 7 | L14: 11 | M14: 3
A15: 6 | B15: Жмеринська | C15: 1 | D15: 20 | E15: 14 | F15: 20 | G15: 4 | J15: 18 | K15: 12 | L15: 6 | M15: 2
A16: 7 | B16: Іллінецька | D16: 8 | E16: 8 | F16: 32 | G16: 5 | J16: 6 | K16: 6 | L16: 16 | M16: 4
A17: 8 | B17: Калинівська | C17: 4 | D17: 27 | E17: 28 | F17: 38 | G17: 5 | H17: 1 | I17: 3 | J17: 26 | K17: 26 | L17: 24 | M17: 4
A18: 9 | B18: Козятинська | C18: 1 | D18: 2 | E18: 4 | F18: 20 | G18: 4 | J18: 1 | K18: 4 | L18: 7 | M18: 4
A19: 10 | B19: Ладижинська | D19: 3 | E19: 3 | F19: 14 | G19: 3 | J19: 2 | K19: 2 | L19: 4 | M19: 2
A20: 11 | B20: Липовецька | D20: 18 | E20: 5 | F20: 31 | G20: 5 | J20: 17 | K20: 4 | L20: 11 | M20: 5
A21: 12 | B21: Могилів-Подільська | C21: 11 | D21: 11 | E21: 11 | F21: 19 | G21: 1 | I21: 9 | J21: 9 | K21: 9 | L21: 15
A22: 13 | B22: Немирівська | D22: 12 | E22: 13 | F22: 37 | G22: 12 | J22: 11 | K22: 12 | L22: 18 | M22: 11
A23: 14 | B23: Погребищенська | D23: 25 | E23: 18 | F23: 16 | G23: 7 | J23: 23 | K23: 16 | L23: 10 | M23: 6
A24: 15 | B24: Тульчинська | C24: 3 | D24: 25 | E24: 9 | F24: 34 | G24: 9 | I24: 2 | J24: 24 | K24: 8 | L24: 20 | M24: 8
A25: 16 | B25: Хмільницька | D25: 19 | E25: 19 | F25: 47 | G25: 3 | J25: 18 | K25: 11 | L25: 24 | M25: 2
A26: 17 | B26: Шаргородська | C26: 2 | D26: 6 | E26: 9 | F26: 12 | G26: 4 | H26: 0 | I26: 0 | J26: 4 | K26: 7 | L26: 7 | M26: 2
A27: 18 | B27: Ямпільська | C27: 1 | D27: 12 | E27: 12 | F27: 33 | G27: 9 | J27: 10 | K27: 10 | L27: 18 | M27: 8
B28: Всього | C28: =SUM(C10:C27) -> 39 | D28: =SUM(D10:D27) -> 283 | E28: =SUM(E10:E27) -> 236 | F28: =SUM(F10:F27) -> 645 | G28: =SUM(G10:G27) -> 121 | H28: =SUM(H10:H27) -> 3 | I28: =SUM(I10:I27) -> 14 | J28: =SUM(J10:J27) -> 240 | ... M28: =SUM(M10:M27) -> 87
A29: 19 | B29: ВОУНБ ім В. Оамановського | C29: 1 | D29: 1 | E29: 1 | F29: 154 | G29: 1 | H29: 1
A30: 20 | B30: ВОБДіЮ ім І. Франка | C30: 1 | D30: 1 | E30: 1 | F30: 60
B31: Всього | C31: =SUM(C28:C30) -> 41 | D31: =SUM(D28:D30) -> 285 | E31: =SUM(E28:E30) -> 238 | F31: =SUM(F28:F30) -> 859 | G31: =SUM(G28:G30) -> 122 | H31: =SUM(H28:H30) -> 4 | I31: =SUM(I28:I30) -> 14 | J31: =SUM(J28:J30) -> 240 | ... M31: =SUM(M28:M30) -> 87

Sheet таб 4й
A1: Продовження таблиці 4
A2: ОСНАЩЕННЯ ЗАСОБАМИ ЗВ'ЯЗКУ (розріз селищна територіальна громада)
A3: № п/п | B3: Назва ТГ | C3: Оснащення засобами зв'язку | H3: К-сть транспортних засобів
C4: К-сть б-к, що мають телефонні номери | D4: К-сть б-к, що мають електронну адресу | E4: Загальна к-сть б-к, підключених до мережі Інтернет | F4: К-сть комп’ютерів з доступом до мережі Інтернет | G4: К-сть б-к хабів
C5: 2025 | D5: 2025 | E5: 2025 | F5: 2025 | G5: 2025 | H5: 2025
A6: 1 | B6: 2 | C6: 3 | D6: 4 | E6: 5 | F6: 6 | G6: 7 | H6: 8
A7: 1 | B7: Брацлавська | C7: 1 | D7: 5 | E7: 8 | F7: 16 | G7: 3
A8: 2 | B8: Вапнярська | C8: 5 | D8: 5 | E8: 4 | F8: 6
A9: 3 | B9: Вендичанська | D9: 10 | E9: 7 | F9: 11 | G9: 1
A10: 4 | B10: Вороновицька | C10: 1 | D10: 5 | E10: 5 | F10: 14 | G10: 3
A11: 5 | B11: Глуховецька | D11: 10 | E11: 10 | F11: 31 | G11: 4
A12: 6 | B12: Дашівська | D12: 10 | E12: 8 | F12: 20 | G12: 5
A13: 7 | B13: Копайгородська | C13: 1 | D13: 1 | E13: 3 | F13: 5
A14: 8 | B14: Крижопільська | C14: 1 | D14: 11 | E14: 11 | F14: 27 | G14: 7
A15: 9 | B15: Літинська | D15: 12 | E15: 12 | F15: 30 | G15: 5
A16: 10 | B16: Мурованокуриловецька | C16: 1 | D16: 18 | E16: 14 | F16: 38 | G16: 4
A17: 11 | B17: Оратівська | D17: 25 | E17: 17 | F17: 17 | G17: 7
A18: 12 | B18: Піщанська | C18: 1 | D18: 8 | E18: 7 | F18: 15 | G18: 4
A19: 13 | B19: Стрижавська | D19: 6 | E19: 5 | F19: 8 | G19: 2
A20: 14 | B20: Сутисківська | D20: 2 | E20: 2 | F20: 2
A21: 15 | B21: Теплицька | D21: 13 | E21: 12 | F21: 26 | G21: 5
A22: 16 | B22: Тиврівська | D22: 1 | E22: 1 | F22: 10 | H22: 1
A23: 17 | B23: Томашпільська | D23: 22 | E23: 21 | F23: 37 | G23: 7
A24: 18 | B24: Тростянецька | D24: 14 | E24: 14 | F24: 37 | G24: 1
A25: 19 | B25: Турбівська | D25: 10 | E25: 9 | F25: 11 | G25: 2
A26: 20 | B26: Чернівецька | D26: 2 | E26: 2 | F26: 5 | G26: 2
A27: 21 | B27: Чечельницька | D27: 9 | E27: 3 | F27: 10 | G27: 3
A28: 22 | B28: Шпиківська | D28: 8 | E28: 6 | F28: 7
B29: Всього | C29: =SUM(C7:C28) -> 11 | D29: =SUM(D7:D28) -> 207 | E29: =SUM(E7:E28) -> 181 | F29: =SUM(F7:F28) -> 383 | G29: =SUM(G7:G28) -> 65 | H29: =SUM(H7:H28) -> 1

Sheet таб 4к
A1: Продовження таблиці 4
A2: ОСНАЩЕННЯ ЗАСОБАМИ ЗВ'ЯЗКУ (розріз сільська територіальна громада)
A3: № п/п | B3: Назва ТГ | C3: Оснащення засобами зв'язку
C4: К-сть б-к, що мають телефонні номери | D4: К-сть б-к, що мають електронну адресу | E4: Загальна к-сть б-к, підключених до мережі Інтернет | F4: К-сть комп’ютерів з доступом до мережі Інтернет | G4: К-ть б-к хабів
C5: 2025 | D5: 2025 | E5: 2025 | F5: 2025 | G5: 2025
A6: 1 | B6: 2 | C6: 3 | D6: 4 | E6: 5 | F6: 6 | G6: 7
A7: 1 | B7: Агрономічна | D7: 4 | E7: 4 | F7: 4 | G7: 2
A8: 2 | B8: Бабчинецька | D8: 4 | E8: 4 | F8: 10 | G8: 2
A9: 3 | B9: Війтівецька | D9: 1 | E9: 3 | F9: 9
A10: 4 | B10: Городківська | D10: 5 | E10: 4 | F10: 8 | G10: 2
A11: 5 | B11: Джулинська | D11: 13 | E11: 13 | F11: 8 | G11: 4
A12: 6 | B12: Джуринська | D12: 10 | E12: 2 | F12: 6 | G12: 2
A13: 7 | B13: Іванівська | D13: 2 | E13: 2 | F13: 2
A14: 8 | B14: Краснопільська | D14: 7 | E14: 7 | F14: 17 | G14: 1
A15: 9 | B15: Кунківська | D15: 6 | E15: 5 | F15: 4 | G15: 1
A16: 10 | B16: Лука-Мелешківська | C16: 2 | D16: 4 | E16: 4 | F16: 9 | G16: 2
A17: 11 | B17: Махнівська | D17: 9 | E17: 4 | F17: 9 | G17: 1
A18: 12 | B18: Мурафська | D18: 7 | E18: 7 | F18: 9 | G18: 2
A19: 13 | B19: Ободівська | C19: 3 | D19: 1 | E19: 3 | F19: 6
A20: 14 | B20: Ольгопільська | D20: 2 | E20: 2 | F20: 5
A21: 15 | B21: Райгородська | D21: 4 | E21: 4 | F21: 9 | G21: 4
A22: 16 | B22: Самгородоцька | D22: 10 | E22: 7 | F22: 7 | G22: 1
A23: 17 | B23: Северинівська | D23: 1 | E23: 2 | F23: 2
A24: 18 | B24: Соболівська | D24: 9 | E24: 2 | F24: 2
A25: 19 | B25: Станіславчицька | E25: 2 | F25: 2 | G25: 2
A26: 20 | B26: Студенянська | D26: 1 | E26: 2 | F26: 10
A27: 21 | B27: Уланівська | C27: 19 | D27: 19 | E27: 19 | F27: 23 | G27: 5
A28: 22 | B28: Якушинецька | D28: 8 | E28: 9 | F28: 21 | G28: 2
A29: 23 | B29: Яришівська | C29: 7 | D29: 7 | E29: 7 | F29: 7
B30: Всього | C30: =SUM(C7:C29) -> 31 | D30: =SUM(D7:D29) -> 134 | E30: =SUM(E7:E29) -> 118 | F30: =SUM(F7:F29) -> 189 | G30: =SUM(G7:G29) -> 33

Sheet таб 5
A1: Таблиця 5
A2: БІБЛІОТЕЧНИЙ ФОНД БІБЛІОТЕК (розріз міська територіальна громада)
A3: № п/п | B3: Назва ТГ | C3: Надійшло видань протягом 2025 р. (в абс. цифрах) | J3: Надійшло видань протягом 2025 р. у сільській місцевості (в абс. цифрах)
C4: Всього | E4: З них: | J4: Всього в сільській місцевості | L4: З них у сільській місцевості:
C5: прим. | D5: сума | E5: книги, брошури | F5: періодичні видання | G5: аудіовізуальні видання | H5: локальні електронні видання | I5: інші видання | J5: прим. | K5: сума | L5: книги, брошури | M5: періодичні видання | N5: аудіовізуальні видання | O5: локальні електронні видання | P5: інші видання
A6: 1 | B6: 2 | C6: 3 | D6: 4 | E6: 5 | F6: 6 | G6: 7 | H6: 8 | I6: 9 | J6: 10 | K6: 11 | L6: 12 | M6: 13 | N6: 14 | O6: 15 | P6: 16
A7: 1 | B7: Барська | C7: 263 | D7: 48219 | E7: 263 | J7: 32 | K7: 1477 | L7: 32
A8: 2 | B8: Бершадська | C8: 3497 | D8: 414444 | E8: 3178 | F8: 319 | J8: 2767 | K8: 284424 | L8: 2537 | M8: 230
A9: 3 | B9: Вінницька | C9: 16719 | D9: 1793850 | E9: 7740 | F9: 8979 | J9: 2736 | K9: 256821 | L9: 732 | M9: 2004
A10: 4 | B10: Гайсинська | C10: 5156 | D10: 171554 | E10: 846 | F10: 4310 | J10: 4083 | K10: 35705 | L10: 300 | M10: 3783
A11: 5 | B11: Гніванська | C11: 1031 | D11: 139346 | E11: 523 | F11: 508 | J11: 723 | L11: 345 | M11: 378
A12: 6 | B12: Жмеринська | C12: 1017 | D12: 99159 | E12: 681 | F12: 336 | J12: 515 | K12: 32608 | L12: 349 | M12: 166
A13: 7 | B13: Іллінецька | C13: 938 | D13: 135592 | E13: 912 | F13: 26 | J13: 607 | K13: 77647 | L13: 585 | M13: 22
A14: 8 | B14: Калинівська | C14: 1563 | D14: 409811 | E14: 973 | F14: 590 | J14: 848 | L14: 498 | M14: 350
A15: 9 | B15: Козятинська | C15: 360 | D15: 61496 | E15: 347 | F15: 13 | J15: 188 | K15: 22425 | L15: 181 | M15: 7
A16: 10 | B16: Ладижинська | C16: 1645 | D16: 309794 | E16: 999 | F16: 646 | J16: 420 | K16: 66147 | L16: 237 | M16: 183
A17: 11 | B17: Липовецька | C17: 1584 | D17: 256281 | E17: 1146 | F17: 438 | J17: 843 | K17: 73205 | L17: 584 | M17: 259
A18: 12 | B18: Могилів-Подільська | C18: 5969 | D18: 431679 | E18: 5969 | J18: 2541 | K18: 118560 | L18: 2541
A19: 13 | B19: Немирівська | C19: 1381 | D19: 126789 | E19: 726 | F19: 655 | J19: 851 | K19: 65586 | L19: 338 | M19: 513
A20: 14 | B20: Погребищенська | C20: 1147 | D20: 156502.32 | E20: 1117 | F20: 30 | J20: 635 | K20: 74654 | L20: 612 | M20: 23
A21: 15 | B21: Тульчинська | C21: 2356 | D21: 397905 | E21: 1867 | F21: 489 | J21: 1383 | K21: 193617 | L21: 1075 | M21: 308
A22: 16 | B22: Хмільницька | C22: 2649 | D22: 302189 | E22: 2127 | F22: 522 | J22: 1855 | K22: 167377 | L22: 1418 | M22: 437
A23: 17 | B23: Шаргородська | C23: 1444 | D23: 232820 | E23: 1130 | F23: 314 | J23: 1049 | K23: 118566 | L23: 795 | M23: 254
A24: 18 | B24: Ямпільська | C24: 1413 | D24: 236181 | E24: 1130 | F24: 283 | J24: 827 | K24: 113511 | L24: 640 | M24: 187
B25: Всього | C25: =SUM(C7:C24) -> 50132 | D25: =SUM(D7:D24) -> 5723611.3 | E25: =SUM(E7:E24) -> 31674 | F25: =SUM(F7:F24) -> 18458 | G25: =SUM(G7:G24) -> 0 | H25: =SUM(H7:H24) -> 0 | I25: =SUM(I7:I24) -> 0 | J25: =SUM(J7:J24) -> 22903 | ... P25: =SUM(P7:P24) -> 0
A26: 19 | B26: ВОУНБ ім. В Отамановського | C26: 4874 | D26: 1119106 | E26: 4410 | F26: 457 | I26: 7
A27: 20 | B27: ВОБДіЮ ім. І. Франка | C27: 2050 | D27: 357785 | E27: 1753 | F27: 297
B28: Всього | C28: =SUM(C25:C27) -> 57056 | D28: =SUM(D25:D27) -> 7200502.3 | E28: =SUM(E25:E27) -> 37837 | F28: =SUM(F25:F27) -> 19212 | G28: =SUM(G25:G27) -> 0 | H28: =SUM(H25:H27) -> 0 | I28: =SUM(I25:I27) -> 7 | J28: =SUM(J25:J27) -> 22903 | ... P28: =SUM(P25:P27) -> 0

Sheet таб 5а
A1: Продовження таблиці 5
A2: БІБЛІОТЕЧНИЙ ФОНД БІБЛІОТЕК (розріз селищна територіальна громада)
A3: № п/п | B3: Назва ТГ | C3: Надійшло видань протягом 2025 р. (в абс. цифрах)
C4: Всього | E4: З них:
C5: прим. | D5: сума | E5: книги, брошури | F5: періодичні видання | G5: аудіовізуальні видання | H5: локальні електронні видання | I5: інші видання
A6: 1 | B6: 2 | C6: 3 | D6: 4 | E6: 5 | F6: 6 | G6: 7 | H6: 8 | I6: 9
A7: 1 | B7: Брацлавська | C7: 570 | D7: 79838.69 | E7: 570
A8: 2 | B8: Вапнярська | C8: 100 | D8: 10865 | E8: 100
A9: 3 | B9: Вендичанська | C9: 467 | D9: 88392 | E9: 415 | F9: 52
A10: 4 | B10: Вороновицька | C10: 302 | D10: 47486 | E10: 297 | F10: 5
A11: 5 | B11: Глуховецька | C11: 1156 | D11: 150000 | E11: 461 | F11: 695
A12: 6 | B12: Дашівська | C12: 1974 | D12: 78148 | E12: 1118 | F12: 856
A13: 7 | B13: Копайгородська | C13: 284 | D13: 9152 | E13: 284
A14: 8 | B14: Крижопільська | C14: 960 | D14: 149084 | E14: 715 | F14: 245
A15: 9 | B15: Літинська | C15: 1815 | D15: 237307 | E15: 1411 | F15: 404
A16: 10 | B16: Мурованокуриловецька | C16: 730 | D16: 143748 | E16: 631 | F16: 99
A17: 11 | B17: Оратівська | C17: 2250 | D17: 291412 | E17: 1890 | F17: 360
A18: 12 | B18: Піщанська | C18: 675 | D18: 83683 | E18: 484 | F18: 191 | G18: 0 | H18: 0 | I18: 0
A19: 13 | B19: Стрижавська | C19: 713 | D19: 147575 | E19: 598 | F19: 115
A20: 14 | B20: Сутисківська | C20: 161 | D20: 30886 | E20: 137 | F20: 24
A21: 15 | B21: Теплицька | C21: 738 | D21: 96515 | E21: 525 | F21: 213
A22: 16 | B22: Тиврівська | C22: 253 | D22: 46857 | E22: 193 | F22: 60 | G22: 0 | H22: 0 | I22: 0
A23: 17 | B23: Томашпільська | C23: 1115 | D23: 106240 | E23: 654 | F23: 461
A24: 18 | B24: Тростянецька | C24: 2426 | D24: 376947 | E24: 1310 | F24: 1116
A25: 19 | B25: Турбівська | C25: 330 | D25: 56186 | E25: 330
A26: 20 | B26: Чернівецька | C26: 396 | D26: 67417 | E26: 396
A27: 21 | B27: Чечельницька | C27: 457 | D27: 45993 | E27: 457
A28: 22 | B28: Шпиківська | C28: 444 | D28: 95109 | E28: 444
B29: Всього | C29: =SUM(C7:C28) -> 18316 | D29: =SUM(D7:D28) -> 2438840.7 | E29: =SUM(E7:E28) -> 13420 | F29: =SUM(F7:F28) -> 4896 | G29: 0 | H29: 0 | I29: 0

Sheet таб 5б
A1: Продовження таблиці 5
A2: БІБЛІОТЕЧНИЙ ФОНД БІБЛІОТЕК (розріз сільська територіальна громада)
A3: № п/п | B3: Назва ТГ | C3: Надійшло видань протягом 2025 р. (в абс. цифрах)
C4: Всього | E4: З них:
C5: прим. | D5: сума | E5: книги, брошури | F5: періодичні видання | G5: аудіовізуальні видання | I5: локальні електронні видання | J5: інші видання
A6: 1 | B6: 2 | C6: 3 | D6: 4 | E6: 5 | F6: 6 | G6: 7 | I6: 8 | J6: 9
A7: 1 | B7: Агрономічна | C7: 154 | D7: 35044 | E7: 154 | F7: 0
A8: 2 | B8: Бабчинецька | C8: 74 | D8: 11871.91 | E8: 74
A9: 3 | B9: Війтівецька | C9: 343 | D9: 51317 | E9: 343
A10: 4 | B10: Городківська | C10: 301 | D10: 79525 | E10: 301
A11: 5 | B11: Джулинська | C11: 1367 | D11: 130149 | E11: 708 | F11: 659
A12: 6 | B12: Джуринська | C12: 213 | D12: 35184 | E12: 213
A13: 7 | B13: Іванівська | C13: 719 | D13: 90941 | E13: 477 | F13: 242
A14: 8 | B14: Краснопільська | C14: 211 | D14: 25597 | E14: 211
A15: 9 | B15: Кунківська | C15: 303 | D15: 2749 | E15: 303
A16: 10 | B16: Лука-Мелешківська | C16: 279 | D16: 52949 | E16: 279
A17: 11 | B17: Махнівська | C17: 240 | D17: 39779 | E17: 240
A18: 12 | B18: Мурафська | C18: 356 | D18: 39139 | E18: 216 | F18: 140
A19: 13 | B19: Ободівська | C19: 266 | D19: 41568 | E19: 184 | F19: 82
A20: 14 | B20: Ольгопільська | C20: 268 | D20: 72302.39 | E20: 268
A21: 15 | B21: Райгородська | C21: 426 | D21: 29356 | E21: 416 | F21: 10
A22: 16 | B22: Самгородоцька | C22: 318 | D22: 68418 | E22: 316 | F22: 2
A23: 17 | B23: Северинівська | C23: 98 | D23: 13181 | E23: 98
A24: 18 | B24: Соболівська | C24: 127 | D24: 22340 | E24: 127
A25: 19 | B25: Станіславчицька | C25: 241 | D25: 29247 | E25: 241
A26: 20 | B26: Студенянська | C26: 203 | D26: 35073 | E26: 203
A27: 21 | B27: Уланівська | C27: 554 | D27: 49433 | E27: 554
A28: 22 | B28: Якушинецька | C28: 471 | D28: 126776 | E28: 471
A29: 23 | B29: Яришівська
B30: Всього | C30: =SUM(C8:C29) -> 7378 | D30: =SUM(D8:D29) -> 1046895.3 | E30: =SUM(E8:E29) -> 6243 | F30: =SUM(F8:F29) -> 1135 | G30: 0 | I30: 0 | J30: 0

Sheet таб 5в
A1: Продовження таблиці 5
A3: № п/п | B3: Назва ТГ | C3: КНИЖКОВА ПРОДУКЦІЯ ЗА ДЖЕРЕЛАМИ НАДХОДЖЕННЯ (розріз міська територіальна громада) (в абс. цифрах)
G4: За Державними, місцевими програмами
C5: Всього надійшло книг | E5: За кошти місцевого бюджету (придбано документів) | G5: З обмінного фонду ВОУНБ | I5: З ОБЮ | K5: За платні послуги | M5: За спонсорські кошти | O5: Даровані користувачами | Q5: В замін загублених | S5: Інші
C6: прим. | D6: сума | E6: прим. | F6: сума | G6: прим. | H6: сума | I6: прим. | J6: сума | K6: прим. | L6: сума | M6: прим. | N6: сума | O6: прим. | P6: сума | Q6: прим. | R6: сума | S6: прим. | T6: сума
A8: 1 | B8: 2 | C8: 3 | D8: 4 | E8: 5 | F8: 6 | G8: 7 | H8: 8 | I8: 9 | J8: 10 | K8: 11 | L8: 12 | M8: 13 | N8: 14 | O8: 15 | P8: 16 | Q8: 17 | R8: 18 | S8: 19 | T8: 20
A9: 1 | B9: Барська | C9: 263 | D9: 48219 | G9: 93 | H9: 20864 | O9: 119 | P9: 22408 | Q9: 51 | R9: 4947
A10: 2 | B10: Бершадська | C10: 3178 | D10: 366913 | E10: 669 | F10: 102356 | G10: 208 | H10: 28514 | O10: 220 | P10: 25894 | Q10: 24 | R10: 1620 | S10: 2057 | T10: 208529
A11: 3 | B11: Вінницька | C11: 7740 | D11: 1285549.4 | E11: 2125 | F11: 711699 | G11: 93 | H11: 20864 | M11: 144 | N11: 39223 | O11: 3018 | P11: 396452 | Q11: 1847 | R11: 117312 | S11: 513
A12: 4 | B12: Гайсинська | C12: 846 | D12: 171554 | E12: 249 | F12: 69801 | G12: 207 | H12: 28033 | K12: 57 | L12: 17499 | O12: 261 | P12: 45503 | Q12: 58 | R12: 6885 | S12: 14 | T12: 3833
A13: 5 | B13: Гніванська | C13: 523 | G13: 109 | S13: 414
A14: 6 | B14: Жмеринська | C14: 681 | D14: 99159 | G14: 281 | H14: 31853 | M14: 18 | N14: 18355 | O14: 382 | P14: 48951
A15: 7 | B15: Іллінецька | C15: 912 | D15: 135591 | E15: 112 | F15: 42395 | G15: 168 | H15: 25692 | K15: 36 | L15: 2542 | M15: 38 | N15: 8921 | O15: 558 | P15: 56041
A16: 8 | B16: Калинівська | C16: 973 | D16: 289642 | E16: 620 | F16: 199420 | G16: 182 | H16: 38322 | K16: 171 | L16: 51900
A17: 9 | B17: Козятинська | C17: 347 | D17: 61495 | G17: 114 | H17: 21306 | M17: 233 | N17: 40189
A18: 10 | B18: Ладижинська | C18: 999 | D18: 259841 | E18: 731 | F18: 204181 | G18: 61 | H18: 11530 | O18: 196 | P18: 42190 | Q18: 0 | R18: 0 | S18: 11 | T18: 1940
A19: 11 | B19: Липовецька | C19: 1146 | D19: 217500 | E19: 333 | F19: 131213 | G19: 179 | H19: 38976 | K19: 11 | L19: 3169 | O19: 176 | P19: 10730 | Q19: 14 | R19: 1615 | S19: 433 | T19: 31797
A20: 12 | B20: Могилів-Подільська | C20: 5969 | D20: 431679 | G20: 484 | H20: 49849 | O20: 284 | P20: 74400 | S20: 5201 | T20: 307430.19
A21: 13 | B21: Немирівська | C21: 726 | D21: 86826 | G21: 165 | H21: 25356 | Q21: 3 | R21: 200 | S21: 558 | T21: 61270
A22: 14 | B22: Погребищенська | C22: 1117 | D22: 151300.32 | G22: 184 | H22: 39931 | K22: 24 | L22: 6567 | O22: 902 | P22: 103961.5 | Q22: 7 | R22: 840
A23: 15 | B23: Тульчинська | C23: 1867 | D23: 346584 | E23: 202 | F23: 99968 | G23: 480 | H23: 49386 | M23: 1185 | N23: 197230
A24: 16 | B24: Хмільницька | C24: 2127 | D24: 157750 | E24: 294 | F24: 83387 | G24: 279 | H24: 48767 | O24: 1451 | P24: 11306 | Q24: 103 | R24: 14290
A25: 17 | B25: Шаргородська | C25: 1130 | D25: 155439 | E25: 127 | F25: 52268 | G25: 93 | H25: 20863 | O25: 383 | P25: 13814 | Q25: 25 | R25: 1361 | S25: 502 | T25: 67133
A26: 18 | B26: Ямпільська | C26: 1130 | D26: 197260 | E26: 355 | F26: 87000 | G26: 572 | H26: 79100 | O26: 203 | P26: 31160
B27: Всього | C27: =SUM(C9:C26) -> 31674 | D27: =SUM(D9:D26) -> 4462301.7 | E27: =SUM(E9:E26) -> 5817 | F27: =SUM(F9:F26) -> 1783688 | G27: =SUM(G9:G26) -> 3952 | H27: =SUM(H9:H26) -> 579206 | I27: =SUM(I9:I26) -> 0 | J27: =SUM(J9:J26) -> 0 | ... T27: =SUM(T9:T26) -> 681932.19
A28: 19 | B28: ВОУНБ ім. В. Отамановського | C28: 4410 | D28: 465299 | E28: 833 | F28: 386584 | G28: 115 | H28: 26456 | S28: 3462 | T28: 52259
A29: 20 | B29: ВОБДіЮ ім. І. Франка | C29: 1753 | D29: 357785 | E29: 1269 | F29: 299490 | G29: 93 | H29: 20864 | M29: 117 | N29: 18447 | S29: 274 | T29: 18984
B30: Всього | C30: =SUM(C27:C29) -> 37837 | D30: =SUM(D27:D29) -> 5285385.7 | E30: =SUM(E27:E29) -> 7919 | F30: =SUM(F27:F29) -> 2469762 | G30: =SUM(G27:G29) -> 4160 | H30: =SUM(H27:H29) -> 626526 | I30: =SUM(I27:I29) -> 0 | J30: =SUM(J27:J29) -> 0 | ... T30: =SUM(T27:T29) -> 753175.19

Sheet таб 5г
A1: Продовження таблиці 5
A3: № п/п | B3: Назва ТГ | C3: КНИЖКОВА ПРОДУКЦІЯ ЗА ДЖЕРЕЛАМИ НАДХОДЖЕННЯ (розріз селищна територіальна громада) (в абс. цифрах)
G4: За Державними, місцевими програмами
C5: Всього надійшло книг | E5: За кошти місцевого бюджету (придбано документів) | G5: З обмінного фонду ВОУНБ | I5: З ОБЮ | K5: За платні послуги | M5: За спонсорські кошти | O5: Даровані користувачами | Q5: В замін загублених | S5: Інші
C6: прим. | D6: сума | E6: прим. | F6: сума | G6: прим. | H6: сума | I6: прим. | J6: сума | K6: прим. | L6: сума | M6: прим. | N6: сума | O6: прим. | P6: сума | Q6: прим. | R6: сума | S6: прим. | T6: сума
A8: 1 | B8: 2 | C8: 3 | D8: 4 | E8: 5 | F8: 6 | G8: 7 | H8: 8 | I8: 9 | J8: 10 | K8: 11 | L8: 12 | M8: 13 | N8: 14 | O8: 15 | P8: 16 | Q8: 17 | R8: 18 | S8: 19 | T8: 20
A9: 1 | B9: Брацлавська | C9: 570 | D9: 79839 | E9: 61 | F9: 14000 | G9: 132 | H9: 28841 | O9: 377 | P9: 36998
A10: 2 | B10: Вапнярська | C10: 100 | D10: 12315 | E10: 0 | F10: 0 | G10: 47 | H10: 9620 | I10: 0 | J10: 0 | K10: 0 | L10: 0 | M10: 0 | N10: 0 | O10: 53 | P10: 2695 | Q10: 0 | R10: 0 | S10: 0 | T10: 0
A11: 3 | B11: Вендичанська | C11: 415 | D11: 88392 | E11: 176 | F11: 41732 | G11: 239 | H11: 46660
A12: 4 | B12: Вороновицька | C12: 297 | D12: 45236 | G12: 176 | H12: 25943 | I12: 6 | J12: 425 | O12: 108 | P12: 18126 | Q12: 7 | R12: 742
A13: 5 | B13: Глуховецька | C13: 461 | D13: 133408 | E13: 309 | F13: 98767 | G13: 152 | H13: 34641
A14: 6 | B14: Дашівська | C14: 1118 | D14: 78148 | E14: 50 | F14: 12500 | G14: 177 | H14: 25501 | M14: 373 | N14: 7762 | O14: 306 | P14: 14224 | S14: 212 | T14: 18161
A15: 7 | B15: Копайгородська | C15: 284 | D15: 9152 | S15: 284 | T15: 9152
A16: 8 | B16: Крижопільська | C16: 715 | D16: 122688 | E16: 198 | F16: 50000 | G16: 157 | H16: 24638 | O16: 288 | P16: 38918 | Q16: 31 | R16: 5574 | S16: 41 | T16: 3558
A17: 9 | B17: Літинська | C17: 1411 | D17: 187406 | E17: 337 | F17: 99900 | G17: 384 | H17: 53342 | O17: 690 | P17: 34164
A18: 10 | B18: Мурованокуриловецька | C18: 631 | D18: 107806 | E18: 329 | F18: 64058 | G18: 150 | H18: 24385 | O18: 65 | P18: 10475 | Q18: 59 | R18: 4334 | S18: 28 | T18: 4554
A19: 11 | B19: Оратівська | C19: 1890 | D19: 244894 | E19: 194 | F19: 42585 | G19: 545 | H19: 63374 | K19: 96 | L19: 20446 | M19: 478 | N19: 99272 | S19: 577 | T19: 19217
A20: 12 | B20: Піщанська | C20: 484 | D20: 73688 | E20: 87 | F20: 20000 | G20: 256 | H20: 33574 | K20: 28 | L20: 4534 | O20: 77 | P20: 13566 | Q20: 36 | R20: 2014
A21: 13 | B21: Стрижавська | C21: 598 | D21: 147575 | E21: 345 | F21: 99996 | G21: 141 | H21: 27763 | O21: 112 | P21: 19816
A22: 14 | B22: Сутисківська | C22: 137 | D22: 18885.81 | G22: 102 | H22: 16705.81 | O22: 35 | P22: 2180
A23: 15 | B23: Теплицька | C23: 525 | D23: 66348 | G23: 100 | H23: 22215 | O23: 425 | P23: 44133
A24: 16 | B24: Тиврівська | C24: 193 | D24: 25978 | G24: 162 | H24: 23938 | S24: 31 | T24: 2040
A25: 17 | B25: Томашпільська | C25: 654 | D25: 106240 | G25: 295 | H25: 32444 | K25: 30 | L25: 9975 | O25: 329 | P25: 63821
A26: 18 | B26: Тростянецька | C26: 1310 | D26: 290397 | E26: 970 | F26: 244707 | G26: 154 | H26: 24298 | O26: 186 | P26: 21392
A27: 19 | B27: Турбівська | C27: 330 | D27: 56186 | G27: 133 | H27: 22078 | S27: 197 | T27: 34108.02
A28: 20 | B28: Чернівецька | C28: 396 | D28: 67417 | G28: 70 | H28: 11870 | M28: 163 | N28: 35928 | O28: 163 | P28: 19619
A29: 21 | B29: Чечельницька | C29: 457 | D29: 45993 | G29: 230 | H29: 26789 | K29: 35 | L29: 7240 | O29: 192 | P29: 11964
A30: 22 | B30: Шпиківська | C30: 444 | D30: 95109 | E30: 160 | F30: 49980 | G30: 167 | H30: 23990 | K30: 71 | L30: 9992 | M30: 32 | N30: 8257 | O30: 14 | P30: 2890
B31: Всього | C31: =SUM(C9:C30) -> 13420 | D31: =SUM(D9:D30) -> 2103100.8 | E31: =SUM(E9:E30) -> 3216 | F31: =SUM(F9:F30) -> 838225 | G31: =SUM(G9:G30) -> 3969 | H31: =SUM(H9:H30) -> 602609.81 | I31: =SUM(I9:I30) -> 6 | J31: =SUM(J9:J30) -> 425 | ... T31: =SUM(T9:T30) -> 90790.02

Sheet таб 5д
A1: Продовження таблиці 5
A2: № п/п | B2: Назва ТГ | C2: КНИЖКОВА ПРОДУКЦІЯ ЗА ДЖЕРЕЛАМИ НАДХОДЖЕННЯ (розріз сільська територіальна громада) (в абс. цифрах)
G3: За Державними, місцевими програмами
C4: Всього надійшло книг | E4: За кошти місцевого бюджету (придбано документів) | G4: З обмінного фонду ВОУНБ | I4: З ОБЮ | K4: За платні послуги | M4: За спонсорські кошти | O4: Подаровані книги | Q4: В замін загублених | S4: Інші | U4: Надійшло в середньому книг на 1 с/б у 2025 р.
C5: прим. | D5: сума | E5: прим. | F5: сума | G5: прим. | H5: сума | I5: прим. | J5: сума | K5: прим. | L5: сума | M5: прим. | N5: сума | O5: прим. | P5: сума | Q5: прим. | R5: сума | S5: прим. | T5: сума | U5: прим. | V5: сума
A7: 1 | B7: 2 | C7: 3 | D7: 4 | E7: 5 | F7: 6 | G7: 7 | H7: 8 | I7: 9 | J7: 10 | K7: 11 | L7: 12 | M7: 13 | N7: 14 | O7: 15 | P7: 16 | Q7: 17 | R7: 18 | S7: 19 | T7: 20 | U7: 21 | V7: 22
A8: 1 | B8: Агрономічна | C8: 154 | D8: 35044 | E8: 67 | F8: 20000 | G8: 82 | H8: 13100 | M8: 5 | N8: 1944 | U8: 38 | V8: 8760
A9: 2 | B9: Бабчинецька | C9: 74 | D9: 11872 | G9: 74 | H9: 11871.91 | U9: 15 | V9: 2374.38
A10: 3 | B10: Війтівецька | C10: 343 | D10: 51317 | E10: 170 | F10: 30000 | G10: 65 | H10: 11395 | S10: 108 | T10: 9922 | U10: 86 | V10: 12829
A11: 4 | B11: Городківська | C11: 301 | D11: 79521 | E11: 114 | F11: 35000 | G11: 120 | H11: 21556 | M11: 67 | N11: 22965 | U11: 38 | V11: 9940
A12: 5 | B12: Джулинська | C12: 708 | D12: 70155 | G12: 191 | H12: 20567 | O12: 517 | P12: 49588 | U12: 54 | V12: 5395
A13: 6 | B13: Джуринська | C13: 213 | D13: 35184 | G13: 98 | H13: 20511.68 | O13: 115 | P13: 14672.75 | U13: 21 | V13: 3518
A14: 7 | B14: Іванівська | C14: 477 | D14: 63133 | E14: 100 | F14: 13781 | G14: 128 | H14: 21138 | O14: 249 | P14: 28214 | U14: 40 | V14: 5261
A15: 8 | B15: Краснопільська | C15: 211 | D15: 25597 | G15: 211 | U15: 30 | V15: 3656
A16: 9 | B16: Кунківська | C16: 303 | D16: 27149 | G16: 100 | H16: 13202.39 | O16: 203 | P16: 13947 | U16: 51 | V16: 3625
A17: 10 | B17: Лука-Мелешківська | C17: 279 | D17: 52949 | E17: 56 | F17: 16000 | G17: 209 | H17: 32275 | M17: 14 | N17: 4674 | U17: 68 | V17: 13237
A18: 11 | B18: Махнівська | C18: 240 | D18: 39779 | G18: 229 | H18: 37489 | K18: 7 | L18: 1290 | O18: 4 | P18: 1000 | U18: 29 | V18: 4774
A19: 12 | B19: Мурафська | C19: 216 | D19: 34139 | E19: 12 | F19: 1875 | G19: 120 | H19: 21488.56 | K19: 40 | L19: 7185 | O19: 44 | P19: 3590 | U19: 31 | V19: 4877
A20: 13 | B20: Ободівська | C20: 184 | D20: 26738 | G20: 101 | H20: 13238 | K20: 83 | L20: 13500 | U20: 61 | V20: 8913
A21: 14 | B21: Ольгопільська | C21: 268 | D21: 72302 | E21: 161 | F21: 54400 | G21: 98 | H21: 13402 | O21: 9 | P21: 4500 | U21: 75 | V21: 24100
A22: 15 | B22: Райгородська | C22: 426 | D22: 29366 | G22: 141 | H22: 22671 | O22: 285 | P22: 6695 | U22: 43 | V22: 2937
A23: 16 | B23: Самгородоцька | C23: 316 | D23: 68107 | E23: 113 | F23: 34947 | G23: 131 | H23: 22045.5 | O23: 72 | P23: 11114 | U23: 32 | V23: 6811
A24: 17 | B24: Северинівська | C24: 98 | D24: 13181 | G24: 98 | H24: 13181 | U24: 11 | V24: 1465
A25: 18 | B25: Соболівська | C25: 127 | D25: 22340 | G25: 127 | H25: 22340 | U25: 14 | V25: 2482
A26: 19 | B26: Станіславчицька | C26: 241 | D26: 29247 | G26: 241 | H26: 29247 | U26: 40 | V26: 4875
A27: 20 | B27: Студенянська | C27: 203 | D27: 35073 | G27: 81 | H27: 12770 | K27: 114 | L27: 20411 | O27: 8 | P27: 1892 | U27: 34 | V27: 5874
A28: 21 | B28: Уланівська | C28: 554 | D28: 49433 | G28: 351 | H28: 36594.15 | O28: 203 | P28: 12839 | U28: 29 | V28: 2602
A29: 22 | B29: Якушинецька | C29: 471 | D29: 126776 | E29: 304 | F29: 99445 | G29: 123 | H29: 21872 | O29: 44 | P29: 5459 | U29: 52 | V29: 14086
A30: 23 | B30: Яришівська
B31: Всього | C31: =SUM(C8:C30) -> 6407 | D31: =SUM(D8:D30) -> 998402 | E31: =SUM(E8:E30) -> 1097 | F31: =SUM(F8:F30) -> 305448 | G31: =SUM(G8:G30) -> 3119 | H31: =SUM(H8:H30) -> 431955.19 | I31: =SUM(I8:I30) -> 0 | J31: =SUM(J8:J30) -> 0 | ... T31: =SUM(T8:T30) -> 9922 | U31: 36 | V31: 5404

Sheet та5е
A1: Продовження таблиці 5
B2: ВИБУТТЯ (розріз міська територіальна громада)
A3: № п/п | B3: Назва ТГ | C3: Вибуло протягом 2025 р. (в абс. цифрах) | G3: % вибуття | H3: Є на 1.01.2026 р. | I3: В т.ч. укр. мовою | J3: Книгозабезпеченість | K3: % оновлення фонду | L3: Вибуло протягом 2025 р. (в сільській місцевості в абс. цифрах) | P3: % вибуття | Q3: Є на 1.01.2026 р. | R3: В т.ч. укр. мовою | S3: Книгозабезпеченість | T3: % оновлення фонду
C4: Всього | D4: в т. ч.: | J4: 2025 | K4: 2025 | L4: Всього в сільській місцевості | M4: в т. ч.: | S4: 2025 | T4: 2025
D5: книг | E5: інших документів | F5: рос.мовою | M5: книг в сільській місцевості | N5: інших документів в сільській місцевості | O5: рос. мовою
A6: 1 | B6: 2 | C6: 3 | D6: 4 | E6: 5 | F6: 6 | G6: 7 | H6: 8 | I6: 9 | J6: 10 | K6: 11 | L6: 12 | M6: 13 | N6: 14 | O6: 15 | P6: 16 | Q6: 17 | R6: 18 | S6: 19 | T6: 20
A7: 1 | B7: Барська | C7: 9415 | D7: 9415 | F7: 4940 | G7: 4 | H7: 213554 | I7: 135710 | J7: 5 | K7: 0.1 | L7: 4776 | M7: 4776 | O7: 2069 | P7: 3 | Q7: 148639 | R7: 81367 | S7: 6 | T7: 0.02
A8: 2 | B8: Бершадська | C8: 1760 | D8: 1760 | F8: 1703 | G8: 1.41 | H8: 124731 | I8: 73755 | J8: 3 | K8: 2.8 | L8: 1541 | M8: 1541 | O8: 1541 | P8: 1.54 | Q8: 99611 | R8: 50429 | S8: 9.85 | T8: 2.8
A9: 3 | B9: Вінницька | C9: 51625 | D9: 46839 | E9: 4786 | F9: 35432 | G9: 7 | H9: 777962 | I9: 563780 | J9: 2 | K9: 2 | L9: 70 | M9: 70 | N9: 0 | O9: 22 | P9: 0.2 | Q9: 37856 | R9: 34799 | S9: 2 | T9: 7
A10: 4 | B10: Гайсинська | C10: 32316 | D10: 30575 | E10: 1741 | F10: 8454 | G10: 18 | H10: 155212 | I10: 122889 | J10: 4 | K10: 3 | L10: 30119 | M10: 28981 | N10: 1138 | O10: 8066 | P10: 21 | Q10: 118733 | R10: 89300 | S10: 7 | T10: 3
A11: 5 | B11: Гніванська | C11: 1469 | D11: 1469 | G11: 2 | H11: 62658 | I11: 41113 | J11: 3 | K11: 2 | L11: 1214 | M11: 1214 | P11: 3 | Q11: 43066 | R11: 26762 | S11: 6 | T11: 2
A12: 6 | B12: Жмеринська | C12: 4089 | D12: 3257 | E12: 832 | F12: 2518 | G12: 3.3 | H12: 125397 | I12: 88605 | J12: 3 | K12: 0.8 | L12: 1961 | M12: 1961 | N12: 0 | O12: 1384 | P12: 2 | Q12: 88891 | R12: 57429 | S12: 8 | T12: 0.58
A13: 7 | B13: Іллінецька | C13: 12309 | D13: 4240 | E13: 8069 | F13: 6103 | G13: 19 | H13: 51999 | I13: 37524 | J13: 3 | K13: 1.8 | L13: 8576 | M13: 4240 | N13: 4336 | O13: 3858 | P13: 21 | Q13: 33294 | R13: 24175 | S13: 3 | T13: 1.8
A14: 8 | B14: Калинівська | C14: 12400 | D14: 9403 | E14: 2997 | F14: 7060 | G14: 6 | H14: 194728 | I14: 139369 | J14: 4 | K14: 0.8 | L14: 9644 | M14: 7603 | N14: 2041 | O14: 5628 | P14: 6 | Q14: 141076 | R14: 4016 | S14: 5 | T14: 0.6
A15: 9 | B15: Козятинська | H15: 91037 | I15: 69235 | J15: 2 | K15: 0.3 | Q15: 34665 | R15: 23464 | S15: 3 | T15: 0.2
A16: 10 | B16: Ладижинська | C16: 1286 | D16: 300 | E16: 986 | F16: 364 | G16: 3 | H16: 37748 | I16: 33676 | J16: 1.75 | K16: 4.4 | L16: 345 | M16: 0 | N16: 345 | O16: 146 | P16: 6 | Q16: 5751 | R16: 5196 | S16: 4 | T16: 7.3
A17: 11 | B17: Липовецька | C17: 9163 | D17: 8989 | E17: 174 | F17: 3898 | G17: 6.7 | H17: 129136 | I17: 83845 | J17: 7 | K17: 1.2 | L17: 3081 | M17: 3028 | N17: 53 | O17: 2374 | P17: 3 | Q17: 109282 | R17: 67630 | S17: 10 | T17: 0.8
A18: 12 | B18: Могилів-Подільська | C18: 16745 | D18: 16220 | E18: 525 | F18: 12601 | G18: 14 | H18: 78385 | I18: 61812 | J18: 2 | K18: 7.6 | L18: 9661 | M18: 9186 | N18: 475 | O18: 7510 | P18: 10 | Q18: 58702 | R18: 42657 | S18: 6 | T18: 4
A19: 13 | B19: Немирівська | C19: 9808 | D19: 8979 | E19: 829 | F19: 5735 | G19: 4 | H19: 215511 | I19: 132964 | J19: 8 | K19: 0.6 | L19: 7065 | M19: 6450 | N19: 615 | O19: 3612 | P19: 4 | Q19: 157592 | R19: 94362 | S19: 10 | T19: 0.5
A20: 14 | B20: Погребищенська | C20: 25918 | D20: 18125 | E20: 7793 | F20: 9268 | G20: 11.4 | H20: 202369 | I20: 161719 | J20: 8 | K20: 0.6 | L20: 18782 | M20: 12981 | N20: 5801 | O20: 7048 | P20: 10 | Q20: 164638 | R20: 126741 | S20: 10 | T20: 0.4
A21: 15 | B21: Тульчинська | C21: 15305 | D21: 14191 | E21: 1114 | F21: 6551 | G21: 8 | H21: 176394 | I21: 122811 | J21: 14 | K21: 1 | L21: 14562 | M21: 13448 | N21: 1114 | O21: 6190 | P21: 10 | Q21: 136460 | R21: 93862 | S21: 17 | T21: 1
A22: 16 | B22: Хмільницька | C22: 13920 | D22: 13493 | E22: 427 | F22: 9321 | G22: 9 | H22: 145368 | I22: 114418 | J22: 3 | K22: 1.8 | L22: 8616 | M22: 8320 | N22: 296 | O22: 5437 | P22: 10 | Q22: 78378 | R22: 61488 | S22: 4.8 | T22: 2.4
A23: 17 | B23: Шаргородська | C23: 1917 | D23: 1361 | E23: 556 | F23: 837 | G23: 1 | H23: 162232 | I23: 85757 | J23: 7 | K23: 0.9 | L23: 1687 | M23: 1336 | N23: 351 | O23: 821 | P23: 1.7 | Q23: 98733 | R23: 53791 | S23: 6.3 | T23: 1.1
A24: 18 | B24: Ямпільська | C24: 9325 | D24: 8526 | E24: 799 | F24: 6538 | G24: 4 | H24: 314798 | I24: 176446 | J24: 10 | K24: 0.4 | L24: 5088 | M24: 4473 | N24: 615 | O24: 3029 | P24: 2.1 | Q24: 240092 | R24: 133693 | S24: 11 | T24: 0.3
B25: Всього | C25: =SUM(C7:C24) -> 228770 | D25: =SUM(D7:D24) -> 197142 | E25: =SUM(E7:E24) -> 31628 | F25: =SUM(F7:F24) -> 121323 | G25: 7 | H25: =SUM(H7:H24) -> 3259219 | I25: =SUM(I7:I24) -> 2245428 | J25: 3 | K25: 1.5 | L25: =SUM(L7:L24) -> 126788 | M25: =SUM(M7:M24) -> 109608 | N25: =SUM(N7:N24) -> 17180 | O25: =SUM(O7:O24) -> 58735 | P25: 4 | Q25: =SUM(Q7:Q24) -> 1795459 | R25: =SUM(R7:R24) -> 1071161 | S25: 0.3 | T25: 18
A26: 19 | B26: ВОУНБ ім. В. Отамановського | C26: 38380 | D26: 24093 | E26: 14287 | F26: 29637 | G26: 4 | H26: 843635 | I26: 313609
A27: 20 | B27: ВОБДіЮ ім. І. Франка | C27: 3410 | D27: 1538 | E27: 1872 | F27: 1082 | G27: 2.3 | H27: 131882 | I27: 92388
B28: Всього | C28: =SUM(C25:C27) -> 270560 | D28: =SUM(D25:D27) -> 222773 | E28: =SUM(E25:E27) -> 47787 | F28: =SUM(F25:F27) -> 152042 | G28: 6 | H28: =SUM(H25:H27) -> 4234736 | I28: =SUM(I25:I27) -> 2651425 | J28: 4 | K28: 1.3 | L28: =SUM(L25:L27) -> 126788 | M28: =SUM(M25:M27) -> 109608 | N28: =SUM(N25:N27) -> 17180 | O28: =SUM(O25:O27) -> 58735 | P28: =SUM(P25:P27) -> 4 | Q28: =SUM(Q25:Q27) -> 1795459 | R28: =SUM(R25:R27) -> 1071161 | S28: 0.3 | T28: =SUM(T25:T27) -> 18

Sheet таб 5є
A1: Продовження таблиці 5
A2: ВИБУТТЯ (розріз селищна територіальна громада )
A3: № п/п | B3: Назва ТГ | C3: Вибуло протягом 2025 р. (в абс. цифрах) | G3: % вибуття | H3: Є на 1.01.2026 р. | I3: В т.ч. укр. мовою | J3: Книгозабез-печеність | K3: % оновлення фонду
C4: Всього | D4: в т. ч.: | J4: 2025 | K4: 2025
D5: книг | E5: інших документів | F5: рос. мовою
A6: 1 | B6: 2 | C6: 3 | D6: 4 | E6: 5 | F6: 6 | G6: 7 | H6: 8 | I6: 9 | J6: 10 | K6: 11
A7: 1 | B7: Брацлавська | C7: 2927 | D7: 2799 | E7: 128 | F7: 2078 | G7: 5 | H7: 53603 | I7: 43512 | J7: 7 | K7: 1
A8: 2 | B8: Вапнярська | C8: 0 | D8: 0 | E8: 0 | F8: 0 | G8: 0 | H8: 37687 | I8: 25852 | J8: 3.4 | K8: 0.3
A9: 3 | B9: Вендичанська | C9: 7722 | D9: 7527 | E9: 195 | F9: 4102 | G9: 7 | H9: 102841 | I9: 59486 | J9: 10 | K9: 0.5
A10: 4 | B10: Вороновицька | C10: 804 | D10: 541 | E10: 263 | F10: 38 | G10: 2 | H10: 50815 | I10: 44172 | J10: 3.2 | K10: 0.6
A11: 5 | B11: Глуховецька | C11: 3117 | D11: 3117 | F11: 1843 | G11: 7 | H11: 47199 | I11: 39900 | J11: 4 | K11: 2.4
A12: 6 | B12: Дашівська | C12: 3808 | D12: 3523 | E12: 285 | F12: 442 | G12: 7.3 | H12: 50455 | I12: 45774 | J12: 3.7 | K12: 3.9
A13: 7 | B13: Копайгородська | C13: 9305 | D13: 9284 | E13: 21 | F13: 5348 | G13: 16 | H13: 48018 | I13: 35238 | J13: 6 | K13: 0.6
A14: 8 | B14: Крижопільська | C14: 4135 | D14: 3532 | E14: 603 | F14: 1177 | G14: 4.3 | H14: 93800 | I14: 67706 | J14: 5 | K14: 1
A15: 9 | B15: Літинська | H15: 109041 | I15: 74730 | J15: 4.6 | K15: 1.3
A16: 10 | B16: Мурованокуриловецька | C16: 8558 | D16: 8246 | E16: 312 | F16: 2305 | G16: 8.4 | H16: 93746 | I16: 68110 | J16: 4.7 | K16: 0.8
A17: 11 | B17: Оратівська | C17: 12375 | D17: 10071 | E17: 2304 | F17: 3613 | G17: 10 | H17: 111475 | I17: 82972 | J17: 6.2 | K17: 2
A18: 12 | B18: Піщанська | C18: 5373 | D18: 5306 | E18: 67 | F18: 3572 | G18: 4.5 | H18: 113978 | I18: 94658 | J18: 5 | K18: 0.6
A19: 13 | B19: Стрижавська | H19: 59704 | I19: 33248 | J19: 2.7 | K19: 3.3
A20: 14 | B20: Сутисківська | C20: 140 | D20: 140 | F20: 140 | G20: 0.7 | H20: 20006 | I20: 13070 | J20: 2.89 | K20: 0.7
A21: 15 | B21: Теплицька | C21: 661 | D21: 661 | F21: 530 | G21: 0.4 | H21: 180634 | I21: 93295 | J21: 11 | K21: 0.4
A22: 16 | B22: Тиврівська | H22: 74604 | I22: 56357 | J22: 5.5 | K22: 0.3
A23: 17 | B23: Томашпільська | C23: 5992 | D23: 5064 | E23: 928 | F23: 3118 | G23: 3.3 | H23: 175222 | I23: 116178 | J23: 8 | K23: 0.6
A24: 18 | B24: Тростянецька | C24: 12967 | D24: 12486 | E24: 481 | F24: 7926 | G24: 7 | H24: 169751 | I24: 107161 | J24: 7 | K24: 1.4
A25: 19 | B25: Турбівська | C25: 4136 | D25: 4136 | F25: 3190 | G25: 3 | H25: 114943 | I25: 75127 | J25: 7 | K25: 0.29
A26: 20 | B26: Чернівецька | H26: 117521 | I26: 64333 | J26: 8 | K26: 0.3
A27: 21 | B27: Чечельницька | C27: 28849 | D27: 28849 | F27: 15792 | G27: 28 | H27: 63607 | I27: 55572 | J27: 5 | K27: 0.7
A28: 22 | B28: Шпиківська | C28: 17229 | D28: 17229 | F28: 11294 | G28: 11 | H28: 133330 | I28: 80522 | J28: 8 | K28: 0.3
B29: Всього | C29: =SUM(C7:C28) -> 128098 | D29: =SUM(D7:D28) -> 122511 | E29: =SUM(E7:E28) -> 5587 | F29: =SUM(F7:F28) -> 66508 | G29: 6 | H29: =SUM(H7:H28) -> 2021980 | I29: =SUM(I7:I28) -> 1376973 | J29: 7 | K29: 1

Sheet таб 5 ж
A1: Продовження таблиці 5
A2: ВИБУТТЯ (розріз сільська територіальгна громада)
A3: № п/п | B3: Назва ТГ | C3: Вибуло протягом 2025 р. (в абс. цифрах) | F3: % вибуття | G3: Є на 1.01.2026 р. | H3: В т.ч. укр. мовою | I3: Книгозабез-печеність | J3: % оновлення фонду
C4: Всього | D4: в т. ч.: | I4: 2025 | J4: 2025
D5: книг | E5: інших документів
A6: 1 | B6: 2 | C6: 3 | D6: 4 | E6: 5 | F6: 6 | G6: 7 | H6: 8 | I6: 9 | J6: 10
A7: 1 | B7: Агрономічна | G7: 20725 | H7: 17006 | I7: 2.2 | J7: 0.7
A8: 2 | B8: Бабчинецька | G8: 64840 | H8: 39506 | I8: 12 | J8: 0.1
A9: 3 | B9: Війтівецька | G9: 31674 | H9: 21060 | I9: 7 | J9: 1
A10: 4 | B10: Городківська | C10: 2408 | D10: 2306 | E10: 102 | F10: 4.4 | G10: 54724 | H10: 45093 | I10: 5 | J10: 0.6
A11: 5 | B11: Джулинська | C11: 619 | D11: 619 | F11: 0.9 | G11: 67512 | H11: 37855 | I11: 6 | J11: 2
A12: 6 | B12: Джуринська | C12: 3367 | D12: 3367 | F12: 4 | G12: 78724 | H12: 46413 | I12: 7 | J12: 0.3
A13: 7 | B13: Іванівська | C13: 13952 | D13: 12911 | E13: 1041 | F13: 24 | G13: 45566 | H13: 36018 | I13: 3 | J13: 1.5
A14: 8 | B14: Краснопільська | C14: 7928 | D14: 7928 | F14: 14 | G14: 47157 | H14: 39729 | I14: 4.5 | J14: 1
A15: 9 | B15: Кунківська | C15: 6771 | D15: 6771 | F15: 20 | G15: 27362 | H15: 24033 | I15: 7 | J15: 1
A16: 10 | B16: Лука-Мелешківська | G16: 21496 | H16: 18030 | I16: 2 | J16: 1.2
A17: 11 | B17: Махнівська | G17: 68369 | H17: 39221 | I17: 10 | J17: 0.4
A18: 12 | B18: Мурафська | C18: 961 | D18: 838 | E18: 123 | F18: 1 | G18: 65159 | H18: 36756 | I18: 9 | J18: 0.5
A19: 13 | B19: Ободівська | C19: 825 | D19: 825 | F19: 1.2 | G19: 70379 | H19: 42526 | I19: 9 | J19: 0.4
A20: 14 | B20: Ольгопільська | G20: 23524 | H20: 18639 | I20: 5 | J20: 1.1
A21: 15 | B21: Райгородська | C21: 778 | D21: 778 | F21: 1 | G21: 71931 | H21: 50883 | I21: 10 | J21: 0.6
A22: 16 | B22: Самгородоцька | C22: 1332 | D22: 1209 | E22: 123 | F22: 2.62 | G22: 50799 | H22: 37809 | I22: 6 | J22: 0.6
A23: 17 | B23: Северинівська | C23: 230 | D23: 230 | F23: 1 | G23: 68504 | H23: 34623 | I23: 9 | J23: 0.1
A24: 18 | B24: Соболівська | G24: 54648 | H24: 35545 | I24: 8 | J24: 0.2
A25: 19 | B25: Станіславчицька | G25: 34018 | H25: 19647 | I25: 6 | J25: 1.2
A26: 20 | B26: Студенянська | C26: 9495 | D26: 9495 | F26: 18 | G26: 43547 | H26: 42732 | I26: 10 | J26: 0.5
A27: 21 | B27: Уланівська | C27: 4286 | D27: 3969 | E27: 317 | F27: 2.2 | G27: 189671 | H27: 118580 | I27: 29 | J27: 0.29
A28: 22 | B28: Якушинецька | G28: 43011 | H28: 36388 | I28: 1.9 | J28: 1.1
A29: 23 | B29: Яришівська | G29: 86762 | H29: 47685
B30: Всього | C30: =SUM(C7:C29) -> 52952 | D30: =SUM(D7:D29) -> 51246 | E30: =SUM(E7:E29) -> 1706 | F30: 4 | G30: =SUM(G7:G29) -> 1330102 | H30: =SUM(H7:H29) -> 885777 | I30: 6 | J30: 0.6

Sheet таб 6
A1: Таблиця 6
A2: ДАНІ ПРО ПЕРЕДПЛАТУ ПЕРІОДИЧНИХ ВИДАНЬ
A3: НА І-ШЕ ПІВРІЧЧЯ 2026 РОКУ (розріз міська територіальна громада)
A4: № п/п | B4: Назва ТГ | C4: К-сть назв | F4: К-сть примірників | I4: Сума коштів (в абс. цифрах) | K4: Передплач. прим. на 1с/б у 2026 році (прим./сума)
C5: Всього | D5: В т.ч.: | F5: Всього | G5: В т.ч.: | I5: Всього | J5: В т.ч. для с/б
D6: Гол. б-ка ТГ | E6: с/б | G6: Гол. б-ка ТГ | H6: с/б
A7: 1 | B7: 2 | C7: 3 | D7: 4 | E7: 5 | F7: 6 | G7: 7 | H7: 8 | I7: 9 | J7: 10 | K7: 11
A8: 1 | B8: Барська
A9: 2 | B9: Бершадська | C9: 45 | D9: 21 | E9: 24 | F9: 114 | G9: 26 | H9: 88 | I9: 50060 | J9: 32172 | K9: 4/1399
A10: 3 | B10: Вінницька | C10: 299 | D10: 48 | E10: 51 | F10: 8200 | G10: 2154 | H10: 1450 | I10: 497372 | J10: 81469 | K10: 241/24876
A11: 4 | B11: Гайсинська | C11: 57 | D11: 40 | E11: 17 | F11: 341 | G11: 68 | H11: 273 | I11: 182199 | J11: 149256 | K11: 13/7104
A12: 5 | B12: Гніванська
A13: 6 | B13: Жмеринська
A14: 7 | B14: Іллінецька | C14: 3 | D14: 3 | F14: 3 | G14: 3 | I14: 2 472
A15: 8 | B15: Калинівська
A16: 9 | B16: Козятинська
A17: 10 | B17: Ладижинська | C17: 91 | D17: 86 | E17: 32 | F17: 149 | G17: 102 | H17: 47 | I17: 97415 | J17: 23114 | K17: 24/11557
A18: 11 | B18: Липовецька | C18: 21 | D18: 17 | E18: 10 | F18: 64 | G18: 19 | H18: 45 | I18: 10000 | J18: 5406 | K18: 3/318
A19: 12 | B19: Могилів-Подільська
A20: 13 | B20: Немирівська
A21: 14 | B21: Погребищенська
A22: 15 | B22: Тульчинська | C22: 17 | D22: 14 | E22: 3 | F22: 83 | G22: 17 | H22: 66 | I22: 23230 | J22: 16786 | K22: 3/763
A23: 16 | B23: Хмільницька | C23: 177 | D23: 19 | E23: 158 | F23: 289 | G23: 31 | H23: 258 | I23: 35763 | J23: 15915 | K23: 14/884
A24: 17 | B24: Шаргородська | C24: 40 | D24: 17 | E24: 5 | F24: 100 | G24: 18 | H24: 32 | I24: 22948 | J24: 8916 | K24: 2/637
A25: 18 | B25: Ямпільська | C25: 22 | D25: 18 | E25: 4 | F25: 86 | G25: 18 | H25: 68 | I25: 31902 | J25: 23392 | K25: 4/1170
B26: Всього | C26: =SUM(C8:C25) -> 772 | D26: =SUM(D8:D25) -> 283 | E26: =SUM(E8:E25) -> 304 | F26: =SUM(F8:F25) -> 9429 | G26: =SUM(G8:G25) -> 2456 | H26: =SUM(H8:H25) -> 2327 | I26: =SUM(I8:I25) -> 950889 | J26: =SUM(J8:J25) -> 356426 | K26: 8/1273
A27: 19 | B27: ВОУНБ ім. В. Отамановського
A28: 20 | B28: ВОБДіЮ І. Франка | C28: 53 | D28: 53 | F28: 55 | G28: 55 | I28: 31577
B29: Всього | C29: =SUM(C26:C28) -> 825 | D29: =SUM(D26:D28) -> 336 | E29: =SUM(E26:E28) -> 304 | F29: =SUM(F26:F28) -> 9484 | G29: =SUM(G26:G28) -> 2511 | H29: =SUM(H26:H28) -> 2327 | I29: =SUM(I26:I28) -> 982466 | J29: =SUM(J26:J28) -> 356426 | K29: 8/1273

Sheet таб 6а
A1: Таблиця 6
A2: ДАНІ ПРО ПЕРЕДПЛАТУ ПЕРІОДИЧНИХ ВИДАНЬ
A3: НА І-ШЕ ПІВРІЧЧЯ 2026 РОКУ (розріз селищна територіальна громада)
A4: № п/п | B4: Назва ТГ | C4: К-сть назв | F4: К-сть примірників | I4: Сума коштів (в абс. цифрах) | K4: Передплач. прим. на 1с/б у 2026 році (прим./сума)
C5: Всього | D5: В т.ч.: | F5: Всього | G5: В т.ч.: | I5: Всього | J5: В т.ч. для с/б
D6: Гол. б-ка ТГ | E6: с/б | G6: Гол. б-ка ТГ | H6: с/б
A7: 1 | B7: 2 | C7: 3 | D7: 4 | E7: 5 | F7: 6 | G7: 7 | H7: 8 | I7: 9 | J7: 10 | K7: 11
A8: 1 | B8: Брацлавська
A9: 2 | B9: Вапнярська
A10: 3 | B10: Вендичанська
A11: 4 | B11: Вороновицька | C11: 1 | D11: 1 | F11: 1 | G11: 1 | I11: 400
A12: 5 | B12: Глуховецька
A13: 6 | B13: Дашівська | C13: 18 | D13: 18 | E13: 11 | F13: 116 | G13: 17 | H13: 99 | I13: 40448 | J13: 32400 | K13: 11/3600
A14: 7 | B14: Копайгородська
A15: 8 | B15: Крижопільська | C15: 20 | D15: 11 | E15: 9 | F15: 105 | G15: 19 | H15: 86 | I15: 29991 | J15: 23420 | K15: 6/1561
A16: 9 | B16: Літинська | C16: 65 | D16: 60 | E16: 5 | F16: 148 | G16: 71 | H16: 77 | I16: 84924 | J16: 36976 | K16: 5/2311
A17: 10 | B17: Мурованокуриловецька
A18: 11 | B18: Оратівська | C18: 28 | D18: 28 | E18: 3 | F18: 77 | H18: 49 | I18: 24588 | J18: 15058 | K18: 3/837
A19: 12 | B19: Піщанська | C19: 34 | D19: 22 | F19: 90 | G19: 22 | I19: 20000
A20: 13 | B20: Стрижавська
A21: 14 | B21: Сутисківська
A22: 15 | B22: Теплицька | C22: 33 | D22: 29 | E22: 4 | F22: 90 | G22: 29 | H22: 61 | I22: 29794 | J22: 13012 | K22: 3/685
A23: 16 | B23: Тиврівська
A24: 17 | B24: Томашпільська | C24: 15 | E24: 15 | F24: 35 | H24: 35 | I24: 6300 | J24: 6300 | K24: 2/300
A25: 18 | B25: Тростянецька | C25: 26 | D25: 20 | E25: 18 | F25: 173 | G25: 20 | H25: 153 | I25: 55292 | J25: 44612 | K25: 12/3432
A26: 19 | B26: Турбівська
A27: 20 | B27: Чернівецька
A28: 21 | B28: Чечельницька
A29: 22 | B29: Шпиківська
B30: Всього | C30: =SUM(C8:C29) -> 240 | D30: =SUM(D8:D29) -> 189 | E30: =SUM(E8:E29) -> 65 | F30: =SUM(F8:F29) -> 835 | G30: =SUM(G8:G29) -> 179 | H30: =SUM(H8:H29) -> 560 | I30: =SUM(I8:I29) -> 291737 | J30: =SUM(J8:J29) -> 171778 | K30: 2/674

Sheet таб 6б
A1: Таблиця 6
A2: ДАНІ ПРО ПЕРЕДПЛАТУ ПЕРІОДИЧНИХ ВИДАНЬ
A3: НА І-ШЕ ПІВРІЧЧЯ 2026 РОКУ (розріз сільська територіальна громада)
A4: № п/п | B4: Назва ТГ | C4: К-сть назв | F4: К-сть примірників | I4: Сума коштів (в абс. цифрах) | K4: Передплач. прим. на 1с/б у 2026 році (прим./сума)
C5: Всього | D5: В т.ч.: | F5: Всього | G5: В т.ч.: | I5: Всього | J5: В т.ч. для с/б
D6: Гол. б-ка ТГ | E6: с/б | G6: Гол. б-ка ТГ | H6: с/б
A7: 1 | B7: 2 | C7: 3 | D7: 4 | E7: 5 | F7: 6 | G7: 7 | H7: 8 | I7: 9 | J7: 10 | K7: 12
A8: 1 | B8: Агрономічна
A9: 2 | B9: Бабчинецька
A10: 3 | B10: Війтівецька
A11: 4 | B11: Городківська
A12: 5 | B12: Джулинська | C12: 60 | D12: 29 | E12: 31 | F12: 124 | G12: 29 | H12: 124 | I12: 59616 | J12: 42616 | K12: 9/3278
A13: 6 | B13: Джуринська
A14: 7 | B14: Іванівська | C14: 60 | D14: 5 | E14: 55 | F14: 278 | G14: 19 | H14: 259 | I14: 30000 | J14: 30000 | K14: 22/2501
A15: 8 | B15: Краснопільська
A16: 9 | B16: Кунківська
A17: 10 | B17: Лука-Мелешківська
A18: 11 | B18: Махнівська | C18: 8 | D18: 5 | E18: 3 | F18: 26 | G18: 5 | H18: 21 | I18: 10000 | J18: 8672 | K18: 2/964
A19: 12 | B19: Мурафська | C19: 40 | D19: 12 | E19: 28 | F19: 140 | G19: 42 | H19: 98 | I19: 5000 | J19: 5000 | K19: 14/716
A20: 13 | B20: Ободівська | C20: 54 | D20: 24 | E20: 30 | F20: 82 | G20: 37 | H20: 45 | I20: 18936 | J20: 9868 | K20: 6/1409
A21: 14 | B21: Ольгопільська
A22: 15 | B22: Райгородська
A23: 16 | B23: Самгородоцька | C23: 2 | D23: 2 | E23: 13 | F23: 13 | G23: 13 | H23: 13 | I23: 452 | J23: 452 | K23: 1/45
A24: 17 | B24: Северинівська
A25: 18 | B25: Соболівська
A26: 19 | B26: Станіславчицька
A27: 20 | B27: Студенянська
A28: 21 | B28: Уланівська
A29: 22 | B29: Якушинецька | C29: 2 | D29: 2 | E29: 1 | F29: 11 | G29: 4 | H29: 7 | I29: 4066 | J29: 1480 | K29: 2586
A30: 23 | B30: Яришівська
B31: Всього | C31: =SUM(C8:C30) -> 226 | D31: =SUM(D8:D30) -> 79 | E31: =SUM(E8:E30) -> 161 | F31: =SUM(F8:F30) -> 674 | G31: =SUM(G8:G30) -> 149 | H31: =SUM(H8:H30) -> 567 | I31: =SUM(I8:I30) -> 128070 | J31: =SUM(J8:J30) -> 98088 | K31: 2/545

Sheet таб 7
A1: Таблиця 7
A2: КІЛЬКІСТЬ КОРИСТУВАЧІВ (розріз міська територіальна громада)
A3: № п/п | B3: Назва ТГ | C3: Користувачі
C4: Всього (в абс. цифрах) | F4: В сільській місцевості (в абс. цифрах)
C5: 2024 | D5: 2025 | E5: Зміни +/- | F5: 2024 | G5: 2025 | H5: Зміни +/-
A6: 1 | B6: 2 | C6: 3 | D6: 4 | E6: 5 | F6: 6 | G6: 7 | H6: 8
A7: 1 | B7: Барська | C7: 11790 | D7: 11638 | E7: -152 | F7: 4843 | G7: 4659 | H7: -184
A8: 2 | B8: Бершадська | C8: 14256 | D8: 14103 | E8: -153 | F8: 9721 | G8: 10105 | H8: 384
A9: 3 | B9: Вінницька | C9: 63350 | D9: 62711 | E9: -639 | F9: 5750 | G9: 5750 | H9: 0
A10: 4 | B10: Гайсинська | C10: 20250 | D10: 20030 | E10: -220 | F10: 10680 | G10: 10754 | H10: 74
A11: 5 | B11: Гніванська | C11: 4899 | D11: 4855 | E11: -44 | F11: 2926 | G11: 2911 | H11: -15
A12: 6 | B12: Жмеринська | C12: 9237 | D12: 10146 | E12: 909 | F12: 5504 | G12: 6003 | H12: 499
A13: 7 | B13: Іллінецька | C13: 6909 | D13: 7448 | E13: 539 | F13: 3539 | G13: 4153 | H13: 614
A14: 8 | B14: Калинівська | C14: 17125 | D14: 16759 | E14: -366 | F14: 11222 | G14: 10856 | H14: -366
A15: 9 | B15: Козятинська | C15: 3604 | D15: 3606 | E15: 2 | F15: 1719 | G15: 1710 | H15: -9
A16: 10 | B16: Ладижинська | C16: 4752 | D16: 4069 | E16: -683 | F16: 805 | G16: 805 | H16: 0
A17: 11 | B17: Липовецька | C17: 7920 | D17: 7851 | E17: -69 | F17: 3848 | G17: 3776 | H17: -72
A18: 12 | B18: Могилів-Подільська | C18: 6964 | D18: 6062 | E18: -902 | F18: 3932 | G18: 3505 | H18: -427
... A24: 18 | B24: Ямпільська | C24: 9456 | D24: 9707 | E24: 251 | F24: 6564 | G24: 6879 | H24: 315
B25: Всього | C25: =SUM(C7:C24) -> 244849 | D25: =SUM(D7:D24) -> 239355 | E25: =SUM(E7:E24) -> -5494 | F25: =SUM(F7:F24) -> 111425 | G25: =SUM(G7:G24) -> 108748 | H25: =SUM(H7:H24) -> -2677
A26: 19 | B26: ВОУНБ ім. В. Отамановського | C26: 37805 | D26: 37276 | E26: -529
A27: 20 | B27: ВОБДіЮ ім. І. Франка | C27: 16093 | D27: 16139 | E27: 46
B28: Всього | C28: =SUM(C25:C27) -> 298747 | D28: =SUM(D25:D27) -> 292770 | E28: =SUM(E25:E27) -> -5977 | F28: =SUM(F25:F27) -> 111425 | G28: =SUM(G25:G27) -> 108748 | H28: =SUM(H25:H27) -> -2677

Sheet таб 7а
A1: Продовження таблиці 7
A2: КІЛЬКІСТЬ КОРИСТУВАЧІВ (розріз селищна територіальна громада)
A3: № п/п | B3: Назва ТГ | C3: Користувачі
C4: Всього (в абс. цифрах)
C5: 2024 | D5: 2025 | E5: Зміни +/-
A6: 1 | B6: 2 | C6: 3 | D6: 4 | E6: 5
A7: 1 | B7: Брацлавська | C7: 3693 | D7: 3616 | E7: -77
A8: 2 | B8: Вапнярська | C8: 1732 | D8: 1763 | E8: 31
A9: 3 | B9: Вендичанська | C9: 3998 | D9: 3870 | E9: -128
A10: 4 | B10: Вороновицька | C10: 4843 | D10: 4577 | E10: -266
A11: 5 | B11: Глуховецька | C11: 3108 | D11: 3265 | E11: 157
A12: 6 | B12: Дашівська | C12: 3468 | D12: 3198 | E12: -270
A13: 7 | B13: Копайгородська | C13: 2214 | D13: 2255 | E13: 41
A14: 8 | B14: Крижопільська | C14: 11723 | D14: 11707 | E14: -16
A15: 9 | B15: Літинська | C15: 10829 | D15: 10974 | E15: 145
A16: 10 | B16: Мурованокуриловецька | C16: 10302 | D16: 10541 | E16: 239
A17: 11 | B17: Оратівська | C17: 6038 | D17: 4407 | E17: -1631
A18: 12 | B18: Піщанська | C18: 5010 | D18: 5000 | E18: -10
... A28: 22 | B28: Шпиківська | C28: 6526 | D28: 6437 | E28: -89
B29: Всього | C29: =SUM(C7:C28) -> 119115 | D29: =SUM(D7:D28) -> 118483 | E29: =SUM(E7:E28) -> -632

Sheet таб 7б
A1: Продовження таблиці 7
A2: КІЛЬКІСТЬ КОРИСТУВАЧІВ (розріз сільська територіальна громада )
A3: № п/п | B3: Назва ТГ | C3: Всього (в абс. цифрах)
C5: 2024 | D5: 2025 | E5: Зміни +/-
A6: 1 | B6: 1 | C6: 2 | D6: 3 | E6: 4
A7: 1 | B7: Агрономічна | C7: 1645 | D7: 1650 | E7: 5
A8: 2 | B8: Бабчинецька | C8: 1875 | D8: 1686 | E8: -189
A9: 3 | B9: Війтівецька | C9: 1831 | D9: 1732 | E9: -99
A10: 4 | B10: Городківська | C10: 2861 | D10: 2864 | E10: 3
A11: 5 | B11: Джулинська | C11: 4557 | D11: 4551 | E11: -6
A12: 6 | B12: Джуринська | C12: 4247 | D12: 3696 | E12: -551
A13: 7 | B13: Іванівська | C13: 5308 | D13: 4452 | E13: -856
A14: 8 | B14: Краснопільська | C14: 3080 | D14: 2316 | E14: -764
A15: 9 | B15: Кунківська | C15: 2563 | D15: 2447 | E15: -116
A16: 10 | B16: Лука-Мелешківська | C16: 2804 | D16: 2816 | E16: 12
A17: 11 | B17: Махнівська | C17: 1867 | D17: 1878 | E17: 11
A18: 12 | B18: Мурафська | C18: 3547 | D18: 3335 | E18: -212
... A29: 23 | B29: Яришівська | C29: 2611 | D29: 1711 | E29: -900
B30: Всього | C30: =SUM(C7:C29) -> 69367 | D30: =SUM(D7:D29) -> 64807 | E30: =SUM(E7:E29) -> -4560

Sheet таб 7в
A1: Продовження таблиці 7
A2: КІЛЬКІСТЬ ЗАРЕЄСТРОВАНИХ КОРИСТУВАЧІВ ЗГІДНО З ЄРК У БІБЛІОТЕКАХ (розріз міська територіальна громада)
A3: № п/п | B3: Назва ТГ | C3: Всього (в абс. цифрах) | F3: % охоплення населення читанням | H3: В сільській місцевості (в абс. цифрах) | K3: % охоплення населення читанням
C4: 2024 | D4: 2025 | E4: Зміни +/- | F4: 2024 | G4: 2025 | H4: 2024 | I4: 2025 | J4: Зміни +/- | K4: 2024 | L4: 2025
A5: 1 | B5: 2 | C5: 3 | D5: 4 | E5: 5 | F5: 6 | G5: 7 | H5: 8 | I5: 9 | J5: 10 | K5: 11 | L5: 12
A6: 1 | B6: Барська | C6: 10899 | D6: 10254 | E6: -645 | F6: 27 | G6: 26 | H6: 4843 | I6: 4659 | J6: -184 | K6: 18 | L6: 20
A7: 2 | B7: Бершадська | C7: 13720 | D7: 14055 | E7: 335 | F7: 33 | G7: 33.7 | H7: 9721 | I7: 10105 | J7: 384 | K7: 32 | L7: 33.8
A8: 3 | B8: Вінницька | C8: 40215 | D8: 40112 | E8: -103 | F8: 10 | G8: 10 | H8: 3103 | I8: 3084 | J8: -19 | K8: 19 | L8: 18.3
A9: 4 | B9: Гайсинська | C9: 16890 | D9: 16551 | E9: -339 | F9: 41 | G9: 40 | H9: 10680 | I9: 10754 | J9: 74 | K9: 60 | L9: 60
A10: 5 | B10: Гніванська | C10: 4899 | D10: 4855 | E10: -44 | F10: 26 | G10: 25 | H10: 2926 | I10: 2911 | J10: -15 | K10: 46 | L10: 43
A11: 6 | B11: Жмеринська | C11: 9165 | D11: 10113 | E11: 948 | F11: 19 | G11: 23 | H11: 5504 | I11: 6003 | J11: 499 | K11: 43 | L11: 56
A12: 7 | B12: Іллінецька | C12: 5620 | D12: 6481 | E12: 861 | F12: 27 | G12: 32 | H12: 3539 | I12: 4153 | J12: 614 | K12: 35 | L12: 41
A13: 8 | B13: Калинівська | C13: 17125 | D13: 16759 | E13: -366 | F13: 37 | G13: 37 | H13: 11222 | I13: 10856 | J13: -366 | K13: 42 | L13: 40
A14: 9 | B14: Козятинська | C14: 3604 | D14: 3606 | E14: 2 | F14: 11 | G14: 11 | H14: 1719 | I14: 1710 | J14: -9 | K14: 17 | L14: 17
A15: 10 | B15: Ладижинська | C15: 4752 | D15: 4069 | E15: -683 | F15: 20 | G15: 19 | H15: 805 | I15: 805 | J15: 0 | K15: 65 | L15: 62
A16: 11 | B16: Липовецька | C16: 7154 | D16: 7079 | E16: -75 | F16: 32 | G16: 36 | H16: 3848 | I16: 3776 | J16: -72 | K16: 28 | L16: 33
A17: 12 | B17: Могилів-Подільська | C17: 6578 | D17: 5668 | E17: -910 | F17: 14 | G17: 14 | H17: 3932 | I17: 3505 | J17: -427 | K17: 30 | L17: 37
... A23: 18 | B23: Ямпільська | C23: 9389 | D23: 9686 | E23: 297 | F23: 28 | G23: 29 | H23: 6564 | I23: 6879 | J23: 315 | K23: 29 | L23: 30
B24: Всього | C24: =SUM(C6:C23) -> 210002 | D24: =SUM(D6:D23) -> 204939 | E24: =SUM(E6:E23) -> -5063 | F24: 21 | G24: 20 | H24: =SUM(H6:H23) -> 108599 | I24: =SUM(I6:I23) -> 105922 | J24: =SUM(J6:J23) -> -2677 | K24: 36 | L24: 24
A25: 19 | B25: ВОУНБ ім. В Отамановського | C25: 15023 | D25: 14998 | E25: -25
A26: 20 | B26: ВОБДіЮ ім І. Франка | C26: 13366 | D26: 13579 | E26: 213
B27: Всього | C27: =SUM(C24:C26) -> 238391 | D27: =SUM(D24:D26) -> 233516 | E27: =SUM(E24:E26) -> -4875 | F27: 21 | G27: 23 | H27: =SUM(H24:H26) -> 108599 | I27: 105922 | J27: -2677 | K27: 36 | L27: 24

Sheet таб 7г
A1: Продовження таблиці 7
A2: КІЛЬКІСТЬ ЗАРЕЄСТРОВАНИХ КОРИСТУВАЧІВ ЗГІДНО З ЄРК У БІБЛІОТЕКАХ (розріз селищна територіальна громада)
B3: Назва ТГ | C3: Всього (в абс. цифрах) | F3: % охоплення населення читанням
C5: 2024 | D5: 2025 | E5: Зміни +/- | F5: 2024 | G5: 2025
A6: 1 | B6: 2 | C6: 3 | D6: 4 | E6: 5 | F6: 6 | G6: 7
A7: 1 | B7: Брацлавська | C7: 3689 | D7: 3607 | E7: -82 | F7: 45 | G7: 44
A8: 2 | B8: Вапнярська | C8: 1732 | D8: 1763 | E8: 31 | F8: 18 | G8: 16
A9: 3 | B9: Вендичанська | C9: 3998 | D9: 3870 | E9: -128 | F9: 37 | G9: 39
A10: 4 | B10: Вороновицька | C10: 4843 | D10: 4577 | E10: -266 | F10: 30 | G10: 29
A11: 5 | B11: Глуховецька | C11: 3108 | D11: 3265 | E11: 157 | F11: 28 | G11: 30
A12: 6 | B12: Дашівська | C12: 3468 | D12: 3198 | E12: -270 | F12: 25 | G12: 23
A13: 7 | B13: Копайгородська | C13: 2214 | D13: 2255 | E13: 41 | F13: 21 | G13: 22
A14: 8 | B14: Крижопільська | C14: 10608 | D14: 10628 | E14: 20 | F14: 58 | G14: 58
A15: 9 | B15: Літинська | C15: 9661 | D15: 9647 | E15: -14 | F15: 46 | G15: 40
A16: 10 | B16: Мурованокуриловецька | C16: 10252 | D16: 10491 | E16: 239 | F16: 52 | G16: 53
A17: 11 | B17: Оратівська | C17: 5902 | D17: 4278 | E17: -1624 | F17: 33 | G17: 23
A18: 12 | B18: Піщанська | C18: 5002 | D18: 4994 | E18: -8 | F18: 43 | G18: 44
... A28: 22 | B28: Шпиківська | C28: 6526 | D28: 6437 | E28: -89 | F28: 41 | G28: 41
B29: Всього | C29: =SUM(C7:C28) -> 116361 | D29: =SUM(D7:D28) -> 115724 | E29: =SUM(E7:E28) -> -637 | F29: 35 | G29: 38

Sheet таб 7д
A1: Продовження таблиці 7
A2: КІЛЬКІСТЬ ЗАРЕЄСТРОВАНИХ КОРИСТУВАЧІВ ЗГІДНО З ЄРК У БІБЛІОТЕКАХ (розріз сільська територіальна громада)
A3: № п/п | B3: Назва ТГ | D3: Всього (в абс. цифрах) | G3: % охоплення населення читанням
D5: 2024 | E5: 2025 | F5: Зміни +/- | G5: 2024 | H5: 2025
A6: 1 | B6: 2 | D6: 3 | E6: 4 | F6: 5 | G6: 6 | H6: 7
A7: 1 | B7: Агрономічна | D7: 1645 | E7: 1650 | F7: 5 | G7: 18 | H7: 18
A8: 2 | B8: Бабчинецька | D8: 1875 | E8: 1686 | F8: -189 | G8: 35 | H8: 37
A9: 3 | B9: Війтівецька | D9: 1831 | E9: 1732 | F9: -99 | G9: 43 | H9: 36
A10: 4 | B10: Городківська | D10: 2861 | E10: 2864 | F10: 3 | G10: 28 | H10: 29
A11: 5 | B11: Джулинська | D11: 4557 | E11: 4551 | F11: -6 | G11: 37 | H11: 37
A12: 6 | B12: Джуринська | D12: 4247 | E12: 3696 | F12: -551 | G12: 36 | H12: 34
A13: 7 | B13: Іванівська | D13: 5308 | E13: 4452 | F13: -856 | G13: 35 | H13: 27
A14: 8 | B14: Краснопільська | D14: 3080 | E14: 2316 | F14: -764 | G14: 40 | H14: 31.4
A15: 9 | B15: Кунківська | D15: 2563 | E15: 2447 | F15: -116 | G15: 64 | H15: 63
A16: 10 | B16: Лука-Мелешківська | D16: 2804 | E16: 2816 | F16: 12 | G16: 31 | H16: 25
A17: 11 | B17: Махнівська | D17: 1867 | E17: 1878 | F17: 11 | G17: 23 | H17: 27
A18: 12 | B18: Мурафська | D18: 3547 | E18: 3335 | F18: -212 | G18: 31 | H18: 30
... A29: 23 | B29: Яришівська | D29: 2611 | E29: 1711 | F29: -900 | G29: 29 | H29: 34
B30: Всього | D30: =SUM(D7:D29) -> 69367 | E30: =SUM(E7:E29) -> 64807 | F30: =SUM(F7:F29) -> -4560 | G30: 33 | H30: 30

Sheet таб 8
A1: Таблиця 8
A2: ОБСЛУГОВУВАННЯ ДІТЕЙ ТА ЮНАЦТВА (розріз міська територіальна громада)
A3: (в абс. цифрах)
A4: № п/п | B4: Назва ТГ | C4: Користувачі | G4: В сільській місцевості
C6: Всього | D6: До 13 років | E6: 14-17 | F6: 18-35 | G6: Всього | H6: До 13 років | I6: 14-17 | J6: 18-35
A7: 1 | B7: 2 | C7: 3 | D7: 4 | E7: 5 | F7: 6 | G7: 7 | H7: 8 | I7: 9 | J7: 10
A8: 1 | B8: Барська | C8: 6090 | D8: 3476 | E8: 1118 | F8: 1496 | G8: 2457 | H8: 1301 | I8: 451 | J8: 705
A9: 2 | B9: Бершадська | C9: 7759 | D9: 3877 | E9: 1817 | F9: 2065 | G9: 5301 | H9: 2515 | I9: 1005 | J9: 1781
A10: 3 | B10: Вінницька | C10: 45758 | D10: 30256 | E10: 6177 | F10: 9325 | G10: 3850 | H10: 2159 | I10: 518 | J10: 1173
A11: 4 | B11: Гайсинська | C11: 10431 | D11: 5366 | E11: 1803 | F11: 3262 | G11: 4543 | H11: 1944 | I11: 488 | J11: 2111
A12: 5 | B12: Гніванська | C12: 2758 | D12: 1203 | E12: 507 | F12: 1048 | G12: 1313 | H12: 602 | I12: 231 | J12: 480
A13: 6 | B13: Жмеринська | C13: 5253 | D13: 2730 | E13: 744 | F13: 1779 | G13: 2864 | H13: 1329 | I13: 457 | J13: 1078
A14: 7 | B14: Іллінецька | C14: 3448 | D14: 1730 | E14: 828 | F14: 890 | G14: 1797 | H14: 790 | I14: 317 | J14: 690
A15: 8 | B15: Калинівська | C15: 9231 | D15: 3828 | E15: 1794 | F15: 3609 | G15: 5738 | H15: 2665 | I15: 863 | J15: 2210
A16: 9 | B16: Козятинська | C16: 2306 | D16: 1128 | E16: 380 | F16: 798 | G16: 957 | H16: 384 | I16: 73 | J16: 500
A17: 10 | B17: Ладижинська | C17: 2443 | D17: 1663 | E17: 205 | F17: 575 | G17: 312 | H17: 158 | I17: 26 | J17: 128
A18: 11 | B18: Липовецька | C18: 3816 | D18: 1673 | E18: 853 | F18: 1290 | G18: 1693 | H18: 709 | I18: 343 | J18: 641
A19: 12 | B19: Могилів-Подільська | C19: 3272 | D19: 1720 | E19: 456 | F19: 1096 | G19: 1323 | H19: 683 | I19: 123 | J19: 517
... A25: 18 | B25: Ямпільська | C25: 5135 | D25: 2271 | E25: 1089 | F25: 1775 | G25: 3587 | H25: 1662 | I25: 681 | J25: 1244
B26: Всього | C26: =SUM(C8:C25) -> 136713 | D26: =SUM(D8:D25) -> 73675 | E26: =SUM(E8:E25) -> 23944 | F26: =SUM(F8:F25) -> 39094 | G26: =SUM(G8:G25) -> 51517 | H26: =SUM(H8:H25) -> 24144 | I26: =SUM(I8:I25) -> 7874 | J26: =SUM(J8:J25) -> 19499
A27: 19 | B27: ВОУНБ ім. В. Отамановського | C27: 4167 | E27: 1143 | F27: 3024
A28: 20 | B28: ВОБДіЮ ім. І. Франка | C28: 12405 | D28: 7952 | E28: 2954 | F28: 1499
B29: Всього | C29: =SUM(C26:C28) -> 153285 | D29: =SUM(D26:D28) -> 81627 | E29: =SUM(E26:E28) -> 28041 | F29: =SUM(F26:F28) -> 43617 | G29: =SUM(G26:G28) -> 51517 | H29: =SUM(H26:H28) -> 24144 | I29: =SUM(I26:I28) -> 7874 | J29: =SUM(J26:J28) -> 19499

Sheet таб 8а
A1: Таблиця 8
A2: ОБСЛУГОВУВАННЯ ДІТЕЙ ТА ЮНАЦТВА (розріз селищна територіальна громада)
A3: (в абс. цифрах)
A4: № п/п | B4: Назва ТГ | C4: Користувачі | G4: В сільській місцевості
C6: Всього | D6: До 13 років | E6: 14-17 | F6: 18-35 | G6: Всього | H6: До 13 років | I6: 14-17 | J6: 18-35
A7: 1 | B7: 2 | C7: 3 | D7: 4 | E7: 5 | F7: 6 | G7: 7 | H7: 8 | I7: 9 | J7: 10
A8: 1 | B8: Брацлавська | C8: 1837 | D8: 936 | E8: 431 | F8: 470
A9: 2 | B9: Вапнярська | C9: 1120 | D9: 526 | E9: 164 | F9: 430
A10: 3 | B10: Вендичанська | C10: 1843 | D10: 868 | E10: 354 | F10: 621
A11: 4 | B11: Вороновицька | C11: 2645 | D11: 1298 | E11: 453 | F11: 894
A12: 5 | B12: Глуховецька | C12: 1564 | D12: 784 | E12: 305 | F12: 475
A13: 6 | B13: Дашівська | C13: 1922 | D13: 1039 | E13: 353 | F13: 530
A14: 7 | B14: Копайгородська | C14: 837 | D14: 373 | E14: 117 | F14: 347
A15: 8 | B15: Крижопільська | C15: 6517 | D15: 2147 | E15: 2323 | F15: 2047
A16: 9 | B16: Літинська | C16: 5432 | D16: 2817 | E16: 747 | F16: 1868
A17: 10 | B17: Мурованокуриловецька | C17: 5860 | D17: 2885 | E17: 1276 | F17: 1699
A18: 11 | B18: Оратівська | C18: 2315 | D18: 1084 | E18: 436 | F18: 795
A19: 12 | B19: Піщанська | C19: 2838 | D19: 1535 | E19: 238 | F19: 1065
... A29: 22 | B29: Шпиківська | C29: 3091 | D29: 1528 | E29: 653 | F29: 910
B30: Всього | C30: =SUM(C8:C29) -> 62363 | D30: =SUM(D8:D29) -> 29881 | E30: =SUM(E8:E29) -> 12351 | F30: =SUM(F8:F29) -> 20131 | G30: =SUM(G8:G29) -> 0 | H30: =SUM(H8:H29) -> 0 | I30: =SUM(I8:I29) -> 0 | J30: =SUM(J8:J29) -> 0

Sheet таб 8б
A1: Таблиця 8
A2: ОБСЛУГОВУВАННЯ ДІТЕЙ ТА ЮНАЦТВА (розріз сільська територіальна громада)
A3: (в абс. цифрах)
A4: № п/п | B4: Назва ТГ | C4: Користувачі
C6: Всього | D6: До 13 років | E6: 14-17 | F6: 18-35
A7: 1 | B7: 2 | C7: 3 | D7: 4 | E7: 5 | F7: 6
A8: 1 | B8: Агрономічна | C8: 1041 | D8: 541 | E8: 194 | F8: 306
A9: 2 | B9: Бабчинецька | C9: 928 | D9: 469 | E9: 192 | F9: 267
A10: 3 | B10: Війтівецька | C10: 896 | D10: 463 | E10: 90 | F10: 343
A11: 4 | B11: Городківська | C11: 1596 | D11: 826 | E11: 212 | F11: 558
A12: 5 | B12: Джулинська | C12: 2012 | D12: 964 | E12: 328 | F12: 720
A13: 6 | B13: Джуринська | C13: 1076 | D13: 765 | E13: 288 | F13: 23
A14: 7 | B14: Іванівська | C14: 2372 | D14: 1190 | E14: 425 | F14: 757
A15: 8 | B15: Краснопільська | C15: 1094 | D15: 571 | E15: 180 | F15: 343
A16: 9 | B16: Кунківська | C16: 995 | D16: 374 | E16: 109 | F16: 512
A17: 10 | B17: Лука-Мелешківська | C17: 1632 | D17: 869 | E17: 227 | F17: 536
A18: 11 | B18: Махнівська | C18: 1072 | D18: 620 | E18: 199 | F18: 253
A19: 12 | B19: Мурафська | C19: 2233 | D19: 957 | E19: 431 | F19: 845
... A30: 23 | B30: Яришівська | C30: 737 | D30: 288 | E30: 108 | F30: 341
B31: Всього | C31: =SUM(C8:C30) -> 31380 | D31: =SUM(D8:D30) -> 15356 | E31: =SUM(E8:E30) -> 5689 | F31: =SUM(F8:F30) -> 10335

Sheet таб 9
A1: Таблиця 9
A2: ВИДАЧА ДОКУМЕНТІВ У ПУБЛІЧНИХ БІБЛІОТЕКАХ (розріз міська територіальна громада)
A3: (в абс. цифрах)
A4: № п/п | B4: Назва ТГ | C4: Всього видано документів в 2024 р. | D4: Всього видано документів в 2025 р. | E4: Зміни +/- | F4: Видано укр. мовою | G4: Обертаність | H4: Видача документів на одного користувача | I4: Видано документів у сільській місцевості в 2024 р. | J4: Видано документів у сільській місцевості в 2025 р. | K4: Зміни +/- | L4: Видано укр. мовою в сільській місцевості | M4: Обертаність у сільській місцевості | N4: Видача документів на одного користувача в сільській місцевості
A7: 1 | B7: 2 | C7: 3 | D7: 4 | E7: 5 | F7: 6 | G7: 7 | H7: 8 | I7: 9 | J7: 10 | K7: 11 | L7: 12 | M7: 13 | N7: 14
A8: 1 | B8: Барська | C8: 199880 | D8: 195734 | E8: -4146 | F8: 173044 | G8: 0.9 | H8: 19 | I8: 80852 | J8: 79086 | K8: -1766 | L8: 70251 | M8: 0.5 | N8: 17
A9: 2 | B9: Бершадська | C9: 282074 | D9: 281372 | E9: -702 | F9: 258736 | G9: 2.25 | H9: 20 | I9: 191016 | J9: 192755 | K9: 1739 | L9: 173204 | M9: 1.93 | N9: 19.07
A10: 3 | B10: Вінницька | C10: 1330000 | D10: 1300069 | E10: -29931 | F10: 1253054 | G10: 1.7 | H10: 32 | I10: 105000 | J10: 104000 | K10: -1000 | L10: 102820 | M10: 2.7 | N10: 34
A11: 4 | B11: Гайсинська | C11: 364215 | D11: 360575 | E11: -3640 | F11: 357174 | G11: 2.3 | H11: 22 | I11: 187466 | J11: 188394 | K11: 928 | L11: 185426 | M11: 1.6 | N11: 17.2
A12: 5 | B12: Гніванська | C12: 83395 | D12: 84837 | E12: 1442 | F12: 73764 | G12: 1.4 | H12: 17 | I12: 48184 | J12: 50507 | K12: 2323 | L12: 45273 | M12: 1.1 | N12: 17
A13: 6 | B13: Жмеринська | C13: 164917 | D13: 163440 | E13: -1477 | F13: 132608 | G13: 1.3 | H13: 16 | I13: 98422 | J13: 101981 | K13: 3559 | L13: 80664 | M13: 1.1 | N13: 17
A14: 7 | B14: Іллінецька | C14: 108538 | D14: 122857 | E14: 14319 | F14: 113145 | G14: 2.3 | H14: 19 | I14: 61447 | J14: 74203 | K14: 12756 | L14: 70250 | M14: 2.2 | N14: 17.8
A15: 8 | B15: Калинівська | C15: 333250 | D15: 335940 | E15: 2690 | F15: 300351 | G15: 1.7 | H15: 20.04 | I15: 215419 | J15: 216033 | K15: 614 | L15: 198935 | M15: 1.5 | N15: 19.89
A16: 9 | B16: Козятинська | C16: 55864 | D16: 54926 | E16: -938 | F16: 54331 | H16: 5 | I16: 30730 | J16: 30796 | K16: 66 | L16: 30694 | N16: 5
A17: 10 | B17: Ладижинська | C17: 94515 | D17: 82560 | E17: -11955 | F17: 72777 | G17: 2.2 | H17: 20 | I17: 16559 | J17: 16516 | K17: -43 | L17: 14675 | M17: 2.9 | N17: 21
A18: 11 | B18: Липовецька | C18: 145352 | D18: 144212 | E18: -1140 | F18: 144212 | G18: 1.1 | H18: 20.4 | I18: 71192 | J18: 68658 | K18: -2534 | L18: 68658 | M18: 0.6 | N18: 18.2
A19: 12 | B19: Могилів-Подільська | C19: 124850 | D19: 106381 | E19: -18469 | F19: 102087 | G19: 1.4 | H19: 18 | I19: 64275 | J19: 61386 | K19: -2889 | L19: 57913 | M19: 1 | N19: 18
A20: 13 | B20: Немирівська | C20: 245743 | D20: 245955 | E20: 212 | F20: 224570 | G20: 1.1 | H20: 19 | I20: 162475 | J20: 162824 | K20: 349 | L20: 144738 | M20: 1 | N20: 21
A21: 14 | B21: Погребищенська | C21: 181617 | D21: 140455 | E21: -41162 | F21: 124579 | G21: 0.7 | H21: 16 | I21: 130594 | J21: 88407 | K21: -42187 | L21: 78051 | M21: 0.5 | N21: 16
A22: 15 | B22: Тульчинська | C22: 180903 | D22: 163337 | E22: -17566 | F22: 155891 | G22: 0.9 | H22: 14 | I22: 105000 | J22: 103800 | K22: -1200 | L22: 97594 | M22: 0.8 | N22: 14
A23: 16 | B23: Хмільницька | C23: 293822 | D23: 293776 | E23: -46 | F23: 285750 | G23: 2 | H23: 19 | I23: 209320 | J23: 211326 | K23: 2006 | L23: 207536 | M23: 2.6 | N23: 22
A24: 17 | B24: Шаргородська | C24: 218068 | D24: 221791 | E24: 3723 | F24: 195736 | G24: 1.4 | H24: 21 | I24: 140135 | J24: 147090 | K24: 6955 | L24: 126823 | M24: 1.5 | N24: 21.3
A25: 18 | B25: Ямпільська | C25: 195057 | D25: 200343 | E25: 5286 | F25: 187761 | G25: 0.6 | H25: 21 | I25: 135899 | J25: 140960 | K25: 5061 | L25: 130937 | M25: 0.6 | N25: 20
B26: Всього | C26: =SUM(C8:C25) -> 4602060 | D26: =SUM(D8:D25) -> 4498560 | E26: =SUM(E8:E25) -> -103500 | F26: =SUM(F8:F25) -> 4209570 | G26: 1.4 | H26: 19 | I26: =SUM(I8:I25) -> 2053985 | J26: =SUM(J8:J25) -> 2038722 | K26: =SUM(K8:K25) -> -15263 | L26: =SUM(L8:L25) -> 1884442 | M26: 1.1 | N26: 19
A27: 19 | B27: ВОУНБ ім. В. Отамановського | C27: 756515 | D27: 725175 | E27: -31340 | F27: 633826 | G27: 0.9 | H27: 19
A28: 20 | B28: ВОБДіЮ ім. І. Франка | C28: 271794 | D28: 264005 | E28: -7789 | F28: 252334 | G28: 1.9 | H28: 16
B29: Всього | C29: =SUM(C26:C28) -> 5630369 | D29: =SUM(D26:D28) -> 5487740 | E29: =SUM(E26:E28) -> -142629 | F29: =SUM(F26:F28) -> 5095730 | G29: 1.3 | H29: 19 | I29: =SUM(I26:I28) -> 2053985 | J29: =SUM(J26:J28) -> 2038722 | K29: =SUM(K26:K28) -> -15263 | L29: =SUM(L26:L28) -> 1884442 | M29: =SUM(M26:M28) -> 1.1 | N29: =SUM(N26:N28) -> 19

Sheet таб 9а
A1: Таблиця 9
A2: ВИДАЧА ДОКУМЕНТІВ У ПУБЛІЧНИХ БІБЛІОТЕКАХ (розріз селищна територіальна громада)
A3: (в абс. цифрах)
A4: № п/п | B4: Назва ТГ | C4: Всього видано документів в 2024 р. | D4: Всього видано документів в 2025 р. | E4: Зміни +/- | F4: Видано укр. мовою | G4: Обертаність | H4: Видача документів на одного користувача
A7: 1 | B7: 2 | C7: 3 | D7: 4 | E7: 5 | F7: 6 | G7: 7 | H7: 8
A8: 1 | B8: Брацлавська | C8: 65836 | D8: 67145 | E8: 1309 | F8: 66550 | G8: 1.3 | H8: 19
A9: 2 | B9: Вапнярська | C9: 28860 | D9: 27664 | E9: -1196 | F9: 23518 | G9: 0.7 | H9: 16
A10: 3 | B10: Вендичанська | C10: 71589 | D10: 70923 | E10: -666 | F10: 65715 | G10: 0.7 | H10: 18
A11: 4 | B11: Вороновицька | C11: 93164 | D11: 85355 | E11: -7809 | F11: 84454 | G11: 1.7 | H11: 19
A12: 5 | B12: Глуховецька | C12: 62969 | D12: 65055 | E12: 2086 | F12: 61767 | G12: 1.3 | H12: 20
A13: 6 | B13: Дашівська | C13: 66099 | D13: 63947 | E13: -2152 | F13: 57067 | G13: 1.3 | H13: 20
A14: 7 | B14: Копайгородська | C14: 36517 | D14: 36494 | E14: -23 | F14: 27091 | G14: 0.8 | H14: 16
A15: 8 | B15: Крижопільська | C15: 218236 | D15: 215504 | E15: -2732 | F15: 202639 | G15: 2.3 | H15: 20
A16: 9 | B16: Літинська | C16: 215750 | D16: 216912 | E16: 1162 | F16: 185624 | G16: 2 | H16: 22
A17: 10 | B17: Мурованокуриловецька | C17: 200025 | D17: 215264 | E17: 15239 | F17: 212291 | G17: 2.3 | H17: 20.5
A18: 11 | B18: Оратівська | C18: 75550 | D18: 63107 | E18: -12443 | F18: 60929 | G18: 0.6 | H18: 15
A19: 12 | B19: Піщанська | C19: 96504 | D19: 99180 | E19: 2676 | F19: 78380 | G19: 0.8 | H19: 20
... A23: 16 | B23: Тиврівська | C23: 64335 | D23: 68292 | E23: 3957 | F23: 68292 | G23: 1 | H23: 18
A24: 17 | B24: Томашпільська | C24: 222978 | D24: 228308 | E24: 5330 | F24: 206320 | G24: 1,3 | H24: 21
A25: 18 | B25: Тростянецька | C25: 139008 | D25: 148882 | E25: 9874 | F25: 133481 | G25: 0.9 | H25: 19.95
A26: 19 | B26: Турбівська | C26: 78596 | D26: 73275 | E26: -5321 | F26: 72137 | G26: 0.6 | H26: 15
A27: 20 | B27: Чернівецька | C27: 52524 | D27: 55807 | E27: 3283 | F27: 55411 | G27: 0.5 | H27: 14.2
A28: 21 | B28: Чечельницька | C28: 51992 | D28: 45184 | E28: -6808 | F28: 45184 | G28: 0.7 | H28: 15
A29: 22 | B29: Шпиківська | C29: 107101 | D29: 107792 | E29: 691 | F29: 103447 | G29: 0.8 | H29: 17
B30: Всього | C30: =SUM(C8:C29) -> 2173087 | D30: =SUM(D8:D29) -> 2184286 | E30: =SUM(E8:E29) -> 11199 | F30: =SUM(F8:F29) -> 2027647 | G30: 1.1 | H30: 18

Sheet таб 9б
A1: Продовження таблиці 9
A2: ВИДАЧА ДОКУМЕНТІВ У ПУБЛІЧНИХ БІБЛІОТЕКАХ (розріз сільська територіальна громада)
A3: (в абс. цифрах)
A4: № п/п | B4: Назва ТГ | C4: Видано документів
C6: Всього в 2024 р. | D6: Всього в 2025 р. | E6: Зміни +/- | F6: Видано укр. мовою | G6: Обертаність | H6: Видача документів на одного користувача
A7: 1 | B7: 2 | C7: 3 | D7: 4 | E7: 5 | F7: 6 | G7: 7 | H7: 8
A8: 1 | B8: Агрономічна | C8: 21091 | D8: 31509 | E8: 10418 | G8: 2 | H8: 19
A9: 2 | B9: Бабчинецька | C9: 34641 | D9: 31196 | E9: -3445 | F9: 31137 | G9: 0.5 | H9: 19
A10: 3 | B10: Війтівецька | C10: 30946 | D10: 32069 | E10: 1123 | F10: 30610 | G10: 1 | H10: 19
A11: 4 | B11: Городківська | C11: 52524 | D11: 51879 | E11: -645 | F11: 49555 | G11: 0.9 | H11: 18
A12: 5 | B12: Джулинська | C12: 88619 | D12: 80229 | E12: -8390 | F12: 78093 | G12: 1 | H12: 18
A13: 6 | B13: Джуринська | C13: 80440 | D13: 77588 | E13: -2852 | F13: 70588 | G13: 1 | H13: 20.9
A14: 7 | B14: Іванівська | C14: 85591 | D14: 72851 | E14: -12740 | F14: 67481 | G14: 1.6 | H14: 16
A15: 8 | B15: Краснопільська | C15: 50633 | D15: 36791 | E15: -13842 | F15: 30656 | G15: 0.8 | H15: 15.9
A16: 9 | B16: Кунківська | C16: 40489 | D16: 31857 | E16: -8632 | F16: 31495 | G16: 1.1 | H16: 13
A17: 10 | B17: Лука-Мелешківська | C17: 45239 | D17: 45358 | E17: 119 | F17: 44879 | G17: 2.1 | H17: 16
A18: 11 | B18: Махнівська | C18: 24142 | D18: 23549 | E18: -593 | F18: 22825 | G18: 0.3 | H18: 13
A19: 12 | B19: Мурафська | C19: 53294 | D19: 54825 | E19: 1531 | F19: 52729 | G19: 0.8 | H19: 16
A20: 13 | B20: Ободівська | C20: 74383 | D20: 75029 | E20: 646 | F20: 71076 | G20: 1 | H20: 32
... A30: 23 | B30: Яришівська | C30: 39361 | D30: 46375 | E30: 7014 | F30: 46375 | G30: 0.6 | H30: 17
B31: Всього | C31: =SUM(C8:C30) -> 1171120 | D31: =SUM(D8:D30) -> 1147888 | E31: =SUM(E8:E30) -> -23232 | F31: =SUM(F8:F30) -> 1046496 | G31: 0.9 | H31: 18

Sheet таб 10
A1: Таблиця 10
A2: ВИДАЧА ДОКУМЕНТІВ ДЛЯ ДІТЕЙ ТА ЮНАЦТВА (розріз міська територіальна громада)
A3: (в абс. цифрах)
A4: № п/п | B4: Назва ТГ | C4: Всього | D4: До 13 років | E4: 14-35 років | F4: Середня читаність | G4: В сільській місцевості
G5: Всього в сільській місцевості | H5: До 13 років | I5: 14-35 років | J5: Середня читаність в сільській місцевості
A6: 1 | B6: 2 | C6: 3 | D6: 4 | E6: 5 | F6: 6 | G6: 7 | H6: 8 | I6: 9 | J6: 10
A7: 1 | B7: Барська | C7: 78398 | D7: 42354 | E7: 36044 | F7: 13 | G7: 35496 | H7: 25618 | I7: 9878 | J7: 14
A8: 2 | B8: Бершадська | C8: 151142 | D8: 104585 | E8: 46557 | F8: 19.5 | G8: 109151 | H8: 80003 | I8: 29148 | J8: 20.6
A9: 3 | B9: Вінницька | C9: 886436 | D9: 592988 | E9: 293448 | F9: 30.5 | G9: 71392 | H9: 50044 | I9: 21348 | J9: 35.4
A10: 4 | B10: Гайсинська | C10: 215718 | D10: 144079 | E10: 71639 | F10: 20.7 | G10: 106557 | H10: 76805 | I10: 29752 | J10: 23.5
A11: 5 | B11: Гніванська | C11: 43200 | D11: 30140 | E11: 13060 | F11: 15.6 | G11: 25037 | H11: 17461 | I11: 7576 | J11: 19.1
A12: 6 | B12: Жмеринська | C12: 90253 | D12: 61548 | E12: 28705 | F12: 17 | G12: 55052 | H12: 38095 | I12: 16957 | J12: 19
A13: 7 | B13: Іллінецька | C13: 73942 | D13: 44226 | E13: 29716 | F13: 21.4 | G13: 41608 | H13: 26843 | I13: 14765 | J13: 23.1
A14: 8 | B14: Калинівська | C14: 179855 | D14: 98920 | E14: 80935 | F14: 19.5 | G14: 123018 | H14: 67660 | I14: 55358 | J14: 21.4
A15: 9 | B15: Козятинська | C15: 34911 | D15: 22311 | E15: 12600 | F15: 14.6 | G15: 20973 | H15: 12492 | I15: 8481 | J15: 19.1
A16: 10 | B16: Ладижинська | C16: 52308 | D16: 37012 | E16: 15296 | F16: 21.4 | G16: 7826 | H16: 4109 | I16: 3717 | J16: 25.1
A17: 11 | B17: Липовецька | C17: 74075 | D17: 42537 | E17: 31538 | F17: 19 | G17: 30977 | H17: 18280 | I17: 12697 | J17: 18
A18: 12 | B18: Могилів-Подільська | C18: 65474 | D18: 50776 | E18: 14698 | F18: 20 | G18: 34027 | H18: 26037 | I18: 7990 | J18: 26
... A24: 18 | B24: Ямпільська | C24: 113936 | D24: 72330 | E24: 41606 | F24: 21.8 | G24: 86116 | H24: 60465 | I24: 25651 | J24: 23.5
B25: Всього | C25: =SUM(C7:C24) -> 2611128 | D25: =SUM(D7:D24) -> 1670454 | E25: =SUM(E7:E24) -> 940674 | F25: 19.1 | G25: =SUM(G7:G24) -> 1105206 | H25: =SUM(H7:H24) -> 729150 | I25: =SUM(I7:I24) -> 376056 | J25: 19.1
A26: 19 | B26: ВОУНБ ім. В. Отамановського | C26: 112509 | E26: 112509 | F26: 27
A27: 20 | B27: ВОБДіЮ ім. І. Франка | C27: 244906 | D27: 166591 | E27: 78315 | F27: 19.5
B28: Всього | C28: =SUM(C25:C27) -> 2968543 | D28: =SUM(D25:D27) -> 1837045 | E28: =SUM(E25:E27) -> 1131498 | F28: 19.3 | G28: =SUM(G25:G27) -> 1105206 | H28: =SUM(H25:H27) -> 729150 | I28: =SUM(I25:I27) -> 376056 | J28: 19.4

Sheet таб 10а
A1: Таблиця 10
A2: ВИДАЧА ДОКУМЕНТІВ ДЛЯ ДІТЕЙ ТА ЮНАЦТВА (розріз селищна територіальна громада)
A3: (в абс. цифрах)
A4: № п/п | B4: Назва ТГ | C4: Всього | D4: До 13 років | E4: 14-35 років | F4: Середня читаність | G4: В сільській місцевості
G5: Всього в сільській місцевості | H5: До 13 років | I5: 14-35 років | J5: Середня читаність в сільській місцевості
A6: 1 | B6: 2 | C6: 3 | D6: 4 | E6: 5 | F6: 6 | G6: 7 | H6: 8 | I6: 9 | J6: 10
A7: 1 | B7: Брацлавська | C7: 32921 | D7: 20909 | E7: 12012 | F7: 18
A8: 2 | B8: Вапнярська | C8: 16358 | D8: 13388 | E8: 2970 | F8: 14
A9: 3 | B9: Вендичанська | C9: 38401 | D9: 26477 | E9: 11924 | F9: 20.8
A10: 4 | B10: Вороновицька | C10: 52152 | D10: 29212 | E10: 22940 | F10: 20
A11: 5 | B11: Глуховецька | C11: 29734 | D11: 21734 | E11: 8000 | F11: 19
A12: 6 | B12: Дашівська | C12: 28911 | D12: 26298 | E12: 2613 | F12: 15
A13: 7 | B13: Копайгородська | C13: 24142 | D13: 13976 | E13: 10166 | F13: 10.7
A14: 8 | B14: Крижопільська | C14: 145216 | D14: 73471 | E14: 71745 | F14: 22.3
A15: 9 | B15: Літинська | C15: 130837 | D15: 93446 | E15: 37391 | F15: 24
A16: 10 | B16: Мурованокуриловецька | C16: 125707 | D16: 71378 | E16: 54329 | F16: 21.4
A17: 11 | B17: Оратівська | C17: 36340 | D17: 21638 | E17: 14702 | F17: 15
A18: 12 | B18: Піщанська | C18: 50408 | D18: 41840 | E18: 8568 | F18: 17.7
... A28: 22 | B28: Шпиківська | C28: 48152 | D28: 39151 | E28: 9001 | F28: 15.6
B29: Всього | C29: =SUM(C7:C28) -> 1241524 | D29: 812633 | E29: =SUM(E7:E28) -> 428891 | F29: 19.9 | G29: =SUM(G7:G28) -> 0 | H29: =SUM(H7:H28) -> 0 | I29: =SUM(I7:I28) -> 0 | J29: =SUM(J7:J28) -> 0

Sheet таб 10б
A1: Таблиця 10
A2: ВИДАЧА ДОКУМЕНТІВ ДЛЯ ДІТЕЙ ТА ЮНАЦТВА (розріз сільська територіальна громада)
A3: (в абс. цифрах)
A4: № п/п | B4: Назва ТГ | C4: Всього | D4: До 13 років | E4: 14-35 років | F4: Середня читаність
A6: 1 | B6: 2 | C6: 3 | D6: 4 | E6: 5 | F6: 6
A7: 1 | B7: Агрономічна | C7: 12895 | D7: 3595 | E7: 9300 | F7: 12.4
A8: 2 | B8: Бабчинецька | C8: 19533 | D8: 10532 | E8: 9001 | F8: 21
A9: 3 | B9: Війтівецька | C9: 15508 | D9: 8719 | E9: 6789 | F9: 17
A10: 4 | B10: Городківська | C10: 34014 | D10: 23534 | E10: 10480 | F10: 21
A11: 5 | B11: Джулинська | C11: 54104 | D11: 27978 | E11: 26126 | F11: 26.8
A12: 6 | B12: Джуринська | C12: 26750 | D12: 20569 | E12: 6181 | F12: 24.8
A13: 7 | B13: Іванівська | C13: 63438 | D13: 38773 | E13: 24665 | F13: 26.7
A14: 8 | B14: Краснопільська | C14: 18627 | D14: 10390 | E14: 8237 | F14: 17
A15: 9 | B15: Кунківська | C15: 15015 | D15: 13186 | E15: 1829 | F15: 15
A16: 10 | B16: Лука-Мелешківська | C16: 31027 | D16: 20851 | E16: 10176 | F16: 16.6
A17: 11 | B17: Махнівська | C17: 15795 | D17: 10070 | E17: 5725 | F17: 14.5
A18: 12 | B18: Мурафська | C18: 31670 | D18: 16519 | E18: 15151 | F18: 14.2
... A29: 23 | B29: Яришівська | C29: 36517 | D29: 20819 | E29: 15698 | F29: 49
B30: Всього | C30: =SUM(C7:C29) -> 649156 | D30: =SUM(D7:D29) -> 383904 | E30: =SUM(E7:E29) -> 265252 | F30: 20.7

Sheet таб 11
A1: Таблиця 11
A2: ВІДВІДУВАННЯ У ПУБЛІЧНИХ БІБЛІОТЕКАХ (розріз міська територіальна громада)
A3: ( в абс. цифрах)
A4: № п\п | B4: Назва ТГ | C4: К-сть відвідувань без соціокультурних заходів | F4: Відвідування веб-сайтів, блогів | I4: К-сть відвідувань, в т. ч. в сільській місцевості, без соціокультурних заходів | L4: Відвідування веб-сайтів, блогів в сільській місцевості
C7: 2024 | D7: 2025 | E7: Зміни +/- | F7: 2024 | G7: 2025 | H7: Зміни +/- | I7: 2024 | J7: 2025 | K7: Зміни +/- | L7: 2024 | M7: 2025 | N7: Зміни +/-
A8: 1 | B8: 2 | C8: 3 | D8: 4 | E8: 5 | F8: 6 | G8: 7 | H8: 8 | I8: 9 | J8: 10 | K8: 11 | L8: 12 | M8: 13 | N8: 14
A9: 1 | B9: Барська | C9: 62188 | D9: 60467 | E9: -1721 | F9: 116472 | G9: 83769 | H9: -32703 | I9: 30680 | J9: 29554 | K9: -1126
A10: 2 | B10: Бершадська | C10: 89176 | D10: 91479 | E10: 2303 | F10: 65865 | G10: 26306 | H10: -39559 | I10: 60095 | J10: 67504 | K10: 7409
A11: 3 | B11: Вінницька | C11: 379909 | D11: 370876 | E11: -9033 | F11: 322826 | G11: 659622 | H11: 336796 | I11: 34500 | J11: 34500 | L11: 22170 | M11: 50327 | N11: 28157
A12: 4 | B12: Гайсинська | C12: 108121 | D12: 109987 | E12: 1866 | F12: 99822 | G12: 50155 | H12: -49667 | I12: 62800 | J12: 60746 | K12: -2054
A13: 5 | B13: Гніванська | C13: 26639 | D13: 28487 | E13: 1848 | I13: 14312 | J13: 15159 | K13: 847
A14: 6 | B14: Жмеринська | C14: 80680 | D14: 97325 | E14: 16645 | I14: 36349 | J14: 35001 | K14: -1348
A15: 7 | B15: Іллінецька | C15: 53262 | D15: 83916 | E15: 30654 | F15: 8614 | G15: 35220 | H15: 26606 | I15: 28597 | J15: 33053 | K15: 4456
A16: 8 | B16: Калинівська | C16: 111177 | D16: 112696 | E16: 1519 | F16: 1352 | G16: 1685 | H16: 333 | I16: 80775 | J16: 82957 | K16: 2182
A17: 9 | B17: Козятинська | C17: 23874 | D17: 22825 | E17: -1049 | I17: 12083 | J17: 12209 | K17: 126
A18: 10 | B18: Ладижинська | C18: 28397 | D18: 26095 | E18: -2302 | F18: 6132 | G18: 6227 | H18: 95 | I18: 7402 | J18: 7422 | K18: 20 | L18: 6132 | M18: 6227 | N18: 95
A19: 11 | B19: Липовецька | C19: 46926 | D19: 46955 | E19: 29 | F19: 19800 | G19: 18600 | H19: -1200 | I19: 23576 | J19: 23728 | K19: 152
A20: 12 | B20: Могилів-Подільська | C20: 67798 | D20: 58328 | E20: -9470 | I20: 34205 | J20: 33193 | K20: -1012
A21: 13 | B21: Немирівська | C21: 81575 | D21: 79810 | E21: -1765 | F21: 6232 | G21: 7235 | H21: 1003 | I21: 47368 | J21: 45627 | K21: -1741
A22: 14 | B22: Погребищенська | C22: 78149 | D22: 60035 | E22: -18114 | I22: 57900 | J22: 39776 | K22: -18124
A23: 15 | B23: Тульчинська | C23: 54508 | D23: 77141 | E23: 22633 | F23: 21000 | G23: 25279 | H23: 4279 | I23: 31140 | J23: 39611 | K23: 8471 | L23: 11837 | M23: 10688 | N23: -1149
A24: 16 | B24: Хмільницька | C24: 102707 | D24: 99205 | E24: -3502 | F24: 79446 | G24: 97855 | H24: 18409 | I24: 66919 | J24: 63453 | K24: -3466 | L24: 57773 | M24: 66155 | N24: 8382
A25: 17 | B25: Шаргородська | C25: 97100 | D25: 106354 | E25: 9254 | I25: 60818 | J25: 70718 | K25: 9900
A26: 18 | B26: Ямпільська | C26: 64697 | D26: 67436 | E26: 2739 | F26: 1638 | G26: 1656 | H26: 18 | I26: 49662 | J26: 52071 | K26: 2409 | L26: 1638 | M26: 1656 | N26: 18
B27: Всього | C27: =SUM(C9:C26) -> 1556883 | D27: =SUM(D9:D26) -> 1599417 | E27: =SUM(E9:E26) -> 42534 | F27: =SUM(F9:F26) -> 749199 | G27: =SUM(G9:G26) -> 1013609 | H27: =SUM(H9:H26) -> 264410 | I27: =SUM(I9:I26) -> 739181 | J27: =SUM(J9:J26) -> 746282 | ... N27: =SUM(N9:N26) -> 35503
A28: 19 | B28: ВОУНБ ім. В. Отамановського | C28: 156322 | D28: 153858 | E28: -2464 | F28: 323489 | G28: 383012 | H28: 59523
A29: 20 | B29: ВОБДіЮ ім. І. Франка | C29: 70974 | D29: 80485 | E29: 9511 | F29: 59615 | G29: 81357 | H29: 21742
B30: Всього | C30: 1784179 | D30: =SUM(D27:D29) -> 1833760 | E30: =SUM(E27:E29) -> 49581 | F30: 1132303 | G30: =SUM(G27:G29) -> 1477978 | H30: =SUM(H27:H29) -> 345675 | I30: 739181 | J30: 746282 | K30: 7101 | L30: 99550 | M30: 135053 | N30: 35503

Sheet таб 11а
A1: Таблиця 11
A2: ВІДВІДУВАННЯ У ПУБЛІЧНИХ БІБЛІОТЕКАХ ТГ (розріз селищна територіальна громада)
A3: (в абс. цифрах)
A4: № п\п | B4: Назва ТГ | C4: К-сть відвідувань без соціокультурних заходів | F4: Відвідування веб-сайтів, блогів
C7: 2024 | D7: 2025 | E7: Зміни +/- | F7: 2024 | G7: 2025 | H7: Зміни +/-
A8: 1 | B8: 2 | C8: 3 | D8: 4 | E8: 5 | F8: 6 | G8: 7 | H8: 8
A9: 1 | B9: Брацлавська | C9: 32967 | D9: 32772 | E9: -195 | F9: 18799 | G9: 34735 | H9: 15936
A10: 2 | B10: Вапнярська | C10: 28860 | D10: 27664 | E10: -1196 | F10: 23518 | G10: 23534 | H10: 16
A11: 3 | B11: Вендичанська | C11: 31862 | D11: 29477 | E11: -2385
A12: 4 | B12: Вороновицька | C12: 29147 | D12: 25526 | E12: -3621 | F12: 10009 | G12: 18579 | H12: 8570
A13: 5 | B13: Глуховецька | C13: 14586 | D13: 17733 | E13: 3147
A14: 6 | B14: Дашівська | C14: 26050 | D14: 27037 | E14: 987 | F14: 14698 | G14: 23800 | H14: 9102
A15: 7 | B15: Копайгородська | C15: 13425 | D15: 13845 | E15: 420
A16: 8 | B16: Крижопільська | C16: 67391 | D16: 66146 | E16: -1245 | F16: 101452 | G16: 129990 | H16: 28538
A17: 9 | B17: Літинська | C17: 53661 | D17: 54395 | E17: 734 | F17: 529 | G17: 480 | H17: -49
A18: 10 | B18: Мурованокуриловецька | C18: 61732 | D18: 69798 | E18: 8066 | F18: 2320 | G18: 2238 | H18: -82
A19: 11 | B19: Оратівська | C19: 27976 | D19: 22728 | E19: -5248
A20: 12 | B20: Піщанська | C20: 21160 | D20: 21028 | E20: -132
A21: 13 | B21: Стрижавська | C21: 17077 | D21: 18993 | E21: 1916 | F21: 3300 | G21: 5436 | H21: 2136
A22: 14 | B22: Сутисківська | C22: 13692 | D22: 13765 | E22: 73
A23: 15 | B23: Теплицька | C23: 52290 | D23: 53234 | E23: 944
A24: 16 | B24: Тиврівська | C24: 26049 | D24: 28089 | E24: 2040
A25: 17 | B25: Томашпільська | C25: 56148 | D25: 56958 | E25: 810 | F25: 11091 | G25: 51237 | H25: 40146
A26: 18 | B26: Тростянецька | C26: 47007 | D26: 49922 | E26: 2915 | F26: 6009 | G26: 5037 | H26: -972
A27: 19 | B27: Турбівська | C27: 26335 | D27: 27820 | E27: 1485
A28: 20 | B28: Чернівецька | C28: 22097 | D28: 24178 | E28: 2081
A29: 21 | B29: Чечельницька | C29: 13528 | D29: 12660 | E29: -868
A30: 22 | B30: Шпиківська | C30: 37348 | D30: 37936 | E30: 588
B31: Всього | C31: =SUM(C9:C30) -> 720388 | D31: =SUM(D9:D30) -> 731704 | E31: =SUM(E9:E30) -> 11316 | F31: =SUM(F9:F30) -> 191725 | G31: =SUM(G9:G30) -> 295066 | H31: =SUM(H9:H30) -> 103341

Sheet таб 11б
A1: Таблиця 11
A2: ВІДВІДУВАННЯ В ПУБЛІЧНИХ БІБЛІОТЕКАХ (розріз сільська територіальна громада)
A3: (в абс. цифрах)
A4: № п\п | B4: Назва ТГ | C4: К-сть відвідувань без соціокультурних заходів | F4: Відвідування веб-сайтів, блогів
C7: 2024 | D7: 2025 | E7: Зміни +/- | F7: 2024 | G7: 2025 | H7: Зміни +/-
A8: 1 | B8: 2 | C8: 3 | D8: 4 | E8: 5 | F8: 6 | G8: 7 | H8: 8
A9: 1 | B9: Агрономічна | C9: 11145 | D9: 11147 | E9: 2
A10: 2 | B10: Бабчинецька | C10: 16962 | D10: 13066 | E10: -3896
A11: 3 | B11: Війтівецька | C11: 9355 | D11: 10213 | E11: 858
A12: 4 | B12: Городківська | C12: 13093 | D12: 14076 | E12: 983
A13: 5 | B13: Джулинська | C13: 29757 | D13: 28673 | E13: -1084 | F13: 4650 | G13: 50920 | H13: 46270
A14: 6 | B14: Джуринська | C14: 40249 | D14: 38627 | E14: -1622
A15: 7 | B15: Іванівська | C15: 26844 | D15: 25650 | E15: -1194
A16: 8 | B16: Краснопільська | C16: 19822 | D16: 18336 | E16: -1486
A17: 9 | B17: Кунківська | C17: 15850 | D17: 16469 | E17: 619
A18: 10 | B18: Лука-Мелешківська | C18: 19795 | D18: 19803 | E18: 8 | F18: 2718 | G18: 2811 | H18: 93
A19: 11 | B19: Махнівська | C19: 7831 | D19: 6992 | E19: -839
A20: 12 | B20: Мурафська | C20: 27505 | D20: 27500 | E20: -5
A21: 13 | B21: Ободівська | C21: 24682 | D21: 25286 | E21: 604
A22: 14 | B22: Ольгопільська | C22: 13409 | D22: 13763 | E22: 354
A23: 15 | B23: Райгородська | C23: 17931 | D23: 14242 | E23: -3689
A24: 16 | B24: Самгородоцька | C24: 13318 | D24: 13216 | E24: -102
A25: 17 | B25: Северинівська | C25: 9540 | D25: 8492 | E25: -1048 | F25: 1127 | G25: 1100 | H25: -27
A26: 18 | B26: Соболівська | C26: 11581 | D26: 12844 | E26: 1263
A27: 19 | B27: Станіславчицька | C27: 7171 | D27: 7937 | E27: 766
A28: 20 | B28: Студенянська | C28: 17476 | D28: 17006 | E28: -470
A29: 21 | B29: Уланівська | C29: 39109 | D29: 46995 | E29: 7886 | F29: 3 | G29: 7127 | H29: 7124
A30: 22 | B30: Якушинецька | C30: 23516 | D30: 24458 | E30: 942 | F30: 821 | G30: 450 | H30: -371
A31: 23 | B31: Яришівська | C31: 21587 | D31: 10581 | E31: -11006
B32: Всього | C32: =SUM(C9:C31) -> 437528 | D32: =SUM(D9:D31) -> 425372 | E32: =SUM(E9:E31) -> -12156 | F32: =SUM(F9:F31) -> 9319 | G32: =SUM(G9:G31) -> 62408 | H32: =SUM(H9:H31) -> 53089

Sheet таб 12
A1: Таблиця 12
A2: СОЦІОКУЛЬТУРНА ДІЯЛЬНІСТЬ БІБЛІОТЕК (розріз міська територіальна громада)
A3: № п/п | B3: Назва ТГ | C3: Соціокультурні заходи, організовані бібліотекою, з них кількість заходів | D3: кількість відвідувань соціо-культурних заходів | E3: у тому числі кількість заходів з особистісного розвитку (із стовпчика 3), | F3: кількість відвідувань соціокультурних заходів з особистісного розвитку (із стовпчика 4) | H3: В сільській місцевості
H4: Соціокультурні заходи, організовані бібліотекою, з них кількість заходів | I4: кількість вівідувань соціокультурних заходів | J4: у тому числі захоів з особистісного розвитку (із стовпчика 7) | K4: кількість відвідувань соціокультурних заходів з особистісного розвитку (із стовпчика 8)
A5: 1 | B5: 2 | C5: 3 | D5: 4 | E5: 5 | F5: 6 | H5: 7 | I5: 8 | J5: 9 | K5: 10
A6: 1 | B6: Барська | C6: 957 | D6: 10372 | E6: 206 | F6: 2544 | H6: 685 | I6: 7037 | J6: 139 | K6: 1732
A7: 2 | B7: Бершадська | C7: 903 | D7: 14759 | E7: 250 | F7: 2750 | H7: 694 | I7: 10261 | J7: 214 | K7: 2125
A8: 3 | B8: Вінницька | C8: 2026 | D8: 31839 | E8: 105 | F8: 1145 | H8: 392 | I8: 4434 | J8: 3 | K8: 43
A9: 4 | B9: Гайсинська | C9: 522 | D9: 6616 | E9: 85 | F9: 1086 | H9: 438 | I9: 5262 | J9: 41 | K9: 493
A10: 5 | B10: Гніванська | C10: 648 | D10: 4475 | E10: 143 | F10: 1239 | H10: 404 | I10: 3092 | J10: 85 | K10: 774
A11: 6 | B11: Жмеринська | C11: 1122 | D11: 55252 | E11: 294 | F11: 3869 | G11: 806 | H11: 806 | I11: 7655 | J11: 198 | K11: 1895
A12: 7 | B12: Іллінецька | C12: 631 | D12: 7967 | E12: 103 | F12: 1173 | H12: 385 | I12: 4505 | J12: 78 | K12: 783
A13: 8 | B13: Калинівська | C13: 1396 | D13: 24360 | E13: 630 | F13: 7831 | H13: 1154 | I13: 20862 | J13: 500 | K13: 5359
A14: 9 | B14: Козятинська | C14: 146 | D14: 2033 | E14: 10 | F14: 91 | H14: 99 | I14: 929
A15: 10 | B15: Ладижинська | C15: 73 | D15: 1115 | E15: 37 | F15: 372 | H15: 31 | I15: 371 | J15: 15 | K15: 140
A16: 11 | B16: Липовецька | C16: 627 | D16: 7753 | E16: 32 | F16: 468 | H16: 458 | I16: 3630 | J16: 23 | K16: 243
A17: 12 | B17: Могилів-Подільська | C17: 460 | D17: 5723 | E17: 225 | F17: 2241 | H17: 367 | I17: 4102 | J17: 221 | K17: 2237
A18: 13 | B18: Немирівська | C18: 622 | D18: 7267 | E18: 109 | F18: 258 | H18: 524 | I18: 4289 | J18: 80 | K18: 158
A19: 14 | B19: Погребищенська | C19: 450 | D19: 7528 | E19: 108 | F19: 876 | H19: 384 | I19: 6103 | J19: 83 | K19: 507
A20: 15 | B20: Тульчинська | C20: 1297 | D20: 17889 | E20: 241 | F20: 3718 | H20: 824 | I20: 8656 | J20: 130 | K20: 1315
A21: 16 | B21: Хмільницька | C21: 2161 | D21: 23475 | E21: 553 | F21: 5751 | H21: 1778 | I21: 18095 | J21: 373 | K21: 4218
A22: 17 | B22: Шаргородська | C22: 596 | D22: 12110 | E22: 453 | F22: 8477 | H22: 461 | I22: 8581 | J22: 394 | K22: 7774
A23: 18 | B23: Ямпільська | C23: 613 | D23: 21454 | E23: 145 | F23: 2110 | H23: 504 | I23: 18544 | J23: 107 | K23: 1565
B24: Всього | C24: =SUM(C6:C23) -> 15250 | D24: =SUM(D6:D23) -> 261987 | E24: =SUM(E6:E23) -> 3729 | F24: =SUM(F6:F23) -> 45999 | G24: =SUM(G6:G23) -> 806 | H24: =SUM(H6:H23) -> 10388 | I24: =SUM(I6:I23) -> 136408 | J24: =SUM(J6:J23) -> 2684 | K24: =SUM(K6:K23) -> 31361
A25: 19 | B25: ВОУНБ ім. В. Отамановського | C25: 1138 | D25: 27221 | E25: 679 | F25: 9707
A26: 20 | B26: ВОБДіЮ ім. І. Франка | C26: 465 | D26: 8011 | E26: 360 | F26: 8011
B27: Всього | C27: =SUM(C24:C26) -> 16853 | D27: =SUM(D24:D26) -> 297219 | E27: =SUM(E24:E26) -> 4768 | F27: =SUM(F24:F26) -> 63717 | H27: 10388 | I27: 136408 | J27: 2684 | K27: 31361

Sheet таб 12а
A1: Таблиця 12
A2: СОЦІОКУЛЬТУРНА ДІЯЛЬНІСТЬ БІБЛІОТЕК (розріз селищна територіальна громада)
A3: № п/п | B3: Назва ТГ | C3: Соціокультурні заходи, організовані бібліотекою, з них кількість заходів | D3: кількість відвідувань соціокультурних заходів | E3: у тому числі кількість заходів з особистісного розвитку (із стовпчика 3) | F3: кількість відвідувань соціокультурних заходів з особистісного розвитку (із стовпчика 4)
A5: 1 | B5: 2 | C5: 3 | D5: 4 | E5: 5 | F5: 6
A6: 1 | B6: Брацлавська | C6: 302 | D6: 2233 | E6: 97 | F6: 639
A7: 2 | B7: Вапнярська | C7: 134 | D7: 1847 | E7: 17 | F7: 158
A8: 3 | B8: Вендичанська | C8: 406 | D8: 2521 | E8: 129 | F8: 802
A9: 4 | B9: Вороновицька | C9: 271 | D9: 2645 | E9: 160 | F9: 1186
A10: 5 | B10: Глуховецька | C10: 347 | D10: 4119 | E10: 52 | F10: 144
A11: 6 | B11: Дашівська | C11: 386 | D11: 1748 | E11: 75 | F11: 334
A12: 7 | B12: Копайгородська | C12: 213 | D12: 1575 | E12: 18 | F12: 134
A13: 8 | B13: Крижопільська | C13: 744 | D13: 9654 | E13: 93 | F13: 721
A14: 9 | B14: Літинська | C14: 1185 | D14: 13615 | E14: 108 | F14: 1322
A15: 10 | B15: Мурованокуриловецька | C15: 569 | D15: 15619 | E15: 337 | F15: 8015
A16: 11 | B16: Оратівська | C16: 397 | D16: 8740 | E16: 82 | F16: 2304
A17: 12 | B17: Піщанська | C17: 414 | D17: 3195 | E17: 34 | F17: 244
... A23: 18 | B23: Тростянецька | C23: 1082 | D23: 13788 | E23: 150 | F23: 2284
A24: 19 | B24: Турбівська | C24: 408 | D24: 6088
A25: 20 | B25: Чернівецька | C25: 374 | D25: 7207 | E25: 28 | F25: 48
A26: 21 | B26: Чечельницька | C26: 535 | D26: 3316 | E26: 241 | F26: 1916
A27: 22 | B27: Шпиківська | C27: 532 | D27: 3583 | E27: 27 | F27: 125
B28: Всього | C28: =SUM(C6:C27) -> 10818 | D28: =SUM(D6:D27) -> 132853 | E28: =SUM(E6:E27) -> 2391 | F28: =SUM(F6:F27) -> 25442

Sheet таб 12б
A1: Таблиця 12
A2: СОЦІОКУЛЬТУРНА ДІЯЛЬНІСТЬ БІБЛІОТЕК (розріз сільська територіальна громада)
A3: № п/п | B3: Назва ТГ | C3: Соціокультурні заходи, організовані бібліотекою, з них кількість заходів | D3: кількість відвідувань соціокультурних заходів | E3: у тому числі кількість заходів з особистісного розвитку (із стовпчика 3) | F3: кількість відвідувань соціокультурних заходів з особистісного розвитку (із стовпчика 4)
A4: 1 | B4: 2 | C4: 3 | D4: 4 | E4: 5 | F4: 6
A5: 1 | B5: Агрономічна | C5: 119 | D5: 1222 | E5: 28 | F5: 218
A6: 2 | B6: Бабчинецька | C6: 135 | D6: 1481 | E6: 29 | F6: 315
A7: 3 | B7: Війтівецька | C7: 198 | D7: 1534
A8: 4 | B8: Городківська | C8: 367 | D8: 2667 | E8: 55 | F8: 349
A9: 5 | B9: Джулинська | C9: 359 | D9: 4730 | E9: 58 | F9: 386
A10: 6 | B10: Джуринська | C10: 279 | D10: 4997 | E10: 12 | F10: 85
A11: 7 | B11: Іванівська | C11: 645 | D11: 6898 | E11: 260 | F11: 3180
A12: 8 | B12: Краснопільська | C12: 287 | D12: 1391 | E12: 183 | F12: 674
A13: 9 | B13: Кунківська | C13: 61 | D13: 1007 | E13: 23 | F13: 411
A14: 10 | B14: Лука-Мелешківська | C14: 129 | D14: 1422 | E14: 0 | F14: 0
A15: 11 | B15: Махнівська | C15: 457 | D15: 1509 | E15: 9 | F15: 0
A16: 12 | B16: Мурафська | C16: 257 | D16: 5862 | E16: 62 | F16: 296
A17: 13 | B17: Ободівська | C17: 418 | D17: 6827 | E17: 33 | F17: 308
A18: 14 | B18: Ольгопільська | C18: 181 | D18: 2183 | E18: 76 | F18: 673
A19: 15 | B19: Райгородська | C19: 237 | D19: 3007 | E19: 41 | F19: 437
A20: 16 | B20: Самгородоцька | C20: 200 | D20: 1900
A21: 17 | B21: Северинівська | C21: 192 | D21: 2280 | E21: 20 | F21: 205
A22: 18 | B22: Соболівська | C22: 280 | D22: 4735 | E22: 81 | F22: 2621
A23: 19 | B23: Станіславчицька | C23: 127 | D23: 2105 | E23: 2 | F23: 46
A24: 20 | B24: Студенянська | C24: 603 | D24: 4960 | E24: 3 | F24: 5
A25: 21 | B25: Уланівська | C25: 738 | D25: 9564 | E25: 73 | F25: 1064
A26: 22 | B26: Якушинецька | C26: 221 | D26: 3630 | E26: 85 | F26: 836
A27: 23 | B27: Яришівська | C27: 102 | D27: 865
B28: Всього | C28: =SUM(C5:C27) -> 6592 | D28: =SUM(D5:D27) -> 76776 | E28: =SUM(E5:E27) -> 1133 | F28: =SUM(F5:F27) -> 12109

Sheet таб 13
A1: Таблиця 13
A2: ВІДВІДУВАННЯ ДІТЕЙ ТА ЮНАЦТВА (розріз міська територіальна громада)
A3: № п/п | B3: Назва ТГ | C3: Всього | D3: До 13 років | E3: 14-35 років | F3: В сільській місцевості
F4: Всього в сільській місцевості | G4: До 13 років | H4: 14-35 років
A5: 1 | B5: 2 | C5: 3 | D5: 4 | E5: 5 | F5: 6 | G5: 7 | H5: 8
A6: 1 | B6: Барська | C6: 30452 | D6: 19655 | E6: 10797 | F6: 14742 | G6: 8342 | H6: 6400
A7: 2 | B7: Бершадська | C7: 55357 | D7: 38997 | E7: 16360 | F7: 40270 | G7: 29987 | H7: 10283
A8: 3 | B8: Вінницька | C8: 258343 | D8: 171180 | E8: 87163 | F8: 24097 | G8: 16968 | H8: 7129
A9: 4 | B9: Гайсинська | C9: 63083 | D9: 41839 | E9: 21244 | F9: 36006 | G9: 25615 | H9: 10391
A10: 5 | B10: Гніванська | C10: 21156 | D10: 13140 | E10: 8016 | F10: 8524 | G10: 5558 | H10: 2966
A11: 6 | B11: Жмеринська | C11: 31155 | D11: 19816 | E11: 11339 | F11: 21965 | G11: 14414 | H11: 7551
A12: 7 | B12: Іллінецька | C12: 26656 | D12: 17520 | E12: 9136 | F12: 18873 | G12: 13096 | H12: 5777
A13: 8 | B13: Калинівська | C13: 58522 | D13: 26335 | E13: 32187 | F13: 40132 | G13: 16053 | H13: 24079
A14: 9 | B14: Козятинська | C14: 12983 | D14: 9011 | E14: 3972 | F14: 6883 | G14: 4562 | H14: 2321
A15: 10 | B15: Ладижинська | C15: 16995 | D15: 12080 | E15: 4915 | F15: 3705 | G15: 2101 | H15: 1604
A16: 11 | B16: Липовецька | C16: 25827 | D16: 15560 | E16: 10267 | F16: 11649 | G16: 7294 | H16: 4355
A17: 12 | B17: Могилів-Подільська | C17: 36819 | D17: 28494 | E17: 8325 | F17: 18530 | G17: 13871 | H17: 4659
... A23: 18 | B23: Ямпільська | C23: 42275 | D23: 26390 | E23: 15885 | F23: 35015 | G23: 22778 | H23: 12237
B24: Всього | C24: =SUM(C6:C23) -> 888485 | D24: =SUM(D6:D23) -> 559309 | E24: =SUM(E6:E23) -> 329176 | F24: =SUM(F6:F23) -> 403531 | G24: =SUM(G6:G23) -> 256662 | H24: =SUM(H6:H23) -> 146869
A25: 19 | B25: ВОУНБ ім. В. Отамановського | C25: 41670 | E25: 41670
A26: 20 | B26: ВОБДіЮ ім. І. Франка | C26: 56302 | D26: 23316 | E26: 32986
B27: Всього | C27: 986457 | D27: 582625 | E27: 403832 | F27: =SUM(F24) -> 403531 | G27: =SUM(G24) -> 256662 | H27: =SUM(H24) -> 146869

Sheet таб 13а
A1: Таблиця 13
A2: ВІДВІДУВАННЯ ДІТЕЙ ТА ЮНАЦТВА (розріз селищна територіальна громада)
A3: № п/п | B3: Назва ТГ | C3: Всього | D3: До 13 років | E3: 14-35 років | F3: В сільській місцевості
F4: Всього в сільській місцевості | G4: До 13 років | H4: 14-35 років
A5: 1 | B5: 2 | C5: 3 | D5: 4 | E5: 5 | F5: 6 | G5: 7 | H5: 8
A6: 1 | B6: Брацлавська | C6: 20354 | D6: 13591 | E6: 6763
A7: 2 | B7: Вапнярська | C7: 8032 | D7: 6312 | E7: 1720
A8: 3 | B8: Вендичанська | C8: 15928 | D8: 9411 | E8: 6517
A9: 4 | B9: Вороновицька | C9: 15897 | D9: 8280 | E9: 7617
A10: 5 | B10: Глуховецька | C10: 7703 | D10: 5200 | E10: 2503
A11: 6 | B11: Дашівська | C11: 12981 | D11: 11366 | E11: 1615
A12: 7 | B12: Копайгородська | C12: 13845 | D12: 9250 | E12: 4595
A13: 8 | B13: Крижопільська | C13: 46222 | D13: 22309 | E13: 23913
A14: 9 | B14: Літинська | C14: 35871 | D14: 26843 | E14: 9028
A15: 10 | B15: Мурованокуриловецька | C15: 44651 | D15: 27148 | E15: 17503
A16: 11 | B16: Оратівська | C16: 13674 | D16: 8191 | E16: 5483
A17: 12 | B17: Піщанська | C17: 11796 | D17: 8645 | E17: 3151
... A27: 22 | B27: Шпиківська | C27: 17379 | D27: 13360 | E27: 4019
B28: Всього | C28: =SUM(C6:C27) -> 430114 | D28: =SUM(D6:D27) -> 274545 | E28: 155569

Sheet таб 13б
A1: Таблиця 13
A2: ВІДВІДУВАННЯ ДІТЕЙ ТА ЮНАЦТВА (розріз сільська територіальна громада)
A3: № п/п | B3: Назва ТГ | C3: Всього | D3: До 13 років | E3: 14-35 років
A5: 1 | B5: 2 | C5: 3 | D5: 4 | E5: 5
A6: 1 | B6: Агрономічна | C6: 10147 | D6: 5150 | E6: 4997
A7: 2 | B7: Бабчинецька | C7: 8767 | D7: 5467 | E7: 3300
A8: 3 | B8: Війтівецька | C8: 6285 | D8: 4271 | E8: 2014
A9: 4 | B9: Городківська | C9: 9609 | D9: 6901 | E9: 2708
A10: 5 | B10: Джулинська | C10: 14337 | D10: 6987 | E10: 7350
A11: 6 | B11: Джуринська | C11: 11390 | D11: 8682 | E11: 2708
A12: 7 | B12: Іванівська | C12: 14126 | D12: 9140 | E12: 4986
A13: 8 | B13: Краснопільська | C13: 8664 | D13: 4522 | E13: 4142
A14: 9 | B14: Кунківська | C14: 8427 | D14: 7780 | E14: 647
A15: 10 | B15: Лука-Мелешківська | C15: 12969 | D15: 7252 | E15: 5717
A16: 11 | B16: Махнівська | C16: 4250 | D16: 2596 | E16: 1654
A17: 12 | B17: Мурафська | C17: 17806 | D17: 9535 | E17: 8271
... A28: 23 | B28: Яришівська | C28: 6890 | D28: 4568 | E28: 2322
B29: Всього | C29: =SUM(C6:C28) -> 224931 | D29: =SUM(D6:D28) -> 138135 | E29: =SUM(E6:E28) -> 86796
B31: *** показники не подані

Sheet таб 14
A1: Таблиця 14
A2: ЕЛЕКТРОННІ РЕСУРСИ (розріз міська територіальна громада)
A3: № п/п | B3: Назва ТГ | C3: К-сть веб-сайтів | D3: К-сть блогів, сторінок у соціальних мережах | E3: Обсяг ЕК | F3: К-сть власних Баз даних | G3: Обсяг власних БД | H3: Обсяг електронної (цифрової) бібліотеки | I3: З них документів, доступ до яких можливий через мережу Інтернет | J3: В сільській місцевості
J4: К-сть веб-сайтів у сільській місцевості | K4: К-сть блогів, сторінок у соціальних мережах у сільській місцевості | L4: Обсяг ЕК у сільській місцевості | M4: К-сть власних Баз даних у сільській місцевості | N4: Обсяг власних БД у сільській місцевості | O4: Обсяг електронної (цифрової) бібліотеки в сільській місцевості | P4: З них документів, доступ до яких можливий через мережу Інтернет у сільській місцевості
A5: 1 | B5: 2 | C5: 3 | D5: 4 | E5: 5 | F5: 6 | G5: 7 | H5: 8 | I5: 9 | J5: 10 | K5: 11 | L5: 12 | M5: 13 | N5: 14 | O5: 15 | P5: 16
A6: 1 | B6: Барська | C6: 1 | D6: 20 | K6: 14
A7: 2 | B7: Бершадська | C7: 1 | D7: 24 | K7: 23
A8: 3 | B8: Вінницька | C8: 1 | D8: 46 | E8: 116258 | F8: 1 | G8: 116258 | K8: 6
A9: 4 | B9: Гайсинська | C9: 1 | D9: 25 | K9: 21
A10: 5 | B10: Гніванська | D10: 11 | K10: 8
A11: 6 | B11: Жмеринська | D11: 10 | K11: 7
A12: 7 | B12: Іллінецька | D12: 12 | K12: 9
A13: 8 | B13: Калинівська | D13: 26 | K13: 24
A14: 9 | B14: Козятинська | D14: 3 | K14: 2
A15: 10 | B15: Ладижинська | D15: 2 | K15: 1
A16: 11 | B16: Липовецька | D16: 7 | K16: 4
A17: 12 | B17: Могилів-Подільська | D17: 5 | K17: 4
A18: 13 | B18: Немирівська | D18: 19 | K18: 16
A19: 14 | B19: Погребищенська | D19: 10 | K19: 8
A20: 15 | B20: Тульчинська | D20: 13 | E20: 15751 | F20: 1 | K20: 5
A21: 16 | B21: Хмільницька | C21: 1 | D21: 34 | K21: 33
A22: 17 | B22: Шаргородська | D22: 12 | K22: 10
A23: 18 | B23: Ямпільська | D23: 22 | K23: 20
B24: Всього | C24: =SUM(C6:C23) -> 5 | D24: =SUM(D6:D23) -> 301 | E24: =SUM(E6:E23) -> 132009 | F24: =SUM(F6:F23) -> 2 | G24: =SUM(G6:G23) -> 116258 | K24: =SUM(K6:K23) -> 215
A25: 19 | B25: ВОУНБ ім. В. Отамановського | C25: 3 | D25: 10 | E25: 275071 | F25: 25 | G25: 1688113 | H25: 1110 | I25: 1110
A26: 20 | B26: ВОБДіЮ ім. І. Франка | C26: 2 | D26: 4 | E26: 38952 | F26: 8 | G26: 131815
B27: Всього | C27: =SUM(C24:C26) -> 10 | D27: =SUM(D24:D26) -> 315 | E27: =SUM(E24:E26) -> 446032 | F27: =SUM(F24:F26) -> 35 | G27: =SUM(G24:G26) -> 1936186 | H27: 1110 | I27: 1110 | K27: 215

Sheet таб 14а
A1: Таблиця 14
A2: ЕЛЕКТРОННІ РЕСУРСИ (розріз селищна територіальна громада)
A3: № п/п | B3: Назва ТГ | C3: К-сть веб-сайтів | D3: К-сть блогів, сторінок у соціальних мережах | E3: Обсяг ЕК | F3: К-сть власних Баз даних | G3: Обсяг власних БД | H3: Обсяг електронної (цифрової) бібліотеки | I3: З них документів, доступ до яких можливий через мережу Інтернет
A5: 1 | B5: 2 | C5: 3 | D5: 4 | E5: 5 | F5: 6 | G5: 7 | H5: 8 | I5: 9
A6: 1 | B6: Брацлавська | D6: 10
A7: 2 | B7: Вапнярська | D7: 5
A8: 3 | B8: Вендичанська | D8: 7
A9: 4 | B9: Вороновицька | D9: 6
A10: 5 | B10: Глуховецька | D10: 10
A11: 6 | B11: Дашівська | C11: 1 | D11: 8
A12: 7 | B12: Копайгородська
A13: 8 | B13: Крижопільська | C13: 1 | D13: 20
A14: 9 | B14: Літинська | D14: 16
A15: 10 | B15: Мурованокуриловецька | D15: 13
A16: 11 | B16: Оратівська
A17: 12 | B17: Піщанська | D17: 8
A18: 13 | B18: Стрижавська | D18: 7
A19: 14 | B19: Сутисківська | D19: 1
A20: 15 | B20: Теплицька | D20: 8
A21: 16 | B21: Тиврівська | D21: 6
A22: 17 | B22: Томашпільська | D22: 24
A23: 18 | B23: Тростянецька | D23: 16
A24: 19 | B24: Турбівська | D24: 2
A25: 20 | B25: Чернівецька | D25: 8
A26: 21 | B26: Чечельницька | D26: 1
A27: 22 | B27: Шпиківська | D27: 5
B28: Всього | C28: =SUM(C6:C27) -> 2 | D28: =SUM(D6:D27) -> 181

Sheet таб 14б
A1: Таблиця 14
A2: ЕЛЕКТРОННІ РЕСУРСИ (розріз сільська територіальна громада)
A3: № п/п | B3: Назва ТГ | C3: К-сть веб-сайтів | D3: К-сть блогів, сторінок у соціальних мережах | E3: Обсяг ЕК | F3: К-сть власних Баз даних | G3: Обсяг власних БД | H3: Обсяг електронної (цифрової) бібліотеки | I3: З них документів, доступ до яких можливий через мережу Інтернет
A4: 1 | B4: 2 | C4: 3 | D4: 4 | E4: 5 | F4: 6 | G4: 7 | H4: 8 | I4: 9
A5: 1 | B5: Агрономічна | D5: 4
A6: 2 | B6: Бабчинецька | D6: 4
A7: 3 | B7: Війтівецька | D7: 0
A8: 4 | B8: Городківська | D8: 1
A9: 5 | B9: Джулинська | D9: 16
A10: 6 | B10: Джуринська | D10: 2
A11: 7 | B11: Іванівська | D11: 12
A12: 8 | B12: Краснопільська | D12: 7
A13: 9 | B13: Кунківська | D13: 6
A14: 10 | B14: Лука-Мелешківська | D14: 4
A15: 11 | B15: Махнівська | D15: 4
A16: 12 | B16: Мурафська | D16: 8
... A25: 21 | B25: Уланівська | D25: 14
A26: 22 | B26: Якушинецька | C26: 1 | D26: 1
A27: 23 | B27: Яришівська | D27: 7
B28: Всього | C28: =SUM(C5:C27) -> 1 | D28: =SUM(D5:D27) -> 113

Sheet таб 15
A1: Таблиця 15
A2: ДОВІДКОВО-ІНФОРМАЦІЙНЕ ОБСЛУГОВУВАННЯ
A3: МІЖБІБЛІОТЕЧНИЙ АБОНЕМЕНТ (розріз міська територіальна громада)
A4: № п/п | B4: Назва ТГ | C4: К-сть виконаних довідок | D4: З них віртуальних довідок | E4: Міжбібліотечний абонемент | H4: К-сть виконаних довідок у сільській місцевості | I4: З них віртуальних довідок у сільській місцевості | J4: Міжбібліотечний абонемент в сільській місцевості
E5: К-сть абонентів МБА | F5: К-сть виданих документів іншим бібліотекам | G5: К-сть отриманих документів з інших бібліотек | J5: К-сть абонентів МБА в сільській місцевості | K5: К-сть виданих документів іншим бібліотекам у сільській місцевості | L5: К-сть отриманих документів з інших б-к у сільській місцевості
A6: 1 | B6: 2 | C6: 3 | D6: 4 | E6: 5 | F6: 6 | G6: 7 | H6: 8 | I6: 9 | J6: 10 | K6: 11 | L6: 12
A7: 1 | B7: Барська | C7: 355 | E7: 23 | F7: 196 | G7: 442 | H7: 238 | J7: 17 | K7: 162 | L7: 442
A8: 2 | B8: Бершадська | C8: 1230 | H8: 983
A9: 3 | B9: Вінницька | C9: 11762 | E9: 16 | F9: 70 | G9: 6 | H9: 991
A10: 4 | B10: Гайсинська | C10: 2210 | E10: 17 | F10: 2216 | G10: 584 | H10: 747 | J10: 11 | K10: 912 | L10: 489
A11: 5 | B11: Гніванська | C11: 263 | E11: 0 | H11: 209
A12: 6 | B12: Жмеринська | C12: 484 | E12: 6 | F12: 61 | H12: 402
A13: 7 | B13: Іллінецька | C13: 266 | H13: 220
A14: 8 | B14: Калинівська | C14: 1716 | H14: 1299
A15: 9 | B15: Козятинська | C15: 460 | H15: 99
A16: 10 | B16: Ладижинська | C16: 409 | H16: 82
A17: 11 | B17: Липовецька | C17: 1497 | H17: 869
A18: 12 | B18: Могилів-Подільська | C18: 124 | H18: 101
A19: 13 | B19: Немирівська | C19: 1881 | E19: 3 | F19: 533 | G19: 28 | H19: 1439 | J19: 1 | L19: 2
A20: 14 | B20: Погребищенська | C20: 722 | H20: 387
A21: 15 | B21: Тульчинська | C21: 3612 | E21: 17 | F21: 132 | G21: 76 | H21: 2787 | J21: 6 | K21: 92 | L21: 66
A22: 16 | B22: Хмільницька | C22: 455 | D22: 107 | F22: 10 | G22: 62 | H22: 321 | K22: 10 | L22: 50
A23: 17 | B23: Шаргородська | C23: 784 | H23: 515
A24: 18 | B24: Ямпільська | C24: 788 | E24: 23 | F24: 212 | G24: 15 | H24: 596 | J24: 9 | K24: 121
B25: Всього | C25: =SUM(C7:C24) -> 29018 | D25: =SUM(D7:D24) -> 107 | E25: =SUM(E7:E24) -> 105 | F25: =SUM(F7:F24) -> 3430 | G25: =SUM(G7:G24) -> 1213 | H25: =SUM(H7:H24) -> 12285 | J25: =SUM(J7:J24) -> 44 | K25: =SUM(K7:K24) -> 1297 | L25: =SUM(H25:K25) -> 13626
A26: 19 | B26: ВОУНБ ім. В. Отамановського | C26: 15794 | D26: 233 | F26: 44 | G26: 42
A27: 20 | B27: ВОБДіЮ ім. І. Франка | C27: 1326 | F27: 1252
B28: Всього | C28: =SUM(C25:C27) -> 46138 | D28: =SUM(D25:D27) -> 340 | E28: =SUM(E25:E27) -> 105 | F28: =SUM(F25:F27) -> 4726 | G28: =SUM(G25:G27) -> 1255 | H28: =SUM(H25:H27) -> 12285 | J28: =SUM(J25:J27) -> 44 | K28: =SUM(K25:K27) -> 1297 | L28: =SUM(H28:K28) -> 13626

Sheet таб 15а
A1: Таблиця 15
A2: ДОВІДКОВО-ІНФОРМАЦІЙНЕ ОБСЛУГОВУВАННЯ
A3: МІЖБІБЛІОТЕЧНИЙ АБОНЕМЕНТ (розріз селищна територіальна громада)
A4: № п/п | B4: Назва ТГ | C4: К-сть виконаних довідок | D4: З них віртуальних довідок | E4: Міжбібліотечний абонемент
E5: К-сть абонентів МБА | F5: К-сть виданих документів іншим бібліотекам | G5: К-сть отриманих документів з інших б-к
A6: 1 | B6: 2 | C6: 3 | D6: 4 | E6: 5 | F6: 6 | G6: 7
A7: 1 | B7: Брацлавська | C7: 568 | E7: 1 | F7: 4
A8: 2 | B8: Вапнярська | C8: 340
A9: 3 | B9: Вендичанська | C9: 267
A10: 4 | B10: Вороновицька | C10: 353 | E10: 10 | F10: 94
A11: 5 | B11: Глуховецька | C11: 169
A12: 6 | B12: Дашівська | C12: 308
A13: 7 | B13: Копайгородська | C13: 282 | G13: 82
A14: 8 | B14: Крижопільська | C14: 696 | E14: 2 | G14: 62
A15: 9 | B15: Літинська | C15: 1093
A16: 10 | B16: Мурованокуриловецька | C16: 601
A17: 11 | B17: Оратівська | C17: 382 | D17: 25 | E17: 18 | F17: 17 | G17: 33
A18: 12 | B18: Піщанська | C18: 116 | E18: 62 | F18: 226 | G18: 38
A19: 13 | B19: Стрижавська | C19: 144
A20: 14 | B20: Сутисківська | C20: 28
A21: 15 | B21: Теплицька | C21: 3384 | E21: 20 | F21: 692 | G21: 595
A22: 16 | B22: Тиврівська | C22: 169
A23: 17 | B23: Томашпільська | C23: 1279 | E23: 157 | F23: 299 | G23: 226
A24: 18 | B24: Тростянецька | C24: 2565 | E24: 13 | F24: 572
A25: 19 | B25: Турбівська | C25: 890
A26: 20 | B26: Чернівецька | C26: 226
A27: 21 | B27: Чечельницька | C27: 381
A28: 22 | B28: Шпиківська | C28: 1164 | E28: 4 | F28: 47 | G28: 24
B29: Всього | C29: =SUM(C7:C28) -> 15405 | D29: =SUM(D7:D28) -> 25 | E29: =SUM(E7:E28) -> 287 | F29: =SUM(F7:F28) -> 1951 | G29: =SUM(G7:G28) -> 1060

Sheet таб 15б
A1: Таблиця 15
A2: ДОВІДКОВО-ІНФОРМАЦІЙНЕ ОБСЛУГОВУВАННЯ
A3: МІЖБІБЛІОТЕЧНИЙ АБОНЕМЕНТ (розріз сільська територіальна громада)
A4: № п/п | B4: Назва ТГ | C4: К-сть виконаних довідок | D4: З них віртуальних довідок | E4: Міжбібліотечний абонемент
E5: К-сть абонентів МБА | F5: К-сть виданих документів іншим бібліотекам | G5: К-сть отриманих документів з інших б-к
A6: 1 | B6: 2 | C6: 3 | D6: 4 | E6: 5 | F6: 6 | G6: 7
A7: 1 | B7: Агрономічна | C7: 254
A8: 2 | B8: Бабчинецька | C8: 89 | F8: 5 | G8: 7
A9: 3 | B9: Війтівецька | C9: 140
A10: 4 | B10: Городківська | C10: 332
A11: 5 | B11: Джулинська | C11: 498 | D11: 10 | E11: 16 | F11: 552 | G11: 151
A12: 6 | B12: Джуринська | C12: 467
A13: 7 | B13: Іванівська | C13: 478
A14: 8 | B14: Краснопільська | C14: 320
A15: 9 | B15: Кунківська | C15: 209 | E15: 53 | F15: 73 | G15: 765
A16: 10 | B16: Лука-Мелешківська | C16: 231 | E16: 45 | F16: 78 | G16: 78
A17: 11 | B17: Махнівська | C17: 137
A18: 12 | B18: Мурафська | C18: 198
A19: 13 | B19: Ободівська | C19: 696 | D19: 45
A20: 14 | B20: Ольгопільська | C20: 238
A21: 15 | B21: Райгородська | C21: 422
A22: 16 | B22: Самгородоцька | C22: 100
A23: 17 | B23: Северинівська | C23: 142
A24: 18 | B24: Соболівська | C24: 280 | E24: 2 | F24: 6 | G24: 41
A25: 19 | B25: Станіславчицька | C25: 488 | E25: 6 | F25: 56 | G25: 145
A26: 20 | B26: Студенянська | C26: 175 | E26: 6 | F26: 71 | G26: 83
A27: 21 | B27: Уланівська | C27: 506 | G27: 1
A28: 22 | B28: Якушинецька | C28: 268 | E28: 2 | G28: 18
A29: 23 | B29: Яришівська | C29: 100
B30: Всього | C30: =SUM(C7:C29) -> 6768 | D30: =SUM(D7:D29) -> 55 | E30: =SUM(E7:E29) -> 130 | F30: =SUM(F7:F29) -> 841 | G30: =SUM(G7:G29) -> 1289

Sheet таб 16
A1: Таблиця 16
A2: КІЛЬКІСНИЙ ТА ЯКІСНИЙ СКЛАД КАДРІВ (розріз міська територіальна громада)
A3: № п/п | B3: Назва ТГ | C3: Всього в бібліотеках | K3: В сільській місцевості
C4: Загальна к-сть працівників | D4: З них бібліотекарів: | G4: В т.ч. фахівців з бібліотечною освітою | I4: Мають бібліотечну освіту | K4: Загальна к-ть працівників у сільській місцевості | L4: З них бібліотекарів у сільській місцевості | N4: В т.ч. фахівців з бібліотечною освітою в сільській місцевості | P4: Мають бібліотечну освіту в сільській місцевості
D5: Всього | E5: Віком до 35 років | G5: в абс. цифрах | H5: в % | I5: Перший рівень (фахова) | J5: Другий рівень (фахова) | L5: Всього | M5: Віком до 35 років | N5: в абс. цифрах | O5: в % | P5: Перший рівень (фахова) | Q5: Другий рівень (фахова)
A6: 1 | B6: 2 | C6: 3 | D6: 4 | E6: 5 | G6: 6 | H6: 7 | I6: 8 | J6: 9 | K6: 10 | L6: 11 | M6: 12 | N6: 13 | O6: 14 | P6: 15 | Q6: 16
A7: 1 | B7: Барська | C7: 25 | D7: 23 | E7: 1 | G7: 13 | H7: 56 | I7: 7 | J7: 6 | K7: 14 | L7: 14 | N7: 5 | O7: 36 | P7: 3 | Q7: 2
A8: 2 | B8: Бершадська | C8: 36 | D8: 31 | E8: 6 | G8: 22 | H8: 71 | I8: 15 | J8: 7 | K8: 21 | L8: 21 | M8: 4 | N8: 12 | O8: 57 | P8: 9 | Q8: 3
A9: 3 | B9: Вінницька | C9: 99 | D9: 77 | E9: 10 | G9: 44 | H9: 57 | I9: 20 | J9: 24 | K9: 7 | L9: 7 | M9: 2 | N9: 3 | O9: 43 | P9: 2 | Q9: 1
A10: 4 | B10: Гайсинська | C10: 42 | D10: 38 | E10: 1 | G10: 18 | H10: 47 | I10: 16 | J10: 2 | K10: 21 | L10: 21 | M10: 1 | N10: 6 | O10: 29 | P10: 5 | Q10: 1
A11: 5 | B11: Гніванська | C11: 12 | D11: 11 | G11: 6 | H11: 55 | I11: 4 | J11: 2 | K11: 7 | L11: 7 | N11: 3 | O11: 43 | P11: 2 | Q11: 1
A12: 6 | B12: Жмеринська | C12: 27 | D12: 26 | G12: 14 | H12: 54 | I12: 8 | J12: 6 | K12: 17 | L12: 17 | N12: 6 | O12: 35 | P12: 4 | Q12: 2
A13: 7 | B13: Іллінецька | C13: 26 | D13: 22 | E13: 3 | G13: 17 | H13: 77 | I13: 15 | J13: 2 | K13: 13 | L13: 13 | M13: 2 | N13: 8 | O13: 67 | P13: 8
A14: 8 | B14: Калинівська | C14: 46 | D14: 41 | G14: 19 | H14: 46 | I14: 11 | J14: 8 | K14: 26 | L14: 26 | N14: 9 | O14: 31 | P14: 7 | Q14: 2
A15: 9 | B15: Козятинська | C15: 11 | D15: 10 | E15: 3 | G15: 7 | H15: 70 | I15: 5 | J15: 2 | K15: 5 | L15: 5 | N15: 2 | O15: 40 | P15: 2
A16: 10 | B16: Ладижинська | C16: 9 | D16: 8 | G16: 8 | H16: 100 | I16: 6 | J16: 2 | K16: 2 | L16: 2 | N16: 2 | O16: 100 | P16: 2
A17: 11 | B17: Липовецька | C17: 34 | D17: 28 | E17: 5 | G17: 12 | H17: 42.9 | I17: 9 | J17: 3 | K17: 17 | L17: 17 | M17: 3 | N17: 6 | O17: 35 | P17: 5 | Q17: 1
A18: 12 | B18: Могилів-Подільська | C18: 15 | D18: 15 | G18: 8 | H18: 53 | I18: 4 | J18: 4 | K18: 9 | L18: 9 | N18: 4 | O18: 44 | P18: 4
A19: 13 | B19: Немирівська | C19: 39 | D19: 35 | E19: 2 | G19: 24 | H19: 68.6 | I19: 19 | J19: 5 | K19: 23 | L19: 23 | M19: 1 | N19: 14 | O19: 61 | P19: 13 | Q19: 1
A20: 14 | B20: Погребищенська | C20: 38 | D20: 34 | E20: 1 | G20: 15 | H20: 44 | I20: 9 | J20: 6 | K20: 23 | L20: 23 | N20: 9 | O20: 39 | P20: 8 | Q20: 1
A21: 15 | B21: Тульчинська | C21: 42 | D21: 37 | E21: 4 | G21: 22 | H21: 59 | I21: 11 | J21: 11 | K21: 23 | L21: 23 | M21: 2 | N21: 10 | O21: 43 | P21: 10
A22: 16 | B22: Хмільницька | C22: 33 | D22: 30 | E22: 4 | G22: 17 | H22: 57 | I22: 13 | J22: 4 | K22: 18 | L22: 18 | M22: 3 | N22: 8 | O22: 44 | P22: 4 | Q22: 4
A23: 17 | B23: Шаргородська | C23: 30 | D23: 25 | E23: 3 | G23: 20 | H23: 80 | I23: 13 | J23: 7 | K23: 14 | L23: 14 | M23: 2 | N23: 10 | O23: 71 | P23: 7 | Q23: 3
A24: 18 | B24: Ямпільська | C24: 22 | D24: 22 | E24: 5 | G24: 14 | H24: 64 | I24: 10 | J24: 4 | K24: 16 | L24: 16 | M24: 4 | N24: 9 | O24: 56 | P24: 6 | Q24: 3
B25: Всього | C25: =SUM(C7:C24) -> 586 | D25: =SUM(D7:D24) -> 513 | E25: =SUM(E7:E24) -> 48 | G25: =SUM(G7:G24) -> 300 | H25: 58 | I25: =SUM(I7:I24) -> 195 | J25: =SUM(J7:J24) -> 105 | K25: =SUM(K7:K24) -> 276 | L25: =SUM(L7:L24) -> 276 | M25: =SUM(M7:M24) -> 24 | N25: =SUM(N7:N24) -> 126 | O25: 45 | P25: =SUM(P7:P24) -> 101 | Q25: =SUM(Q7:Q24) -> 25
A26: 19 | B26: ВОУНБ ім. В. Отамановського | C26: 118 | D26: 95 | E26: 8 | G26: 70 | H26: 74 | I26: 10 | J26: 58
A27: 20 | B27: ВОБДіЮ ім. І. Франка | C27: 64 | D27: 43 | E27: 3 | G27: 20 | H27: 47 | I27: 3 | J27: 17
B28: Всього | C28: =SUM(C25:C27) -> 768 | D28: =SUM(D25:D27) -> 651 | E28: =SUM(E25:E27) -> 59 | G28: =SUM(G25:G27) -> 390 | H28: 60 | I28: =SUM(I25:I27) -> 208 | J28: =SUM(J25:J27) -> 180

Sheet таб 16а
A1: Таблиця 16
A2: КІЛЬКІСНИЙ ТА ЯКІСНИЙ СКЛАД КАДРІВ (розріз селищна територіальна громада)
A3: № п/п | B3: Назва ТГ | C3: Всього в бібліотеках
C4: Загальна к-сть працівників | D4: З них бібліотекарів: | F4: В т.ч. фахівців з бібліотечною освітою | H4: Мають бібліотечну освіту
D5: Всього | E5: Віком до 35 років | F5: в абс. цифрах | G5: в % | H5: Перший рівень (фахова) | I5: Другий рівень (фахова)
A6: 1 | B6: 2 | C6: 3 | D6: 4 | E6: 5 | F6: 6 | G6: 7 | H6: 8 | I6: 9
A7: 1 | B7: Брацлавська | C7: 15 | D7: 12 | F7: 7 | G7: 58 | H7: 4 | I7: 3
A8: 2 | B8: Вапнярська | C8: 6 | D8: 5 | E8: 1 | F8: 2 | G8: 40 | I8: 2
A9: 3 | B9: Вендичанська | C9: 12 | D9: 12 | F9: 9 | G9: 75 | H9: 9
A10: 4 | B10: Вороновицька | C10: 12 | D10: 10 | E10: 1 | F10: 7 | G10: 70 | H10: 6 | I10: 1
A11: 5 | B11: Глуховецька | C11: 11 | D11: 10 | E11: 2 | F11: 3 | I11: 3
A12: 6 | B12: Дашівська | C12: 13 | D12: 12 | E12: 2 | F12: 5 | G12: 42 | H12: 4 | I12: 1
A13: 7 | B13: Копайгородська | C13: 6 | D13: 6 | F13: 2 | G13: 33 | H13: 2
A14: 8 | B14: Крижопільська | C14: 30 | D14: 25 | E14: 2 | F14: 16 | G14: 64 | H14: 13 | I14: 3
A15: 9 | B15: Літинська | C15: 29 | D15: 24 | E15: 2 | F15: 16 | G15: 64 | H15: 11 | I15: 5
A16: 10 | B16: Мурованокуриловецька | C16: 26 | D16: 25 | E16: 4 | F16: 18 | G16: 72 | H16: 13 | I16: 5
A17: 11 | B17: Оратівська | C17: 25 | D17: 23 | E17: 2 | F17: 11 | G17: 48 | H17: 8 | I17: 3
A18: 12 | B18: Піщанська | C18: 14 | D18: 13 | E18: 1 | F18: 10 | G18: 77 | H18: 8 | I18: 2
A19: 13 | B19: Стрижавська | C19: 6 | D19: 6 | E19: 1 | F19: 3 | G19: 50 | H19: 1 | I19: 2
A20: 14 | B20: Сутисківська | C20: 3 | D20: 3 | F20: 1 | G20: 33 | H20: 1
A21: 15 | B21: Теплицька | C21: 24 | D21: 23 | E21: 1 | F21: 5 | G21: 22 | H21: 4 | I21: 1
A22: 16 | B22: Тиврівська | C22: 10 | D22: 10 | E22: 1 | F22: 5 | G22: 50 | H22: 5
A23: 17 | B23: Томашпільська | C23: 29 | D23: 27 | E23: 2 | F23: 18 | G23: 67 | H23: 15 | I23: 3
A24: 18 | B24: Тростянецька | C24: 21 | D24: 19 | E24: 3 | F24: 8 | G24: 42 | H24: 3 | I24: 5
A25: 19 | B25: Турбівська | C25: 12 | D25: 12 | E25: 1 | F25: 4 | G25: 33 | H25: 4
A26: 20 | B26: Чернівецька | C26: 10 | D26: 10 | E26: 2 | F26: 8 | G26: 80 | H26: 8
A27: 21 | B27: Чечельницька | C27: 13 | D27: 12 | F27: 4 | G27: 33 | H27: 3 | I27: 1
A28: 22 | B28: Шпиківська | C28: 18 | D28: 18 | E28: 1 | F28: 8 | G28: 44 | H28: 8
B29: Всього | C29: =SUM(C7:C28) -> 345 | D29: =SUM(D7:D28) -> 317 | E29: =SUM(E7:E28) -> 29 | F29: =SUM(F7:F28) -> 170 | G29: 53 | H29: =SUM(H7:H28) -> 130 | I29: =SUM(I7:I28) -> 40

Sheet таб 16б
A1: Таблиця 16
A2: КІЛЬКІСНИЙ ТА ЯКІСНИЙ СКЛАД КАДРІВ (розріз сільська територіальна громада)
A3: № п/п | B3: Назва ТГ | C3: Всього в бібліотеках
C4: Загальна к-сть працівників | D4: З них бібліотекарів: | G4: В т.ч. фахівців з бібліотечною освітою | I4: Мають бібліотечну освіту
D5: Всього | E5: Віком до 35 років | G5: в абс. цифрах | H5: в % | I5: Перший рівень (фахова) | J5: Другий рівень (фахова)
A6: 1 | B6: 2 | C6: 3 | D6: 4 | E6: 5 | G6: 6 | H6: 7 | I6: 8 | J6: 9
A7: 1 | B7: Агрономічна | C7: 4 | D7: 4
A8: 2 | B8: Бабчинецька | C8: 6 | D8: 5 | E8: 1 | G8: 1 | H8: 20 | I8: 1
A9: 3 | B9: Війтівецька | C9: 4 | D9: 4 | G9: 1 | H9: 25 | I9: 1
A10: 4 | B10: Городківська | C10: 10 | D10: 9 | E10: 1 | G10: 2 | H10: 22 | I10: 2
A11: 5 | B11: Джулинська | C11: 15 | D11: 15 | E11: 3 | G11: 8 | H11: 57 | I11: 8
A12: 6 | B12: Джуринська | C12: 11 | D12: 10 | E12: 1 | G12: 6 | H12: 60 | I12: 5 | J12: 1
A13: 7 | B13: Іванівська | C13: 12 | D13: 12
A14: 8 | B14: Краснопільська | C14: 7 | D14: 7 | G14: 5 | H14: 71 | I14: 5
A15: 9 | B15: Кунківська | C15: 7 | D15: 6 | E15: 1 | G15: 3 | H15: 50 | I15: 3
A16: 10 | B16: Лука-Мелешківська | C16: 4 | D16: 4 | E16: 1 | G16: 2 | H16: 50 | I16: 1 | J16: 1
A17: 11 | B17: Махнівська | C17: 10 | D17: 9 | E17: 2 | G17: 2 | H17: 22 | I17: 1 | J17: 1
A18: 12 | B18: Мурафська | C18: 9 | D18: 8 | E18: 2 | G18: 5 | H18: 55 | I18: 3 | J18: 2
A19: 13 | B19: Ободівська | C19: 7 | D19: 7 | E19: 1 | G19: 3 | H19: 43 | I19: 2 | J19: 1
A20: 14 | B20: Ольгопільська | C20: 5 | D20: 5 | E20: 2
A21: 15 | B21: Райгородська | C21: 13 | D21: 11 | G21: 5 | H21: 45 | I21: 5
A22: 16 | B22: Самгородоцька | C22: 10 | D22: 10 | G22: 1 | H22: 10 | I22: 1
A23: 17 | B23: Северинівська | C23: 4 | D23: 4 | E23: 1
A24: 18 | B24: Соболівська | C24: 9 | D24: 9 | E24: 1 | G24: 2 | H24: 22 | I24: 2
A25: 19 | B25: Станіславчицька | C25: 6 | D25: 6 | E25: 2 | G25: 1 | H25: 17 | I25: 1
A26: 20 | B26: Студенянська | C26: 6 | D26: 5 | G26: 2 | H26: 33 | I26: 2
A27: 21 | B27: Уланівська | C27: 26 | D27: 21 | E27: 2 | G27: 7 | H27: 37 | I27: 5 | J27: 2
A28: 22 | B28: Якушинецька | C28: 11 | D28: 11 | E28: 1 | G28: 4 | H28: 36 | I28: 3 | J28: 1
A29: 23 | B29: Яришівська | C29: 9 | D29: 9 | E29: 2 | G29: 9 | H29: 100 | I29: 8 | J29: 1
B30: Всього | C30: =SUM(C7:C29) -> 205 | D30: =SUM(D7:D29) -> 191 | E30: =SUM(E7:E29) -> 24 | G30: =SUM(G7:G29) -> 69 | H30: 37 | I30: =SUM(I7:I29) -> 59 | J30: =SUM(J7:J29) -> 10

Sheet таб 16в
A1: Продовження таблиці 16
A2: РОЗРІЗ МІСЬКА ТЕРИТОРІАЛЬНА ГРОМАДА
A3: № п/п | B3: Назва ТГ | C3: В головній бібліотеці | H3: В сільській місцевості
C4: Всього бібліотекарів | E4: з них із бібліотечною освітою | H4: Всього бібліотекарів у сільській місцевості | J4: з них із бібліотечною освітою в сільській місцевості
E5: в абс. цифрах | G5: в% | J5: в абс. цифрах | L5: в %
A6: 1 | B6: 2 | C6: 3 | E6: 4 | G6: 5 | H6: 6 | J6: 7 | L6: 8
A7: 1 | B7: Барська | C7: 9 | E7: 7 | G7: 78 | H7: 14 | J7: 5 | L7: 36
A8: 2 | B8: Бершадська | C8: 10 | E8: 10 | G8: 100 | H8: 21 | J8: 12 | L8: 57
A9: 3 | B9: Вінницька | C9: 17 | E9: 10 | G9: 59 | H9: 7 | J9: 3 | L9: 43
A10: 4 | B10: Гайсинська | C10: 13 | E10: 9 | G10: 69 | H10: 21 | J10: 6 | L10: 29
A11: 5 | B11: Гніванська | C11: 3 | E11: 3 | G11: 100 | H11: 7 | J11: 3 | L11: 43
A12: 6 | B12: Жмеринська | C12: 6 | E12: 5 | G12: 83 | H12: 17 | J12: 6 | L12: 35
A13: 7 | B13: Іллінецька | C13: 7 | E13: 7 | G13: 100 | H13: 13 | J13: 8 | L13: 61.5
A14: 8 | B14: Калинівська | C14: 13 | E14: 10 | G14: 77 | H14: 26 | J14: 9 | L14: 35
A15: 9 | B15: Козятинська | C15: 10 | E15: 7 | G15: 70 | H15: 5 | J15: 2 | L15: 40
A16: 10 | B16: Ладижинська | C16: 6 | E16: 6 | G16: 100 | H16: 2 | J16: 2 | L16: 100
A17: 11 | B17: Липовецька | C17: 11 | E17: 6 | G17: 54.5 | H17: 17 | J17: 6 | L17: 35
A18: 12 | B18: Могилів-Подільська | C18: 5 | E18: 4 | G18: 80 | H18: 9 | J18: 4 | L18: 44
... A24: 18 | B24: Ямпільська | C24: 5 | E24: 5 | G24: 100 | H24: 16 | J24: 9 | L24: 56
B25: Всього | C25: =SUM(C7:C24) -> 208 | E25: =SUM(E7:E24) -> 149 | G25: 72 | H25: =SUM(H7:H24) -> 276 | J25: =SUM(J7:J24) -> 126 | L25: 46

Sheet таб 16г
A1: Продовження таблиці 16
A2: РОЗРІЗ СЕЛИЩНА ТЕРИТОРІАЛЬНА ГРОМАДА
A3: № п/п | B3: Назва ТГ | C3: В головній бібліотеці | H3: В сільській місцевості
C4: Всього бібліотекарів | E4: з них із бібліотечною освітою | H4: Всього бібліотекарів у сільській місцевості | J4: з них із бібліотечною освітою в сільській місцевості
E5: в абс. цифрах | G5: в% | J5: в абс. цифрах | L5: в %
A6: 1 | B6: 2 | C6: 3 | E6: 4 | G6: 5 | H6: 6 | J6: 7 | L6: 8
A7: 1 | B7: Брацлавська | C7: 4 | E7: 3 | G7: 75 | H7: 8 | J7: 4 | L7: 50
A8: 2 | B8: Вапнярська | C8: 1 | E8: 1 | G8: 100 | H8: 5 | J8: 2 | L8: 40
A9: 3 | B9: Вендичанська | C9: 2 | E9: 2 | G9: 83 | H9: 9 | J9: 6 | L9: 67
A10: 4 | B10: Вороновицька | C10: 5 | E10: 4 | G10: 80 | H10: 5 | J10: 2 | L10: 40
A11: 5 | B11: Глуховецька | C11: 10 | E11: 3 | G11: 30 | H11: 10 | J11: 3 | L11: 30
A12: 6 | B12: Дашівська | C12: 3 | E12: 2 | G12: 67 | H12: 9 | J12: 3 | L12: 33
A13: 7 | B13: Копайгородська | C13: 1 | E13: 1 | G13: 100 | H13: 5 | J13: 1 | L13: 20
A14: 8 | B14: Крижопільська | C14: 8 | E14: 7 | G14: 88 | H14: 22 | J14: 9 | L14: 41
A15: 9 | B15: Літинська | C15: 9 | E15: 7 | G15: 77 | H15: 15 | J15: 9 | L15: 60
A16: 10 | B16: Мурованокуриловецька | C16: 8 | E16: 8 | G16: 100 | H16: 17 | J16: 10 | L16: 59
A17: 11 | B17: Оратівська | C17: 23 | E17: 11 | G17: 48 | H17: 23 | J17: 11 | L17: 48
A18: 12 | B18: Піщанська | C18: 5 | E18: 5 | G18: 100 | H18: 8 | J18: 2 | L18: 25
... A26: 20 | B26: Чернівецька | C26: 2 | E26: 2 | G26: 100 | H26: 6 | J26: 5 | L26: 90
A27: 21 | B27: Чечельницька | C27: 4 | E27: 4 | G27: 100 | H27: 8
A28: 22 | B28: Шпиківська | C28: 3 | E28: 2 | G28: 67 | H28: 15 | J28: 6 | L28: 40
B29: Всього | C29: =SUM(C7:C28) -> 123 | E29: =SUM(E7:E28) -> 82 | G29: 67 | H29: =SUM(H7:H28) -> 239 | J29: =SUM(J7:J28) -> 102 | L29: 45

Sheet таб 16д
A1: Продовження таблиці 16
A2: РОЗРІЗ СІЛЬСЬКА ТЕРИТОРІАЛЬНА ГРОМАДА
A3: № п/п | B3: Назва ТГ | C3: В головній бібліотеці | H3: В сільських бібліотеках ТГ
C4: Всього бібліотекарів | E4: з них із бібліотечною освітою | H4: Всього бібліотекарів | J4: з них із бібліотечною освітою
E5: в абс. цифрах | G5: в % | J5: в абс. цифрах | L5: в %
A6: 1 | B6: 2 | C6: 3 | E6: 4 | G6: 5 | H6: 6 | J6: 7 | L6: 8
A7: 1 | B7: Агрономічна | C7: 1 | H7: 3
A8: 2 | B8: Бабчинецька | C8: 1 | H8: 4 | J8: 1 | L8: 25
A9: 3 | B9: Війтівецька | C9: 1 | E9: 1 | G9: 25 | H9: 3 | J9: 1 | L9: 33
A10: 4 | B10: Городківська | C10: 1 | H10: 8 | J10: 2 | L10: 25
A11: 5 | B11: Джулинська | C11: 2 | E11: 1 | G11: 50 | H11: 13 | J11: 6 | L11: 46
A12: 6 | B12: Джуринська | C12: 1 | E12: 1 | G12: 100 | H12: 9 | J12: 5 | L12: 56
A13: 7 | B13: Іванівська | C13: 1 | E13: 1 | G13: 100 | H13: 11 | J13: 5 | L13: 45
A14: 8 | B14: Краснопільська | C14: 1 | H14: 6 | J14: 5 | L14: 83
A15: 9 | B15: Кунківська | C15: 1 | E15: 3 | G15: 50 | H15: 5 | J15: 3 | L15: 60
A16: 10 | B16: Лука-Мелешківська | G16: 0 | H16: 4 | J16: 2 | L16: 50
A17: 11 | B17: Махнівська | C17: 1 | E17: 1 | G17: 100 | H17: 8 | J17: 1 | L17: 13
A18: 12 | B18: Мурафська | C18: 2 | E18: 1 | G18: 50 | H18: 6 | J18: 4 | L18: 67
A19: 13 | B19: Ободівська | C19: 1 | E19: 1 | G19: 100 | H19: 6 | J19: 2 | L19: 33
A20: 14 | B20: Ольгопільська | C20: 2 | H20: 3 | J20: 0 | L20: 0
A21: 15 | B21: Райгородська | C21: 3 | E21: 2 | G21: 67 | H21: 8 | J21: 3 | L21: 38
A22: 16 | B22: Самгородоцька | C22: 1 | E22: 1 | G22: 100 | H22: 9 | J22: 1 | L22: 10
A23: 17 | B23: Северинівська | H23: 4 | J23: 0 | L23: 0
A24: 18 | B24: Соболівська | C24: 1 | H24: 8 | J24: 2 | L24: 25
A25: 19 | B25: Станіславчицька | C25: 1 | E25: 1 | G25: 100 | H25: 5 | J25: 0 | L25: 0
A26: 20 | B26: Студенянська | C26: 1 | E26: 1 | G26: 100 | H26: 4 | J26: 1 | L26: 25
A27: 21 | B27: Уланівська | C27: 3 | E27: 1 | G27: 33 | H27: 18 | J27: 5 | L27: 28
A28: 22 | B28: Якушинецька | C28: 3 | E28: 1 | G28: 33 | H28: 8 | J28: 3 | L28: 45
A29: 23 | B29: Яришівська | C29: 1 | E29: 1 | G29: 100 | H29: 8 | J29: 8 | L29: 100
B30: Всього | C30: =SUM(C7:C29) -> 30 | E30: =SUM(E9:E29) -> 18 | G30: 60 | H30: =SUM(H7:H29) -> 161 | J30: =SUM(J7:J29) -> 60 | L30: 37

Sheet таб 16е
A1: Продовження таблиці 16
A2: РОЗРІЗ МІСЬКА ТЕРИТОРІАЛЬНА ГРОМАДА
A3: № п/п | B3: Назва ТГ | C3: Із загальної кількості бібліотечного персоналу працюють на: | G3: Бібліотечний стаж | K3: К-сть працівників, що підвищили кваліфікацію на ВОНМЦ | L3: В сільській місцевості | T3: К-сть працівників, що підвищили кваліфікацію на ВОНМЦ у сільській місцевості
L4: Із загальної кількості бібліотечного персоналу в сільській місцевості працюють на: | P4: Бібліотечний стаж у сільській місцевості
C5: повну ставку | D5: 0,75 ставки | E5: 0,5 ставки | F5: 0,25 ставки | G5: до 3 років | H5: 3-9 років | I5: 10-19 років | J5: понад 20 років | L5: повну ставку | M5: 0,75 ставки | N5: 0,5 ставки | O5: 0,25 ставки | P5: до 3 років | Q5: 3-9 років | R5: 10-19 років | S5: понад 20 років
A6: 1 | B6: 2 | C6: 3 | D6: 4 | E6: 5 | F6: 6 | G6: 7 | H6: 8 | I6: 9 | J6: 10 | K6: 11 | L6: 12 | M6: 13 | N6: 14 | O6: 15 | P6: 16 | Q6: 17 | R6: 18 | S6: 19 | T6: 20
A7: 1 | B7: Барська | C7: 11 | D7: 2 | E7: 10 | G7: 3 | H7: 3 | I7: 2 | J7: 15 | L7: 3 | M7: 2 | N7: 9 | P7: 3 | Q7: 3 | R7: 1 | S7: 7
A8: 2 | B8: Бершадська | C8: 21 | D8: 3 | E8: 6 | F8: 1 | G8: 10 | H8: 3 | I8: 4 | J8: 14 | K8: 1 | L8: 13 | M8: 1 | N8: 6 | O8: 1 | P8: 8 | Q8: 2 | R8: 2 | S8: 9
A9: 3 | B9: Вінницька | C9: 72 | D9: 0 | E9: 5 | F9: 0 | G9: 11 | H9: 11 | I9: 11 | J9: 44 | K9: 8 | L9: 7 | P9: 1 | Q9: 2 | R9: 2 | S9: 2
A10: 4 | B10: Гайсинська | C10: 34 | E10: 4 | G10: 7 | H10: 5 | I10: 11 | J10: 15 | K10: 5 | L10: 18 | N10: 3 | P10: 6 | Q10: 3 | R10: 7 | S10: 5 | T10: 4
A11: 5 | B11: Гніванська | C11: 8 | D11: 1 | E11: 2 | F11: 0 | G11: 1 | H11: 3 | I11: 1 | J11: 6 | L11: 4 | M11: 1 | N11: 2 | Q11: 3 | S11: 4
A12: 6 | B12: Жмеринська | C12: 9 | D12: 8 | E12: 8 | F12: 1 | G12: 2 | H12: 3 | I12: 9 | J12: 12 | K12: 1 | L12: 1 | M12: 7 | N12: 8 | O12: 1 | P12: 2 | Q12: 3 | R12: 6 | S12: 6 | T12: 1
A13: 7 | B13: Іллінецька | C13: 15 | D13: 0 | E13: 7 | F13: 0 | G13: 5 | H13: 4 | I13: 3 | J13: 10 | K13: 1 | L13: 6 | N13: 7 | P13: 5 | Q13: 3 | R13: 2 | S13: 3
A14: 8 | B14: Калинівська | C14: 31 | D14: 2 | E14: 8 | F14: 0 | G14: 4 | H14: 4 | I14: 15 | J14: 18 | L14: 16 | M14: 2 | N14: 8 | P14: 2 | Q14: 4 | R14: 10 | S14: 10
A15: 9 | B15: Козятинська | C15: 7 | D15: 0 | E15: 3 | F15: 0 | G15: 4 | H15: 0 | I15: 2 | J15: 4 | K15: 2 | L15: 2 | N15: 3 | P15: 1 | R15: 2 | S15: 2
A16: 10 | B16: Ладижинська | C16: 8 | H16: 1 | J16: 7 | L16: 2 | Q16: 1 | S16: 1
A17: 11 | B17: Липовецька | C17: 12 | D17: 0 | E17: 11 | F17: 5 | G17: 8 | H17: 5 | I17: 4 | J17: 11 | K17: 4 | L17: 1 | N17: 11 | O17: 5 | P17: 5 | Q17: 2 | R17: 3 | S17: 7
A18: 12 | B18: Могилів-Подільська | C18: 8 | D18: 3 | E18: 3 | F18: 1 | G18: 2 | H18: 2 | I18: 5 | J18: 6 | K18: 1 | L18: 1 | M18: 2 | N18: 4 | O18: 2 | P18: 3 | Q18: 3 | R18: 1 | S18: 2 | T18: 2
A19: 13 | B19: Немирівська | C19: 17 | D19: 11 | E19: 6 | F19: 1 | G19: 2 | H19: 8 | I19: 9 | J19: 16 | K19: 1 | L19: 5 | M19: 11 | N19: 6 | O19: 1 | P19: 1 | Q19: 8 | R19: 6 | S19: 8 | T19: 1
A20: 14 | B20: Погребищенська | C20: 13 | D20: 2 | E20: 19 | G20: 2 | H20: 10 | I20: 8 | J20: 14 | L20: 3 | M20: 2 | N20: 18 | P20: 1 | Q20: 8 | R20: 5 | S20: 9
A21: 15 | B21: Тульчинська | C21: 11 | D21: 1 | E21: 24 | F21: 1 | G21: 6 | H21: 5 | I21: 5 | J21: 21 | K21: 1 | L21: 0 | M21: 1 | N21: 21 | O21: 1 | P21: 4 | Q21: 5 | R21: 4 | S21: 10 | T21: 1
A22: 16 | B22: Хмільницька | C22: 30 | D22: 0 | E22: 0 | F22: 0 | G22: 5 | H22: 8 | I22: 7 | J22: 10 | K22: 3 | L22: 18 | P22: 4 | Q22: 6 | R22: 5 | S22: 3 | T22: 1
A23: 17 | B23: Шаргородська | C23: 20 | D23: 3 | E23: 1 | F23: 1 | G23: 3 | H23: 3 | I23: 4 | J23: 15 | L23: 11 | M23: 3 | P23: 2 | Q23: 2 | R23: 4 | S23: 6
A24: 18 | B24: Ямпільська | C24: 12 | D24: 7 | E24: 3 | G24: 6 | H24: 1 | I24: 3 | J24: 12 | L24: 6 | M24: 7 | N24: 3 | P24: 5 | Q24: 1 | R24: 3 | S24: 7
B25: Всього | C25: =SUM(C7:C24) -> 339 | D25: =SUM(D7:D24) -> 43 | E25: =SUM(E7:E24) -> 120 | F25: =SUM(F7:F24) -> 11 | G25: =SUM(G7:G24) -> 81 | H25: =SUM(H7:H24) -> 79 | I25: =SUM(I7:I24) -> 103 | J25: =SUM(J7:J24) -> 250 | ... T25: =SUM(T7:T24) -> 10
A26: 19 | B26: ВОУНБ ім. В. Отамановського | C26: 88 | D26: 2 | E26: 5 | G26: 4 | H26: 13 | I26: 25 | J26: 53 | K26: 13
A27: 20 | B27: ВОБДіЮ ім. І. Франка | C27: 41 | E27: 2 | G27: 2 | H27: 7 | I27: 10 | J27: 24 | K27: 37
B28: Всього | C28: =SUM(C25:C27) -> 468 | D28: =SUM(D25:D27) -> 45 | E28: =SUM(E25:E27) -> 127 | F28: =SUM(F25:F27) -> 11 | G28: =SUM(G25:G27) -> 87 | H28: =SUM(H25:H27) -> 99 | I28: =SUM(I25:I27) -> 138 | J28: =SUM(J25:J27) -> 327 | K28: =SUM(K25:K27) -> 78 | L28: 117 | M28: 39 | N28: 109 | O28: 11 | P28: 53 | Q28: 59 | R28: 63 | S28: 101 | T28: 10

Sheet таб 16є
A1: Продовження таблиці 16
A2: РОЗРІЗ СЕЛИЩНА ТЕРИТОРІАЛЬНА ГРОМАДА
A3: № п/п | B3: Назва ТГ | C3: Із загальної кількості бібліотечного персоналу працюють на: | G3: Бібліотечний стаж | K3: К-сть працівників, що підвищили кваліфікацію на ВОНМЦ
C5: повну ставку | D5: 0,75 ставки | E5: 0,5 ставки | F5: 0,25 ставки | G5: до 3 років | H5: 3-9 років | I5: 10-19 років | J5: понад 20 років
A6: 1 | B6: 2 | C6: 3 | D6: 4 | E6: 5 | F6: 6 | G6: 7 | H6: 8 | I6: 9 | J6: 10 | K6: 11
A7: 1 | B7: Брацлавська | C7: 5 | D7: 3 | E7: 4 | G7: 2 | H7: 4 | I7: 1 | J7: 5 | K7: 2
A8: 2 | B8: Вапнярська | C8: 2 | D8: 0 | E8: 3 | F8: 0 | G8: 1 | H8: 0 | I8: 0 | J8: 4 | K8: 0
A9: 3 | B9: Вендичанська | C9: 3 | E9: 9 | G9: 1 | H9: 2 | I9: 1 | J9: 8 | K9: 11
A10: 4 | B10: Вороновицька | C10: 7 | D10: 1 | E10: 2 | G10: 1 | H10: 3 | I10: 1 | J10: 5 | K10: 7
A11: 5 | B11: Глуховецька | C11: 5 | D11: 1 | E11: 4 | G11: 2 | H11: 4 | I11: 1 | J11: 3
A12: 6 | B12: Дашівська | C12: 2 | D12: 2 | E12: 5 | F12: 3 | G12: 3 | H12: 1 | I12: 3 | J12: 5 | K12: 4
A13: 7 | B13: Копайгородська | C13: 3 | E13: 3 | G13: 1 | H13: 2 | I13: 1 | J13: 2
A14: 8 | B14: Крижопільська | C14: 7 | D14: 5 | E14: 11 | F14: 2 | G14: 2 | H14: 6 | I14: 3 | J14: 14 | K14: 1
A15: 9 | B15: Літинська | C15: 14 | D15: 4 | E15: 6 | G15: 2 | H15: 2 | I15: 3 | J15: 17 | K15: 3
A16: 10 | B16: Мурованокуриловецька | C16: 15 | D16: 2 | E16: 8 | G16: 6 | H16: 3 | I16: 5 | J16: 11 | K16: 23
A17: 11 | B17: Оратівська | C17: 2 | D17: 4 | E17: 17 | G17: 1 | H17: 6 | I17: 9 | J17: 7
A18: 12 | B18: Піщанська | C18: 9 | D18: 0 | E18: 4 | F18: 0 | G18: 1 | H18: 0 | I18: 3 | J18: 9 | K18: 1
A19: 13 | B19: Стрижавська | C19: 5 | E19: 1 | G19: 1 | I19: 2 | J19: 3 | K19: 1
A20: 14 | B20: Сутисківська | C20: 2 | E20: 1 | G20: 1 | J20: 2
A21: 15 | B21: Теплицька | C21: 7 | D21: 2 | E21: 6 | F21: 8 | G21: 8 | H21: 6 | I21: 3 | J21: 6
A22: 16 | B22: Тиврівська | C22: 5 | D22: 0 | E22: 5 | F22: 0 | G22: 5 | H22: 0 | I22: 0 | J22: 5 | K22: 0
A23: 17 | B23: Томашпільська | C23: 14 | D23: 4 | E23: 7 | F23: 2 | G23: 6 | H23: 3 | I23: 5 | J23: 13 | K23: 2
A24: 18 | B24: Тростянецька | C24: 12 | D24: 5 | E24: 2 | F24: 0 | G24: 7 | H24: 2 | I24: 3 | J24: 7 | K24: 0
A25: 19 | B25: Турбівська | C25: 3 | D25: 0 | E25: 9 | F25: 0 | G25: 4 | H25: 2 | I25: 1 | J25: 5 | K25: 0
A26: 20 | B26: Чернівецька | C26: 10 | D26: 0 | E26: 0 | F26: 0 | G26: 1 | H26: 2 | I26: 3 | J26: 4 | K26: 8
A27: 21 | B27: Чечельницька | C27: 4 | E27: 7 | F27: 1 | G27: 2 | H27: 4 | J27: 6 | K27: 0
A28: 22 | B28: Шпиківська | C28: 8 | D28: 4 | E28: 6 | G28: 2 | H28: 1 | I28: 5 | J28: 10 | K28: 0
B29: Всього | C29: =SUM(C7:C28) -> 144 | D29: =SUM(D7:D28) -> 37 | E29: =SUM(E7:E28) -> 120 | F29: =SUM(F7:F28) -> 16 | G29: =SUM(G7:G28) -> 60 | H29: =SUM(H7:H28) -> 53 | I29: =SUM(I7:I28) -> 53 | J29: =SUM(J7:J28) -> 151 | K29: =SUM(K7:K28) -> 63

Sheet таб 16ж
C1: Продовження таблиці 16
C2: РОЗРІЗ СІЛЬСЬКА ТЕРИТОРІАЛЬНА ГРОМАДА
C3: № п/п | D3: Назва ТГ | E3: Із загальної кількості бібліотечного персоналу працюють на: | I3: Бібліотечний стаж | M3: К-сть працівників, що підвищили кваліфікацію на ВОНМЦ
E5: повну ставку | F5: 0,75 ставки | G5: 0,5 ставки | H5: 0,25 ставки | I5: до 3 років | J5: 3-9 років | K5: 10-19 років | L5: понад 20 років
C6: 1 | D6: 2 | E6: 3 | F6: 4 | G6: 5 | H6: 6 | I6: 7 | J6: 8 | K6: 9 | L6: 10 | M6: 11
C7: 1 | D7: Агрономічна | E7: 3 | G7: 1 | I7: 2 | L7: 2 | M7: 4
C8: 2 | D8: Бабчинецька | E8: 2 | G8: 3 | I8: 2 | J8: 1 | L8: 2
C9: 3 | D9: Війтівецька | E9: 3 | F9: 1 | I9: 2 | K9: 1 | L9: 1 | M9: 4
C10: 4 | D10: Городківська | E10: 2 | F10: 4 | G10: 3 | I10: 1 | J10: 3 | K10: 3 | L10: 2
C11: 5 | D11: Джулинська | E11: 5 | F11: 6 | G11: 4 | I11: 5 | J11: 3 | K11: 2 | L11: 5 | M11: 1
C12: 6 | D12: Джуринська | E12: 7 | F12: 2 | H12: 1 | I12: 2 | J12: 1 | K12: 4 | L12: 3
C13: 7 | D13: Іванівська | E13: 3 | G13: 9 | I13: 4 | J13: 3 | K13: 2 | L13: 3
C14: 8 | D14: Краснопільська | E14: 1 | G14: 6 | I14: 1 | J14: 1 | L14: 5
C15: 9 | D15: Кунківська | E15: 6 | J15: 2 | K15: 3 | L15: 1
C16: 10 | D16: Лука-Мелешківська | E16: 4 | J16: 2 | K16: 1 | L16: 1 | M16: 2
C17: 11 | D17: Махнівська | E17: 1 | F17: 1 | G17: 7 | I17: 2 | J17: 1 | K17: 3 | L17: 3
C18: 12 | D18: Мурафська | E18: 8 | I18: 2 | J18: 2 | K18: 1 | L18: 3
C19: 13 | D19: Ободівська | E19: 4 | F19: 3 | K19: 1 | L19: 6 | M19: 1
C20: 14 | D20: Ольгопільська | E20: 1 | G20: 4 | I20: 3 | J20: 2
C21: 15 | D21: Райгородська | E21: 4 | F21: 1 | G21: 6 | J21: 6 | L21: 5 | M21: 2
C22: 16 | D22: Самгородоцька | E22: 3 | G22: 7 | I22: 3 | K22: 4 | L22: 3 | M22: 1
C23: 17 | D23: Северинівська | E23: 4 | J23: 1 | K23: 2 | L23: 1 | M23: 1
C24: 18 | D24: Соболівська | E24: 1 | G24: 7 | H24: 1 | I24: 4 | J24: 2 | L24: 3
C25: 19 | D25: Станіславчицька | E25: 1 | G25: 5 | I25: 1 | J25: 1 | K25: 2 | L25: 2
C26: 20 | D26: Студенянська | E26: 4 | G26: 1 | J26: 1 | L26: 4
C27: 21 | D27: Уланівська | E27: 10 | F27: 7 | G27: 4 | I27: 3 | J27: 2 | K27: 6 | L27: 10
C28: 22 | D28: Якушинецька | E28: 7 | F28: 3 | H28: 1 | I28: 1 | K28: 1 | L28: 9
C29: 23 | D29: Яришівська | G29: 9 | I29: 2 | J29: 1 | K29: 3 | L29: 3
D30: Всього | E30: =SUM(E7:E29) -> 84 | F30: =SUM(F7:F29) -> 28 | G30: =SUM(G7:G29) -> 76 | H30: =SUM(H7:H29) -> 3 | I30: =SUM(I7:I29) -> 40 | J30: =SUM(J7:J29) -> 35 | K30: =SUM(K7:K29) -> 39 | L30: =SUM(L7:L29) -> 77 | M30: =SUM(M7:M29) -> 16

Sheet таб 17
A1: Таблиця 17
A2: КЛУБИ ТА ОБ’ЄДНАННЯ ЗА ІНТЕРЕСАМИ (розріз міська територіальна громада)
A3: (в абс. цифрах)
A4: № п/п | B4: Назва ТГ | C4: Всього | D4: В т. ч. | G4: В сільській місцевості
G5: Всього в сільській місцевості | H5: В т. ч.
D6: для дорослих | E6: для юнацтва | F6: для дітей | H6: для дорослих | I6: для юнацтва | J6: для дітей
A7: 1 | B7: 2 | C7: 3 | D7: 4 | E7: 5 | F7: 6 | G7: 7 | H7: 8 | I7: 9 | J7: 10
A8: 1 | B8: Барська | C8: 6 | D8: 3 | E8: 1 | F8: 2 | G8: 1 | H8: 1
A9: 2 | B9: Бершадська | C9: 16 | D9: 3 | E9: 1 | F9: 1 | G9: 11 | I9: 3 | J9: 8
A10: 3 | B10: Вінницька | C10: 53 | D10: 14 | E10: 7 | F10: 32 | G10: 7 | H10: 1 | J10: 6
A11: 4 | B11: Гайсинська | C11: 13 | D11: 3 | E11: 2 | F11: 8 | G11: 9 | H11: 2 | I11: 1 | J11: 6
A12: 5 | B12: Гніванська | C12: 6 | D12: 1 | E12: 1 | F12: 4 | G12: 4 | H12: 1 | J12: 3
A13: 6 | B13: Жмеринська | C13: 17 | D13: 3 | E13: 1 | F13: 13 | G13: 13 | H13: 2 | J13: 11
A14: 7 | B14: Іллінецька | C14: 6 | D14: 1 | E14: 1 | F14: 4 | G14: 3 | J14: 3
A15: 8 | B15: Калинівська | C15: 27 | D15: 3 | E15: 15 | F15: 9 | G15: 25 | H15: 2 | I15: 15 | J15: 8
A16: 9 | B16: Козятинська | C16: 3 | D16: 1 | E16: 2 | F16: 2 | G16: 2 | H16: 1 | I16: 1 | J16: 1
A17: 10 | B17: Ладижинська | C17: 3 | D17: 1 | F17: 2 | G17: 2 | H17: 1 | J17: 1
A18: 11 | B18: Липовецька | C18: 5 | D18: 2 | E18: 1 | F18: 2 | G18: 1 | H18: 1
A19: 12 | B19: Могилів-Подільська | C19: 1 | F19: 1
A20: 13 | B20: Немирівська | C20: 8 | D20: 2 | F20: 6 | G20: 7 | H20: 2 | J20: 5
A21: 14 | B21: Погребищенська | C21: 3 | D21: 3
A22: 15 | B22: Тульчинська | C22: 15 | D22: 8 | F22: 7 | G22: 10 | H22: 4 | J22: 6
A23: 16 | B23: Хмільницька | C23: 26 | D23: 2 | E23: 3 | F23: 2 | G23: 19 | H23: 4 | I23: 7 | J23: 8
A24: 17 | B24: Шаргородська | C24: 21 | D24: 7 | E24: 4 | F24: 10 | G24: 17 | H24: 5 | I24: 2 | J24: 9
A25: 18 | B25: Ямпільська | C25: 20 | D25: 5 | E25: 5 | F25: 10 | G25: 16 | H25: 4 | I25: 4 | J25: 8
B26: Всього | C26: =SUM(C8:C25) -> 249 | D26: =SUM(D8:D25) -> 62 | E26: =SUM(E8:E25) -> 44 | F26: =SUM(F8:F25) -> 115 | G26: =SUM(G8:G25) -> 147 | H26: =SUM(H8:H25) -> 31 | I26: =SUM(I8:I25) -> 33 | J26: =SUM(J8:J25) -> 83
A27: 19 | B27: ВОУНБ ім В. Отамановського | C27: ='[1]таб 17'!C27 -> 14 | D27: ='[1]таб 17'!D27 -> 14
A28: 20 | B28: ВОБДіЮ ім. І. Франка
B29: Всього | C29: =SUM(C26:C28) -> 263 | D29: =SUM(D26:D28) -> 76 | E29: 44 | F29: 115 | G29: 147 | H29: 31 | I29: 33 | J29: 83

Sheet таб 17а
A1: Таблиця 17
A2: КЛУБИ ТА ОБ’ЄДНАННЯ ЗА ІНТЕРЕСАМИ (розріз селищна територіальна громада)
A3: (в абс. цифрах)
A4: № п/п | B4: Назва ТГ | C4: Всього | D4: В т. ч.
D6: для дорослих | E6: для юнацтва | F6: для дітей
A7: 1 | B7: 2 | C7: 3 | D7: 4 | E7: 5 | F7: 6
A8: 1 | B8: Брацлавська | C8: 4 | D8: 1 | E8: 1 | F8: 2
A9: 2 | B9: Вапнярська
A10: 3 | B10: Вендичанська | C10: 10 | D10: 4 | E10: 1 | F10: 6
A11: 4 | B11: Вороновицька | C11: 5 | D11: 1 | E11: 1 | F11: 3
A12: 5 | B12: Глуховецька
A13: 6 | B13: Дашівська | C13: 3 | D13: 3
A14: 7 | B14: Копайгородська
A15: 8 | B15: Крижопільська | C15: 27 | D15: 10 | E15: 3 | F15: 14
A16: 9 | B16: Літинська | C16: 13 | D16: 1 | E16: 2 | F16: 10
A17: 10 | B17: Мурованокуриловецька | C17: 22 | D17: 3 | E17: 6 | F17: 13
A18: 11 | B18: Оратівська | C18: 1 | D18: 1
A19: 12 | B19: Піщанська | C19: 9 | D19: 2 | E19: 4 | F19: 3
A20: 13 | B20: Стрижавська
A21: 14 | B21: Сутисківська | C21: 2 | D21: 1 | F21: 1
A22: 15 | B22: Теплицька | C22: 10 | D22: 5 | E22: 1 | F22: 4
A23: 16 | B23: Тиврівська | C23: 6 | D23: 2 | E23: 1 | F23: 3
A24: 17 | B24: Томашпільська | C24: 7 | D24: 6 | E24: 1
A25: 18 | B25: Тростянецька | C25: 7 | D25: 6 | F25: 1
A26: 19 | B26: Турбівська
A27: 20 | B27: Чернівецька | C27: 8 | D27: 4 | E27: 2 | F27: 2
A28: 21 | B28: Чечельницька | C28: 8 | D28: 5 | E28: 1 | F28: 2
A29: 22 | B29: Шпиківська | C29: 8 | D29: 5 | F29: 3
B30: Всього | C30: =SUM(C8:C29) -> 150 | D30: =SUM(D8:D29) -> 60 | E30: =SUM(E8:E29) -> 24 | F30: =SUM(F8:F29) -> 67

Sheet таб 17б
A1: Таблиця 17
A2: КЛУБИ ТА ОБ’ЄДНАННЯ ЗА ІНТЕРЕСАМИ (розріз сільська територіальна громада)
A3: (в абс. цифрах)
A4: № п/п | B4: Назва ТГ | C4: Всього | D4: В т. ч.
D6: для дорослих | E6: для юнацтва | F6: для дітей
A7: 1 | B7: 2 | C7: 3 | D7: 4 | E7: 5 | F7: 6
A8: 1 | B8: Агрономічна
A9: 2 | B9: Бабчинецька | C9: 9 | D9: 8 | F9: 1
A10: 3 | B10: Війтівецька
A11: 4 | B11: Городківська | C11: 8 | D11: 1 | F11: 7
A12: 5 | B12: Джулинська | C12: 21 | D12: 3 | E12: 2 | F12: 16
A13: 6 | B13: Джуринська | C13: 7 | D13: 6 | F13: 1
A14: 7 | B14: Іванівська
A15: 8 | B15: Краснопільська | C15: 4 | D15: 1 | E15: 1 | F15: 2
A16: 9 | B16: Кунківська
A17: 10 | B17: Лука-Мелешківська | C17: 4 | D17: 2 | F17: 2
A18: 11 | B18: Махнівська | C18: 4 | E18: 2 | F18: 2
A19: 12 | B19: Мурафська | C19: 7 | D19: 2 | E19: 1 | F19: 4
A20: 13 | B20: Ободівська | C20: 1 | D20: 1
A21: 14 | B21: Ольгопільська
A22: 15 | B22: Райгородська | C22: 1 | D22: 1
A23: 16 | B23: Самгородоцька
A24: 17 | B24: Северинівська | C24: 4 | D24: 1 | E24: 2 | F24: 1
A25: 18 | B25: Соболівська
A26: 19 | B26: Станіславчицька
A27: 20 | B27: Студенянська
A28: 21 | B28: Уланівська
A29: 22 | B29: Якушинецька | C29: 1 | F29: 1
A30: 23 | B30: Яришівська
B31: Всього | C31: =SUM(C9:C30) -> 71 | D31: =SUM(D9:D30) -> 26 | E31: =SUM(E9:E30) -> 8 | F31: =SUM(F9:F30) -> 37

Sheet таб 18
A1: Таблиця 18
A2: ФІНАНСУВАННЯ БІБЛІОТЕК ЗА СТАТТЯМИ ВИДАТКІВ - згідно форми 6-НК розділ VIII
A4: (розріз міська територіальна громада)
A5: № п/п | B5: Назва ТГ | C5: Обсяг поточних видатків усього | D5: загального фонду відповідного бюджету | E5: з них | I5: власних надходжень та інших джерел, не заборонених законодавством | J5: з них:
E6: оплата праці | F6: оплата послуг (крім комунальних) | G6: оплата послуг з поточного ремонту будівель, приміщень, споруд | H6: оплата комунальних послуг та енергоносіїв | J6: оплата праці | K6: оплата послуг (крім комунальних) | L6: оплата послуг з поточного ремонту будівель, приміщень, споруд | M6: оплата комунальних послуг та енергоносіїв
A8: 1 | B8: 2 | C8: 3 | D8: 4 | E8: 5 | F8: 6 | G8: 7 | H8: 8 | I8: 9 | J8: 10 | K8: 11 | L8: 12 | M8: 13
A9: 1 | B9: Барська | C9: 4292000 | D9: 4275800 | E9: 2971000 | F9: 59600 | G9: 627600 | H9: 407600 | I9: 16200 | K9: 15600
A10: 2 | B10: Бершадська | C10: 5378000 | D10: 5366400 | E10: 4070300 | F10: 168700 | H10: 172900 | I10: 11600
A11: 3 | B11: Вінницька | C11: 23281180 | D11: 23002640 | E11: 17721510 | F11: 1581305 | H11: 2919450 | I11: 278540 | K11: 39310 | M11: 180
A12: 4 | B12: Гайсинська | C12: 6067300 | D12: 6067300 | E12: 4316600 | F12: 180700 | G12: 37300 | H12: 392800
A13: 5 | B13: Гніванська | C13: 2437073 | D13: 2416772 | E13: 2036687 | F13: 93860 | H13: 210134 | I13: 20301
A14: 6 | B14: Жмеринська | C14: 4403943 | D14: 4375002 | E14: 3540469 | F14: 181351 | G14: 10786 | H14: 207339 | K14: 5032
A15: 7 | B15: Іллінецька | C15: 3266060 | D15: 3266060 | E15: 2283246 | F15: 47814 | G15: 199084 | H15: 193936
A16: 8 | B16: Калинівська | C16: 5817690 | D16: 5817690 | E16: 5603723 | F16: 64787
A17: 9 | B17: Козятинська | C17: 2054300 | D17: 2054300 | E17: 1348200 | F17: 31600 | H17: 218000
A18: 10 | B18: Ладижинська | C18: 1691200 | D18: 1691200 | E18: 1489200 | F18: 35200 | H18: 77400
A19: 51 | B19: Липовецька | C19: 3922100 | D19: 3922100 | E19: 3791500 | F19: 15700 | H19: 57700
A20: 12 | B20: Могилів-Подільська | C20: 2446013 | D20: 2415324 | E20: 2069445.9 | F20: 57572.7 | G20: 67400 | H20: 163995.66 | I20: 30689.85 | K20: 4000 | M20: 8616
